Workbook

Sheet TOTAL
A1: Anzahl bekannte Ae 3/5, Ae 3/6 und 4/7 in Spur H0 | G1: =TODAY() -> 46067
B3: Total | D3: Original | E3: Custom painted
A5: Fleischmann | B5: =Fleischmann!C24 -> 15
A6: HAG | B6: =HAG!D119 -> 105 | D6: =HAG!E121 -> 98 | E6: =HAG!E122 -> 7
A7: Lima | B7: =Lima!C10 -> 3
A8: Märklin | B8: =Märklin!C33 -> 21 | D8: =Märklin!D36 -> 20 | E8: =Märklin!D37 -> 1
A9: Messing | B9: =Messing!C48 -> 37
A10: PIKO | B10: =PIKO!C20 -> 14
A11: Rivarossi | B11: =Rivarossi!C14 -> 6
A12: Roco | B12: =ROCO!C29 -> 21
A13: Trix | B13: =Trix!C13 -> 5
A14: Andere | B14: =Andere!C47 -> 31
A16: TOTAL | B16: =SUM(B4:B15) -> 258
A19: Auflistungen sind nach bestem Wissen und Gewissen erstellt. Falls Fehler gefunden werden, bitte melden: | H19: Mail an Roland Hausin
A21: © 2026 Roland Hausin
A24: Typen | B24: Ae 3/5
B25: Ae 3/6 I
B26: Ae 3/6 II
B27: Ae 3/6 III
B28: Ae 4/7

Sheet Fleischmann
A1: Fleischmann Ae 3/6 und 4/7 | G1: =TODAY() -> 46067
A3: Hersteller | B3: Art.Nr.1 | C3: Typ | D3: Betriebsnr. | E3: Farbe | F3: AC/DC | G3: Decoder | H3: Bemerkungen
A6: Fleischmann | B6: 1145 | C6: Ae 3/6 I | D6: 10675 | E6: braun | F6: DC
A7: Fleischmann | B7: 1145 | C7: Ae 3/6 I | D7: 10647 | E7: grün | F7: AC | H7: 1-motorig
A8: Fleischmann | B8: 1337 | C8: Ae 3/6 I | D8: 10702 | E8: grün | F8: AC
A9: Fleischmann | B9: 4337 | C9: Ae 3/6 I | D9: 10702 | E9: grün | F9: DC | G9: digital
A10: Fleischmann | B10: 4345 | C10: Ae 3/6 I | D10: 10647 | E10: grün | F10: DC
A11: Fleischmann | B11: 4345 | C11: Ae 3/6 I | D11: 10682 | E11: grün | F11: DC | H11: Umbau auf Typ Sécheron
A12: Fleischmann | B12: 4345 | C12: Ae 3/6 I | D12: 10638 | E12: braun | F12: AC
A13: Fleischmann | B13: 394402 | C13: Ae 3/6 I | D13: 10700 | E13: braun | F13: AC | G13: digital
A14: Fleischmann | B14: 394502 | C14: Ae 3/6 I | D14: 10700 | E14: braun | F14: AC | G14: digital
A15: Fleischmann | B15: 434501 | C15: Ae 3/6 I | D15: 10704 | E15: grün | F15: DC | G15: digital
A16: Fleischmann | B16: 434504 | C16: Ae 3/6 I | D16: 10700 | E16: braun | F16: DC | G16: digital
A17: Fleischmann | B17: 64345 | C17: Ae 3/6 I | D17: 10666 | E17: grün | F17: DC
A18: Fleischmann | B18: 64345.1 | C18: Ae 3/6 I | D18: 10647 | E18: grün | F18: DC
A19: Fleischmann | B19: 824345 | C19: Ae 3/6 I | D19: 10700 | E19: braun | F19: DC
A20: Fleischmann | C20: Ae 3/6 I | D20: 10654 | E20: braun | F20: AC
B24: ANZAHL: | C24: =COUNTA(C4:C23) -> 15
B27: = verifiziert
A29: Auflistungen sind nach bestem Wissen und Gewissen erstellt. Falls Fehler gefunden werden, bitte melden: | H29: Mail an Roland Hausin
A31: =TOTAL!A21 -> © 2026 Roland Hausin

Sheet HAG
A1: HAG Ae 3/6 und 4/7 H0 | J1: =TODAY() -> 46067
A3: Hersteller | B3: Art.Nr.1 | C3: Art.Nr.2 | D3: Typ | E3: Betriebsnr. | F3: Farbe | G3: AC/DC | H3: Decoder | I3: Motor | J3: Bemerkungen | K3: Bemerkungen 2
A5: HAG | B5: 32.01 | C5: 25002 | D5: Ae 4/7 | E5: 10912 | F5: grün | G5: AC | J5: Zugpackung
A6: HAG | B6: 40.01 | C6: 13004 | D6: Ae 4/7 | E6: 10976 | F6: grün | G6: AC
A7: HAG | B7: 40.02 | D7: Ae 4/7 | E7: 10976 | F7: grün | G7: AC | J7: Design-Studie, x/2
A8: HAG | B8: 132.05 | C8: 13005 | D8: Ae 4/7 | E8: 10944 | F8: grün | G8: AC | J8: Sécheron, x/250
A9: HAG | B9: 133.06 | D9: Ae 4/7 | E9: 10944 | F9: grün | G9: DC | J9: Sécheron, 7 Düsengitter, gealtert
A10: HAG | B10: 134.02 | C10: 13006 | D10: Ae 4/7 | E10: 10951 | F10: grün | G10: AC | J10: Sécheron, 5 Düsengitter, x/250
A11: HAG | B11: 136.02 | D11: Ae 4/7 | E11: 10945 | F11: grün | G11: AC | H11: LoPi 2.0 | I11: 88DC | J11: Doppeltraktion mit 2 Sécheron-Loks, je 1 Panto. Ausgeliefert März 2006, Lok Nr. 10945 mit fünf und Lok Nr. 11010 mit sieben Lüftungsgittern, Auflage ca. 200 Stück
A12: HAG | B12: 136.02 | D12: Ae 4/7 | E12: 11010 | F12: grün | G12: AC | H12: LoPi 2.0 | I12: 88DC | J12: Doppeltraktion mit 2 Sécheron-Loks, je 1 Panto. Ausgeliefert März 2006, Lok Nr. 10945 mit fünf und Lok Nr. 11010 mit sieben Lüftungsgittern, Auflage ca. 200 Stück
A13: HAG | B13: 136.03 | C13: 36016 | D13: Ae 4/7 | E13: 11010 | F13: grün | G13: AC | H13: LoPi 2.0 | I13: 88DC | J13: Doppeltraktion mit 2 Sécheron-Loks, je 1 ESA, Lok Nr. 10946 vorbildwidrig mit fünf und Lok Nr. 11010 korrekt mit sieben Lüftungsgittern, beide mit Einholmstromabnehmern gemäss einem Vorbildversuch, Rarität!
A14: HAG | B14: 138.03 | C14: 13001 | D14: Ae 4/7 | E14: 10905 | F14: grün | G14: AC
A15: HAG | B15: 138.04 | D15: Ae 4/7 | E15: 10905 | F15: grün/braun | G15: AC | J15: Prototyp, x/1
A16: HAG | B16: 138.05 | C16: 13002 | D16: Ae 4/7 | E16: 11007 | F16: grün | G16: AC | H16: 501-20 | I16: 88DC
A17: HAG | B17: 138.06 | D17: Ae 4/7 | E17: 11026 | F17: grün | G17: AC | J17: Sondermodell HAG-Reisen, x/150
A18: HAG | B18: 138.07 | C18: 13003 | D18: Ae 4/7 | E18: 11026 | F18: grün | G18: AC
A19: HAG | B19: 138.08 | D19: Ae 4/7 | E19: 10922 | F19: grün | G19: AC
A20: HAG | B20: 138.09 | C20: 13009 | D20: Ae 4/7 | E20: 11018 | F20: grün | G20: AC | J20: SBB/MThB, x/30
A21: HAG | B21: 138.1 | C21: 13010 | D21: Ae 4/7 | E21: 11977 | F21: gelb/grün | G21: AC | J21: Heizerlok
A22: HAG | B22: 138.11 | C22: 13015 | D22: Ae 4/7 | E22: 10915 | F22: grün | G22: AC
A23: HAG | B23: 138.12 | D23: Ae 4/7 | E23: 10905 | F23: braun | G23: AC | J23: Kleinserie
A24: HAG | B24: 138.13 | D24: Ae 4/7 | E24: 10976 | F24: weinrot | G24: AC | J24: Prototyp, x/1
A25: HAG | B25: 138.14 | D25: Ae 4/7 | E25: 10976 | F25: alt-grün | G25: AC | J25: Prototyp, x/1
A26: HAG | B26: 138.9 | D26: Ae 4/7 | F26: rot/grün | G26: AC | J26: Prototyp, x/1
A27: HAG | B27: 138.91 | D27: Ae 4/7 | F27: gelb/blau | G27: AC | J27: Prototyp, x/1
A28: HAG | B28: 140.01 | D28: Ae 4/7 | E28: 10901 | F28: grün | G28: AC | I28: LFCM
A29: HAG | B29: 140.02 | D29: Ae 4/7 | E29: 10901 | F29: grün | G29: AC | I29: LFCM
A30: HAG | B30: 140.03 | D30: Ae 4/7 | E30: 10901 | F30: grün | G30: AC | I30: LFCM
A31: HAG | B31: 140.04 | D31: Ae 4/7 | E31: 10901 | F31: grün | G31: AC | I31: LFCM
A32: HAG | B32: 140.05 | D32: Ae 4/7 | E32: 10901 | F32: grün | G32: AC | I32: LFCM | J32: geschwärzt
A33: HAG | B33: 140.08 | D33: Ae 4/7 | E33: 10932 | F33: grün | G33: AC | I33: LFCM
A34: HAG | C34: 13011 | D34: Ae 4/7 | E34: 10912 | F34: grün | G34: AC | J34: Einzellok aus 25002
A35: HAG | C35: 13100 | D35: Ae 4/7 | E35: 10932 | F35: blau | G35: AC | J35: Farbtest, x/1
A36: HAG | C36: 13100 | D36: Ae 4/7 | E36: 10983 | F36: silber | G36: AC | J36: Farbtest, x/1
A37: HAG | C37: 13100 | D37: Ae 4/7 | E37: 10983 | F37: schwarz | G37: AC | J37: Farbtest, x/1
A39: HAG/FRIHO | B39: 140 | C39: 2150 | D39: Ae 4/7 | E39: 10901 | F39: grün | G39: DC | K39: https://trains.wipertech.ch/Document/ShowDocument/233
A40: HAG/FRIHO | B40: 140 | C40: 2151 | D40: Ae 4/7 | E40: 10901 | F40: grün | G40: AC
A41: HAG/FRIHO | B41: 140 | C41: 2153 | D41: Ae 4/7 | E41: 10904 | F41: grün | G41: AC
A42: HAG/FRIHO | B42: 140 | C42: 2151 | D42: Ae 4/7 | E42: 10901 | F42: grün | G42: AC
A43: HAG/FRIHO | B43: 140 | C43: 2152 | D43: Ae 4/7 | E43: 10904 | F43: grün | G43: DC
...

Sheet Lima
A1: Ae 3/6 und 4/7 Lima H0 | G1: =TODAY() -> 46067
A3: Hersteller | B3: Art.Nr.1 | C3: Typ | D3: Farbe | E3: Betriebsnr. | F3: AC/DC | G3: Decoder | H3: Bemerkungen
A5: Lima | B5: 4750 | C5: Ae 3/6 I | D5: grün | E5: 10683 | F5: DC
A6: Lima | B6: 208117 | C6: Ae 3/6 I | D6: grün | E6: 10683 | F6: DC
A7: Lima | B7: 208118 | C7: Ae 3/6 I | D7: braun | E7: 10698 | F7: DC
B10: ANZAHL: | C10: =COUNTA(C4:C9) -> 3
B13: = verifiziert
A15: Auflistungen sind nach bestem Wissen und Gewissen erstellt. Falls Fehler gefunden werden, bitte melden: | G15: Mail an Roland Hausin
A17: =TOTAL!A21 -> © 2026 Roland Hausin

Sheet Märklin
A1: Märklin Ae 3/6 und 4/7 H0 | H1: =TODAY() -> 46067
A3: Hersteller | B3: Art.Nr.1 | C3: Typ | D3: Betriebsnr. | E3: Farbe | F3: AC/DC | G3: Decoder | H3: Bemerkungen | I3: Bemerkungen 2
A5: Märklin | B5: 3151 | C5: Ae 3/6 II | D5: 10460 | E5: braun | F5: AC
A6: Märklin | B6: 3151.02 | C6: Ae 3/6 II | D6: 10460 | E6: hellbraun | F6: AC
A7: Märklin | B7: 3167 | C7: Ae 3/6 II | D7: 10432 | E7: grün | F7: AC
A8: Märklin | B8: 3169 | C8: Ae 3/6 II | D8: 10453 | E8: grün | F8: AC
A9: Märklin | B9: 3351.1 | C9: Ae 3/6 II | D9: 10439 | E9: braun | F9: AC
A10: Märklin | B10: 3351.2 | C10: Ae 3/6 II | D10: 10438 | E10: braun | F10: AC
A11: Märklin | B11: 29510 | C11: Ae 3/6 II | D11: 10477 | E11: grün | F11: AC
A12: Märklin | B12: 29516 | C12: Ae 3/6 II | D12: 10406 | E12: grün | F12: AC | G12: Startset
A13: Märklin | B13: 29517 | C13: Ae 3/6 II | D13: 10406 | E13: grün | F13: AC | G13: Startset
A14: Märklin | B14: 37510 | C14: Ae 3/6 II | D14: 10426 | E14: braun | F14: AC
A15: Märklin | B15: 37512.01 | C15: Ae 3/6 II | D15: 10421 | E15: braun | F15: AC
A16: Märklin | B16: 37512.02 | C16: Ae 3/6 II | D16: 10456 | E16: grün | F16: AC
A17: Märklin | B17: 37513 | C17: Ae 3/6 II | D17: 10452 | E17: braun | F17: AC
A18: Märklin | B18: 37514 | C18: Ae 3/6 II | D18: 10443 | E18: grün | F18: AC
A19: Märklin | B19: 37515 | C19: Ae 3/6 II | D19: 10435 | E19: braun | F19: AC
A20: Märklin | B20: 38350 | C20: Ae 3/5 | D20: 10217 | E20: grün | F20: AC | G20: mfx+
A21: Märklin | B21: 39360 | C21: Ae 3/6 I | D21: 10703 | E21: grün | F21: AC | G21: mfx+
A22: Märklin | B22: 39362 | C22: Ae 3/6 I | D22: 10703 | E22: grün | F22: AC | G22: mfx+ | H22: gealtert
A24: Märklin/HAMO | C24: Ae 3/6 II | D24: 10435 | E24: grün | F24: DC
A25: Märklin/HAMO | C25: Ae 3/6 II | D25: 10435 | E25: hellbraun | F25: DC
A28: Custom painted
A30: Märklin/ozo | C30: Ae 3/6 | D30: 10432 | E30: blau
B33: TOTAL: | C33: =COUNTA(C4:C32) -> 21
B36: original | D36: =COUNTA(C4:C27) -> 20
B37: custom painted | D37: =COUNTA(C28:C32) -> 1
A41: Auflistungen sind nach bestem Wissen und Gewissen erstellt. Falls Fehler gefunden werden, bitte melden: | G41: Mail an Roland Hausin
A43: =TOTAL!A21 -> © 2026 Roland Hausin

Sheet Messing
A1: Messing Ae 3/5, 3/6 und 4/7 H0 | G1: =TODAY() -> 46067
A3: Hersteller | B3: Art.Nr.1 | C3: Typ | D3: Betriebsnr. | E3: Farbe | F3: AC/DC | G3: Decoder | H3: Bemerkungen
A5: E.I.D. | C5: Ae 4/7 | E5: grün | F5: DC | H5: limitierte Serien | I5: Bausatz und Fertigmodell
A7: Fulgurex | B7: 2029 | C7: Ae 3/5 | D7: 10210 | E7: grün | F7: DC
A8: Fulgurex | B8: 2017 | C8: Ae 3/6 II | D8: 10431 | E8: grün | F8: DC
A9: Fulgurex | C9: Ae 3/6 II | D9: 10432 | E9: grün | F9: DC
A10: Fulgurex | B10: 2036 | C10: Ae 3/6 III | D10: 10262 | E10: grün | F10: DC | H10: Sécheron
A11: Fulgurex | B11: 2006 | C11: Ae 4/7 | D11: 10902 | E11: grün | F11: DC
A12: Fulgurex | B12: 2006 | C12: Ae 4/7 | D12: 10957 | E12: grün | F12: DC
A14: Lemaco | B14: H0-006 | C14: Ae 3/6 I | D14: 10696 | E14: grün | F14: DC | I14: https://www.lemacoprestigemodels.ch/de/modelle-spur-h0.html
A15: Lemaco | B15: H0-006/1 | C15: Ae 3/6 I | D15: 10700 | E15: braun | F15: DC
A16: Lemaco | B16: H0-006/1 | C16: Ae 3/6 I | D16: 10700 | E16: braun | F16: DC
A17: Lemaco | B17: H0-041/A | C17: Ae 4/7 | D17: 10955 | E17: grün | F17: DC
A18: Lemaco | B18: H0-041/B | C18: Ae 4/7 | D18: 10998 | E18: grün | F18: DC
A19: Lemaco | B19: H0-096 | C19: Ae 3/6 II | D19: 10439 | E19: braun | F19: DC | H19: 4-türig
A20: Lemaco | B20: H0-096/1 | C20: Ae 3/6 II | D20: 10406 | E20: grün | F20: DC | H20: 2-türig
A21: Lemaco | B21: H0-096/A | C21: Ae 3/6 II | D21: 10401 | E21: braun | F21: DC
A23: Metropolitan | B23: 1060 | C23: Ae 3/5 | D23: 10060 | E23: grün | F23: DC
A24: Metropolitan | B24: 520 | C24: Ae 3/6 I | D24: 10660 | E24: grün | F24: DC
A25: Metropolitan | B25: 520 | C25: Ae 3/6 I | D25: 10665 | E25: grün | F25: DC
A26: Metropolitan | B26: 520 | C26: Ae 3/6 I | D26: 10667 | E26: grün | F26: DC
A27: Metropolitan | B27: 520 | C27: Ae 3/6 I | D27: 10663 | E27: grün | F27: DC
A28: Metropolitan | B28: 520 | C28: Ae 3/6 I | D28: 10677 | E28: braun | F28: DC
A29: Metropolitan | B29: 710 | C29: Ae 3/6 I | D29: 10667 | E29: braun | F29: DC
A30: Metropolitan | B30: 711 | C30: Ae 3/6 I | D30: 10667 | E30: braun | F30: DC
A31: Metropolitan | B31: 713 | C31: Ae 3/6 II | D31: 10409 | E31: grün | F31: DC
A32: Metropolitan | B32: 713 | C32: Ae 3/6 II | D32: 10439 | E32: grün | F32: DC
A33: Metropolitan | B33: 713b | C33: Ae 3/6 II | D33: 10439 | E33: braun | F33: DC
A34: Metropolitan | B34: 720 | C34: Ae 3/6 I | D34: 10667 | E34: grün | F34: DC
A35: Metropolitan | B35: 721 | C35: Ae 3/6 I | D35: 10680 | E35: grün | F35: DC
A36: Metropolitan | B36: 722 | C36: Ae 3/6 I | D36: 10655 | E36: braun | F36: DC
A37: Metropolitan | B37: 723 | C37: Ae 3/6 I | D37: 10712 | E37: grün | F37: DC
A38: Metropolitan | B38: 727 | C38: Ae 3/6 III | D38: 10262 | E38: braun | F38: DC
A39: Metropolitan | B39: 727 | C39: Ae 3/6 I | D39: 10660 | E39: grün | F39: DC
A40: Metropolitan | B40: 711 | C40: Ae 4/7 | D40: 10942 | E40: grün | F40: DC
A41: Metropolitan | B41: 711 | C41: Ae 4/7 | D41: 10943 | E41: grün | F41: DC
A42: Metropolitan | B42: 711 | C42: Ae 4/7 | D42: 11009 | E42: grün | F42: DC
A44: Morep/mtr | B44: 17G | C44: Ae 3/6 III | D44: 10264 | E44: braun | F44: DC
A45: Morep/mtr | C45: Ae 4/7 | D45: 10973 | E45: grün | F45: DC
B48: TOTAL: | C48: =COUNTA(C4:C47) -> 37
...

Sheet PIKO
A1: PIKO Ae 3/6 und 4/7 H0 | G1: =TODAY() -> 46067
A3: Hersteller | B3: Art.Nr.1 | C3: Typ | D3: Farbe | E3: Betriebsnr. | F3: AC/DC | G3: Decoder | H3: Bemerkungen
A5: PIKO | B5: 51780 | C5: Ae 4/7 | D5: grün | E5: 10990 | F5: AC
A6: PIKO | B6: 51781 | C6: Ae 4/7 | D6: grün | E6: 10990 | F6: AC
A7: PIKO | B7: 51782 | C7: Ae 4/7 | D7: grün | E7: 10913 | F7: DC
A8: PIKO | B8: 51783 | C8: Ae 4/7 | D8: grün | E8: 10913 | F8: AC
A9: PIKO | B9: 51784 | C9: Ae 4/7 | D9: grün | E9: 10913 | F9: DCC | G9: Sound
A10: PIKO | B10: 51785 | C10: Ae 4/7 | D10: grün | E10: 10913 | F10: AC | G10: Sound
A11: PIKO | B11: 51785 | C11: Ae 4/7 | D11: grün | E11: 10961 | F11: AC | G11: digital
A12: PIKO | B12: 51786 | C12: Ae 4/7 | D12: grün | F12: DC | H12: MFO
A13: PIKO | B13: 51787 | C13: Ae 4/7 | D13: grün | F13: DC | G13: Sound | H13: MFO
A14: PIKO | B14: 51788 | C14: Ae 4/7 | D14: grün | E14: 10998 | F14: AC | G14: Sound
A15: PIKO | B15: 97782 | C15: Ae 4/7 | D15: grün | E15: 10939 | F15: DC | H15: SAAS, Doppelpack
A16: PIKO | B16: 97782 | C16: Ae 4/7 | D16: grün | E16: 11009 | F16: DC | H16: SAAS, Doppelpack
A17: PIKO | B17: 97785 | C17: Ae 4/7 | D17: grün | E17: 10939 | F17: AC | G17: Sound | H17: SAAS, Doppelpack
A18: PIKO | B18: 97785 | C18: Ae 4/7 | D18: grün | E18: 11009 | F18: AC | G18: Sound | H18: SAAS, Doppelpack
B20: TOTAL: | C20: =COUNTA(C4:C19) -> 14
A26: Auflistungen sind nach bestem Wissen und Gewissen erstellt. Falls Fehler gefunden werden, bitte melden: | G26: Mail an Roland Hausin
A28: =TOTAL!A21 -> © 2026 Roland Hausin

Sheet Rivarossi
A1: Rivarossi Ae 3/5, 3/6 und 4/7 (Spur H0) | G1: =TODAY() -> 46067
A3: Hersteller | B3: Art.Nr.1 | C3: Typ | D3: Farbe | E3: Betriebsnr. | F3: AC/DC | G3: Decoder | H3: Bemerkungen
A6: Rivarossi | B6: R1618 | C6: Ae 3/6 III | D6: grün | E6: 10266 | F6: DC
A7: Rivarossi | B7: R1618AC | C7: Ae 3/6 III | D7: grün | E7: 10266 | F7: AC
A8: Rivarossi | B8: R1619 | C8: Ae 3/6 III | D8: braun | E8: 10264 | F8: DC
A9: Rivarossi | B9: R1620 | C9: Ae 3/6 III | D9: grün | E9: 10266 | F9: DC
A10: Rivarossi | B10: R1620AC | C10: Ae 3/6 III | D10: grün | E10: 10266 | F10: AC
A11: Rivarossi | C11: Ae 3/5 | D11: grün | E11: 10217 | F11: DC
B14: ANZAHL: | C14: =COUNTA(C4:C13) -> 6
B17: = verifiziert
A19: Auflistungen sind nach bestem Wissen und Gewissen erstellt. Falls Fehler gefunden werden, bitte melden: | H19: Mail an Roland Hausin
A21: =TOTAL!A21 -> © 2026 Roland Hausin

Sheet ROCO
A1: Roco Ae 3/6 und 4/7 H0 | G1: =TODAY() -> 46067
A3: Hersteller | B3: Art.Nr.1 | C3: Typ | D3: Betriebsnr. | E3: Farbe | F3: AC/DC | G3: Decoder | H3: Bemerkungen
A5: Roco | B5: 41305 | C5: Ae 3/6 II | D5: 10408 | E5: braun | F5: DCC | G5: digital | H5: Startset
A6: Roco | B6: 62400 | C6: Ae 3/6 II | D6: 10439 | E6: braun | F6: DC
A7: Roco | B7: 62401 | C7: Ae 3/6 II | D7: 10453 | E7: grün | F7: DC | G7: digital
A8: Roco | B8: 62402 | C8: Ae 3/6 II | D8: 10403 | E8: grün | F8: DC
A9: Roco | B9: 68400 | C9: Ae 3/6 II | D9: 10439 | E9: braun | F9: AC | G9: digital
A10: Roco | B10: 68401 | C10: Ae 3/6 II | D10: 10453 | E10: grün | F10: AC | G10: digital
A11: Roco | B11: 70087 | C11: Ae 3/6 I | D11: 10639 | E11: grün | F11: DC
A12: Roco | B12: 70088 | C12: Ae 3/6 I | D12: 10639 | E12: grün | F12: DCC | G12: Sound
A13: Roco | B13: 70089 | C13: Ae 3/6 I | D13: 10700 | E13: braun | F13: DC
A14: Roco | B14: 70090 | C14: Ae 3/6 I | D14: 10700 | E14: braun | F14: DCC | G14: Sound
A15: Roco | B15: 70091 | C15: Ae 3/6 I | D15: 10664 | E15: grün | F15: DC
A16: Roco | B16: 70092 | C16: Ae 3/6 I | D16: 10664 | E16: grün | F16: DCC | G16: Sound
A17: Roco | B17: 72292 | C17: Ae 3/6 II | D17: 10412 | E17: braun | F17: DC
A18: Roco | B18: 72293 | C18: Ae 3/6 II | D18: 10412 | E18: braun | F18: DCC | G18: Sound
A19: Roco | B19: 78087 | C19: Ae 3/6 I | D19: 10639 | E19: grün | F19: AC | G19: Sound
A20: Roco | B20: 78088 | C20: Ae 3/6 I | D20: 10639 | E20: braun | F20: AC | G20: Sound
A21: Roco | B21: 78090 | C21: Ae 3/6 I | D21: 10700 | E21: braun | F21: AC | G21: Sound
A22: Roco | B22: 78092 | C22: Ae 3/6 I | D22: 10664 | E22: grün | F22: AC | G22: Sound
A23: Roco | B23: 78089 | C23: Ae 3/6 I | D23: 10700 | E23: braun | F23: AC | G23: Sound
A24: Roco | B24: 78091 | C24: Ae 3/6 I | D24: 10664 | E24: grün | F24: AC | G24: Sound
A25: Roco | B25: 78293 | C25: Ae 3/6 II | D25: 10412 | E25: braun | F25: AC | G25: Sound
B29: ANZAHL: | C29: =COUNTA(C4:C28) -> 21
A35: * = Betriebsnummern sind relativ, es wurden meistens mehrere Original-Loks umgemalt
A38: Auflistungen sind nach bestem Wissen und Gewissen erstellt. Falls Fehler gefunden werden, bitte melden: | H38: Mail an Roland Hausin
A40: =TOTAL!A21 -> © 2026 Roland Hausin

Sheet Trix
A1: Trix Ae 3/6 und 4/7 H0 | G1: =TODAY() -> 46067
A3: Hersteller | B3: Art.Nr.1 | C3: Typ | D3: Farbe | E3: Betriebsnr. | F3: AC/DC | G3: Decoder | H3: Bemerkungen
A5: Trix | B5: 22321 | C5: Ae 3/6 II | D5: braun | E5: 10426 | F5: DC
A6: Trix | B6: 22344-02 | C6: Ae 3/6 I | D6: grün | E6: 10456 | F6: DC | H6: Doppelpack
A7: Trix | B7: 22344-01 | C7: Ae 3/6 I | D7: braun | E7: 10421 | F7: DC | H7: Doppelpack
A8: Trix | B8: 25350 | C8: Ae 3/5 | D8: grün | E8: 10217 | F8: DC | G8: Sound
A9: Trix | B9: 25360 | C9: Ae 3/6 I | D9: grün | E9: 10703 | F9: DC | G9: Sound
B13: ANZAHL: | C13: =COUNTA(C4:C12) -> 5
A16: * = Betriebsnummern sind relativ, es wurden meistens mehrere Original-Loks umgemalt
B18: = verifiziert
A20: Auflistungen sind nach bestem Wissen und Gewissen erstellt. Falls Fehler gefunden werden, bitte melden: | H20: Mail an Roland Hausin
A22: =TOTAL!A21 -> © 2026 Roland Hausin

Sheet Andere
A1: Ae 3/5, 3/6 und 4/7 (Spur H0) andere Hersteller | G1: =TODAY() -> 46067
A3: Hersteller | B3: Art.Nr.1 | C3: Typ | D3: Farbe | E3: Betriebsnr. | F3: AC/DC | G3: Decoder | H3: Bemerkungen
A6: Buco | B6: 51/151 | C6: Ae 4/7 | D6: grün | E6: 10901 | F6: AC | H6: 1955-1957, einseitig rote Scheibern-Antriebsräder, 4 angetriebene Achsen
A7: Buco | C7: Ae 4/7 | D7: grün | E7: 10901 | F7: AC | H7: 1958 mit beidseitig roten Speichenrädern, 4 angetriebene Achsen
A9: Car | C9: Ae 4/7 | D9: grün | F9: AC | H9: 1945, erstes kommerzielles H0 Modell
A11: Jibby | C11: Ae 4/7 | D11: grün | F11: AC | H11: 2-motorig
A13: Liliput/FRIHO | B13: L2152 | C13: Ae 4/7 | D13: grün | E13: 10904 | F13: DC | H13: https://trains.wipertech.ch/Document/ShowDocument/191
A14: Liliput/FRIHO | B14: L2152/2 | C14: Ae 4/7 | D14: grün | E14: 10904 | F14: DC
A15: Liliput/FRIHO | B15: L2160 | C15: Ae 4/7 | D15: grün | E15: 10943 | F15: DC
A16: Liliput/FRIHO | B16: L2168 | C16: Ae 4/7 | D16: grün | E16: 10941 | F16: DC
A17: Liliput/FRIHO | B17: L2170 | C17: Ae 4/7 | D17: grün | E17: 11009 | F17: DC
A18: Liliput/FRIHO | B18: L2172 | C18: Ae 4/7 | D18: grün | E18: 10943 | F18: DC
A19: Liliput/FRIHO | B19: L2174 | C19: Ae 4/7 | D19: grün | E19: 11017 | F19: DC
A21: Liliput | B21: 4750 | C21: Ae 4/7 | D21: grün | E21: 10952 | F21: DC
A22: Liliput | B22: 4755 | C22: Ae 4/7 | D22: grün | E22: 10952 | F22: AC
A23: Liliput | B23: L114704 | C23: Ae 4/7 | D23: grün | E23: 10976 | F23: DC | H23: Doppelset mit 10997 (Dummy)
A24: Liliput | B24: L114704 | C24: Ae 4/7 | D24: grün | E24: 10997 | F24: DC | H24: Dummy aus Doppelset
A25: Liliput | B25: L114714 | C25: Ae 4/7 | D25: grün | E25: 11015 | F25: DC
A26: Liliput | B26: L114724 | C26: Ae 4/7 | D26: braun | E26: 10902 | F26: DC
A27: Liliput | B27: 320016 | C27: Ae 4/7 | D27: grün | E27: 11952 | F27: DC
A28: Liliput | B28: 320115 | C28: Ae 4/7 | D28: grün | E28: 10907 | F28: DC
A29: Liliput | B29: 320122 | C29: Ae 4/7 | D29: grün | E29: 10907 | F29: AC
A30: Liliput | B30: 714703 | C30: Ae 4/7 | D30: grün | E30: 10907 | F30: DC
A31: Liliput | B31: 714701 | C31: Ae 4/7 | D31: grün | E31: 10952 | F31: DC
A33: Loki Spengler | B33: 7401 | C33: Ae 3/6 I | D33: braun | E33: 10637 | F33: AC
A35: Roxy | B35: 10080 | C35: Ae 3/6 III | D35: braun | F35: DC
A36: Roxy | B36: 10090 | C36: Ae 3/6 III | D36: grün | F36: DC
A37: Roxy | B37: 10081 | C37: Ae 3/6 III | D37: braun | F37: AC
A38: Roxy | B38: 10091 | C38: Ae 3/6 III | D38: grün | F38: AC
A39: Roxy | B39: 10050 | C39: Ae 3/5 | D39: braun | E39: 10204 | F39: AC
A41: Swisstoys | C41: Ae 3/6 II | D41: grün | E41: 10444 | F41: DC | H41: x/100
A42: Swisstoys | C42: Ae 3/6 II | D42: braun | F42: DC
A44: unbekannt | C44: Ae 3/6 II | D44: grün | E44: 10427 | F44: AC | H44: weniger als x/100
B47: ANZAHL: | C47: =COUNTA(C4:C46) -> 31
B50: = verifiziert
A52: Auflistungen sind nach bestem Wissen und Gewissen erstellt. Falls Fehler gefunden werden, bitte melden: | G52: Mail an Roland Hausin
A54: =TOTAL!A21 -> © 2026 Roland Hausin
