Workbook

Sheet TOTAL
A1: Anzahl bekannte BLS Loks Ae 4/4, Ae 415, Ae 8/8, Ae 810, Re 4/4
D3: Original | E3: Custom
A5: HAG | B5: =HAG!D164 -> 147 | D5: =HAG!E166 -> 106 | E5: =HAG!E167 -> 41
A6: Lima | B6: =Lima!F20 -> 13
A7: Messing | B7: =Messing!F21 -> 13
A8: Rivarossi | B8: =Rivarossi!F50 -> 42
A9: Roco | B9: =Roco!F37 -> 31
A10: Trix | B10: =Trix!F14 -> 8
A11: Andere | B11: =Andere!F14 -> 3
A13: TOTAL | B13: =SUM(B3:B12) -> 257
A16: Typen | B16: Ae 4/4
B17: Ae 8/8
B18: Re 4/4
A23: Auflistungen sind nach bestem Wissen und Gewissen erstellt. Falls Fehler gefunden werden, bitte melden: | I23: Mail an Roland Hausin
A25: © 2026 Roland Hausin

Sheet HAG
A1: HAG BLS Ae 4/4, Ae 415, Ae 8/8, Ae 810, Re 4/4 | K1: =TODAY() -> 46020
A3: Hersteller | B3: Art.Nr.1 | C3: Art.Nr.2 | D3: Typ | E3: Betriebsnr. | F3: Farbe | G3: EVU | H3: AC/DC | I3: Motor | J3: Decoder | K3: Bemerkungen
A5: HAG | B5: 046.01 | D5: Re 4/4 | E5: 170 | F5: braun | G5: BLS | H5: AC | I5: 88DC | K5: Doppeltraktion aus einem fest gekuppelten Lokpaar, Dächer und Lüftungsgitter silbrig, ausgeliefert Oktober 2005, Brig-Glis
A6: HAG | B6: 046.01 | D6: Re 4/4 | E6: 193 | F6: braun | G6: BLS | H6: AC | I6: 88DC | K6: Doppeltraktion aus einem fest gekuppelten Lokpaar, Dächer und Lüftungsgitter silbrig, ausgeliefert Oktober 2005. Steg
A7: HAG | B7: 142.01 | D7: Ae 4/4 | E7: 258 | F7: braun | G7: BLS | H7: AC
A8: HAG | B8: 142.02 | C8: 18037 | D8: Ae 4/4 | E8: 253 | F8: grün | G8: BLS | H8: AC
A9: HAG | B9: 142.03 | D9: Ae 4/4 | E9: 254 | F9: grün | G9: BLS | H9: AC
A10: HAG | B10: 142.04 | D10: Ae 4/4 | E10: 255 | F10: grün | G10: BLS | H10: AC
A11: HAG | B11: 142.05 | D11: Ae 4/4 | E11: 251 | F11: grün | G11: BLS | H11: AC | K11: 60 Jahre Ae 415 & HAG, x/10
A12: HAG | B12: 142.06 | C12: 18040 | D12: Ae 4/4 | E12: 252 | F12: grün | G12: BLS | H12: AC
A13: HAG | B13: 142.07 | C13: 18043 | D13: Ae 4/4 | E13: 251 | F13: grün | G13: BLS | H13: AC
A14: HAG | B14: 142.08 | C14: 18037-2 | D14: Ae 4/4 | E14: 253 | F14: grün | G14: BLS | H14: AC | K14: 2-motoriger Prototyp, x/1
A15: HAG | B15: 178.01 | D15: Re 4/4 | E15: 162 | F15: braun | G15: BLS | H15: AC | K15: Court, 50 Jahre HAG
A16: HAG | B16: 180.01 | D16: Re 4/4 | E16: 261 | F16: braun | G16: BLS | H16: AC | I16: 64AC
A17: HAG | B17: 180.03 | D17: Re 4/4 | E17: 261 | F17: grün | G17: BLS | H17: AC | I17: 64AC
A18: HAG | B18: 180.04 | D18: Re 4/4 | E18: 162 | F18: braun | G18: BLS | H18: AC | I18: 64AC
A19: HAG | B19: 180.05 | D19: Re 4/4 | E19: 162 | F19: braun | G19: BLS | H19: AC | I19: 64AC | K19: Wappen Court
A20: HAG | B20: 180.06 | D20: Re 4/4 | E20: 192 | F20: braun | G20: BLS | H20: AC | I20: 64AC | K20: Wappen Spiez
A21: HAG | B21: 180.07 | D21: Re 4/4 | E21: 161 | F21: braun | G21: BLS | H21: AC | K21: Wappen Domodossola
A22: HAG | B22: 180.08 | D22: Re 4/4 | E22: 181 | F22: braun | G22: BLS | H22: AC | K22: Wappen Interlaken
A23: HAG | B23: 180.09 | D23: Re 4/4 | E23: 195 | F23: braun | G23: BLS | H23: AC | K23: Wappen Unterseen
A24: HAG | B24: 180.1 | D24: Re 4/4 | E24: 183 | F24: braun | G24: BLS | H24: AC | K24: Wappen Kandersteg
A25: HAG | B25: 180.11 | C25: 18001 | D25: Re 4/4 | E25: 194 | F25: braun | G25: BLS | H25: AC | K25: Wappen Thun
A26: HAG | B26: 180.12 | D26: Re 4/4 | E26: 166 | F26: braun | G26: BLS | H26: AC | K26: Wappen Aeschi
A27: HAG | B27: 180.13 | D27: Re 4/4 | E27: 168 | F27: braun | G27: BLS | H27: AC | K27: Wappen Baltschieder
A28: HAG | B28: 180.14 | D28: Re 4/4 | E28: 169 | F28: braun | G28: BLS | H28: AC | K28: Wappen Bönigen
A29: HAG | B29: 180.15 | D29: Re 4/4 | E29: 170 | F29: blau | G29: BLS | H29: AC | K29: Designstudie, x/1
A30: HAG | B30: 180.16 | D30: Re 4/4 | E30: 193 | F30: blau | G30: BLS | H30: AC | K30: Designstudie, x/1
A31: HAG | B31: 180.17 | C31: 18006 | D31: Re 4/4 | E31: 184 | F31: braun | G31: BLS | H31: AC | K31: Wappen Krattigen
A32: HAG | B32: 180.18 | C32: 18007 | D32: Re 4/4 | E32: 187 | F32: braun | G32: BLS | H32: AC | K32: Wappen Mund
A33: HAG | B33: 180.19 | C33: 18012 | D33: Re 4/4 | E33: 182 | F33: braun | G33: BLS | H33: AC | K33: Wappen Kandergrund
A34: HAG | B34: 180.2 | C34: 18014 | D34: Re 4/4 | E34: 191 | F34: braun | G34: BLS | H34: AC | K34: Wappen Reichenbach
A35: HAG | B35: 180.21 | C35: 18015 | D35: Re 4/4 | E35: 188 | F35: braun | G35: BLS | H35: AC | K35: Wapen Naters
A36: HAG | B36: 180.22 | C36: 18016 | D36: Re 4/4 | E36: 179 | F36: braun | G36: BLS | H36: AC | K36: Wappen Bern
A37: HAG | B37: 180.23 | C37: 18017 | D37: Re 4/4 | E37: 180 | F37: braun | G37: BLS | H37: AC | K37: Wappen Ville de Neuchâtel
A38: HAG | B38: 180.24 | C38: 18018 | D38: Re 4/4 | E38: 167 | F38: braun | G38: BLS | H38: AC | K38: Wappen Ausserberg
A39: HAG | B39: 180.25 | C39: 18019 | D39: Re 4/4 | E39: 190 | F39: braun | G39: BLS | H39: AC | K39: Wappen Raron
A40: HAG | B40: 180.26 | C40: 18013 | D40: Re 4/4 | E40: 172 | F40: braun | G40: BLS | H40: AC | K40: Wappen Eggerberg
A41: HAG | B41: 180.51 | D41: Re 4/4 | E41: 170 | F41: braun | G41: BLS | H41: AC
A42: HAG | B42: 180.52 | D42: Re 4/4 | E42: 177 | F42: braun | G42: SEZ | H42: AC
A43: HAG | B43: 180.53 | D43: Re 4/4 | E43: 178 | F43: braun | G43: GBS | H43: AC
A44: HAG | B44: 180.54 | D44: Re 4/4 | E44: 179 | F44: braun | G44: BN | H44: AC
A45: HAG | B45: 180.55 | D45: Re 4/4 | E45: 180 | F45: braun | G45: BN | H45: AC
A46: HAG | B46: 180.99 | D46: Re 4/4 | F46: braun | G46: BLS | H46: AC | K46: Prototyp, x/1
A47: HAG | B47: 182.01 | C47: 18030 | D47: Ae 4/4 | E47: 258 | F47: braun | G47: BLS | H47: AC | I47: 88AC
A48: HAG | B48: 182.02 | D48: Ae 4/4 | E48: 258 | F48: rot | G48: BLS | H48: AC | I48: 88AC | K48: x/3
A49: HAG | B49: 182.03 | C49: 18031 | D49: Ae 4/4 | E49: 252 | F49: braun | G49: BLS | H49: AC | I49: 88AC
A50: HAG | B50: 182.04 | C50: 18042 | D50: Ae 4/4 | E50: 251 | F50: braun | G50: BLS | H50: AC
A51: HAG | B51: 182.05 | C51: 18035 | D51: Ae 4/4 | E51: 257 | F51: braun | G51: BLS | H51: AC
A52: HAG | B52: 182.06 | C52: 18033 | D52: Ae 415 | E52: 251 | F52: braun | G52: BLS | H52: AC | I52: 88AC | K52: "60 Jahre HAG"
A53: HAG | B53: 182.07 | D53: Ae 4/4 | E53: 251 | F53: blau | G53: BLS | H53: AC | K53: oder 254
A54: HAG | B54: 182.08 | D54: Ae 415 | E54: 251 | F54: blau | G54: BLS | H54: AC | K54: oder 254
A55: HAG | B55: 182.09 | C55: 18036 | D55: Ae 4/4 | E55: 254 | F55: braun | G55: BLS | H55: AC
A56: HAG | B56: 182.1 | C56: 18041 | D56: Ae 4/4 | E56: 253 | F56: braun | G56: BLS | H56: AC
A57: HAG | B57: 182.11 | C57: 1830-2 | D57: Ae 4/4 | E57: 258 | F57: braun | G57: BLS | H57: AC | K57: 2-motoriger Prototyp
A58: HAG | B58: 182.12 | D58: Ae 4/4 | E58: 256 | F58: braun | G58: BLS | H58: AC
A59: HAG | B59: 240.01 | D59: Ae 8/8 | E59: 273 | F59: braun | G59: BLS | H59: AC
A60: HAG | B60: 240.02 | D60: Ae 8/8 | E60: 274 | F60: braun | G60: BLS | H60: AC
A61: HAG | B61: 240.03 | C61: 24005 | D61: Ae 8/8 | E61: 275 | F61: braun | G61: BLS | H61: AC
A62: HAG | B62: 240.04 | C62: 24020 | D62: Ae 8/8 | E62: 272 | F62: braun | G62: BLS | H62: AC
A63: HAG | B63: 240.05 | C63: 24021 | D63: Ae 8/8 | E63: 272 | F63: blau | G63: BLS | H63: AC
A64: HAG | B64: 240.06 | C64: 24002 | D64: Ae 8/8 | E64: 272 | F64: braun | G64: BLS | H64: AC
A65: HAG | B65: 240.07 | C65: 24023 | D65: Ae 8/8 | E65: 271 | F65: rot | G65: BLS | H65: AC
A66: HAG | B66: 240.08 | C66: 24022 | D66: Ae 8/8 | E66: 271 | F66: braun gealtert | G66: BLS | H66: AC
A67: HAG | B67: 240.09 | C67: 24007 | D67: Ae 8/8 | E67: 273 | F67: silber/blau | G67: BLS | H67: AC | K67: Nina-Farben
A68: HAG | B68: 240.1 | C68: 24025 | D68: Ae 8/8 | E68: 273 | F68: braun | G68: BLS | H68: AC | K68: 4-motorig
A69: HAG | B69: 240.11 | C69: 24026 | D69: Ae 8/8 | E69: 274 | F69: grün | G69: BLS | H69: AC | K69: Nina-Farben
A70: HAG | B70: 240.12 | C70: 24024 | D70: Ae 8/8 | E70: 271 | F70: braun | G70: BLS | H70: AC | K70: 4-motorig
A71: HAG | B71: 242.01 | D71: Ae 8/8 | E71: 273 | F71: braun | G71: BLS | H71: AC | K71: 2-motorig
A72: HAG | B72: 242.02 | D72: Ae 8/8 | E72: 273 | F72: braun | G72: BLS | H72: AC | K72: 2-motorig
A73: HAG | B73: 242.03 | D73: Ae 8/8 | E73: 274 | F73: braun | G73: BLS | H73: AC | K73: 2-motorig
A74: HAG | B74: 242.04 | D74: Ae 8/8 | E74: 275 | F74: braun | G74: BLS | H74: AC | K74: 2-motorig
A75: HAG | B75: 242.05 | D75: Ae 8/8 | E75: 272 | F75: braun | G75: BLS | H75: AC | K75: 2-motorig
A76: HAG | B76: 242.06 | C76: 24012 | D76: Ae 8/8 | E76: 272 | F76: braun | G76: BLS | H76: AC | K76: 2-motorig
A77: HAG | B77: 242.07 | D77: Ae 8/8 | E77: 272 | F77: braun | G77: BLS | H77: AC | K77: 2-motorig
A78: HAG | B78: 242.08 | D78: Ae 8/8 | E78: 271 | F78: silber | G78: BLS | H78: AC | K78: 2-motorig
A79: HAG | B79: 242.09 | D79: Ae 8/8 | E79: 271 | F79: rot | G79: BLS | H79: AC | K79: 2-motorig
A80: HAG | B80: 242.1 | C80: 24011 | D80: Ae 8/8 | E80: 271 | F80: braun | G80: BLS | H80: AC | K80: 2-motorig
A81: HAG | B81: 242.11 | C81: 24017 | D81: Ae 8/8 | E81: 273 | F81: silber/blau | G81: BLS | H81: AC | K81: Nina-Farben, 2-motorig
A82: HAG | B82: 242.12 | D82: Ae 8/8 | E82: 271 | F82: schwarz | G82: BLS | H82: AC | K82: 2-motorig, x/2
A83: HAG | B83: 242.13 | C83: 24016-2 | D83: Ae 8/8 | E83: 271 | F83: braun | G83: BLS | H83: AC | K83: BLS, 2-motorig
A84: HAG | B84: 242.14 | C84: 24019 | D84: Ae 810 | E84: 810 274-1 | F84: blau/grau | G84: BLS | H84: AC | K84: 2-motorig, x/25
A85: HAG | B85: 242.15 | D85: Ae 8/8 | E85: 271 | F85: goldfarbig | G85: BLS | H85: AC | K85: 2-motorig, x/2
A87: HAG/Morep | B87: 180 | D87: Re 4/4 | E87: 176 | F87: braun | G87: BLS | H87: DC | K87: Wappen Hohtenn
A88: HAG/Morep | B88: 180 | D88: Re 4/4 | E88: 189 | F88: braun | G88: BLS | H88: DC | K88: Wappen Niedergesteln
A90: HAG/Swimo | B90: 180 | C90: 5.161.1/2 | D90: Re 4/4 | E90: 166 | F90: braun | G90: BLS | H90: AC | K90: Wappen Aeschi
A91: HAG/Swimo | B91: 180 | C91: 5.162.1/2 | D91: Re 4/4 | E91: 162 | F91: braun | G91: BLS | H91: AC
A92: HAG/Swimo | B92: 180 | C92: 5.168.1/2 | D92: Re 4/4 | E92: 168 | F92: braun | G92: BLS | H92: AC
A93: HAG/Swimo | B93: 180 | C93: 5.169.1/2 | D93: Re 4/4 | E93: 169 | F93: braun | G93: BLS | H93: AC | K93: Wappen Bönigen
A94: HAG/Swimo | B94: 180 | C94: 5.173.1/2 | D94: Re 4/4 | E94: 173 | F94: braun | G94: BLS | H94: AC
A95: HAG/Swimo | B95: 180 | C95: 5.174.1/2 | D95: Re 4/4 | E95: 174 | F95: braun | G95: BLS | H95: AC | K95: Wappen Frutigen
A96: HAG/Swimo | B96: 180 | C96: 5.178.1/2 | D96: Re 4/4 | E96: 178 | F96: braun | G96: GBS | H96: AC
A97: HAG/Swimo | B97: 180 | C97: 5.184.1/2 | D97: Re 4/4 | E97: 184 | F97: braun | G97: BLS | H97: AC | K97: Wappen Krattigen
A98: HAG/Swimo | B98: 180 | C98: 5.191.1/2 | D98: Re 4/4 | E98: 191 | F98: braun | G98: BLS | H98: AC | K98: Wappen Reichenbach
A99: HAG/Swimo | B99: 180 | C99: 5.192.1/2 | D99: Re 4/4 | E99: 192 | F99: braun | G99: BLS | H99: AC
A100: HAG/Swimo | B100: 180 | C100: 5.194.1/2 | D100: Re 4/4 | E100: 194 | F100: braun | G100: BLS | H100: AC
A101: HAG/Swimo | B101: 182 | C101: 5.251.1/2 | D101: Ae 4/4 | E101: 251 | F101: braun | G101: BLS | H101: AC
A102: HAG/Swimo | B102: 182 | C102: 5.252.1/2 | D102: Ae 4/4 | E102: 252 | F102: braun | G102: BLS | H102: AC
A103: HAG/Swimo | B103: 182 | C103: 5.257.1/2 | D103: Ae 4/4 | E103: 257 | F103: braun | G103: BLS | H103: AC
A104: HAG/Swimo | B104: 182 | C104: 5.258.1/2 | D104: Ae 4/4 | E104: 258 | F104: braun | G104: BLS | H104: AC
...

Sheet Lima
A1: Lima BLS Ae 4/4 Re 4/4 | I1: =TODAY() -> 46020
A3: Hersteller | B3: Art.Nr.1 | C3: Typ | D3: Betriebsnr. | E3: EVU | F3: Farbe | G3: AC/DC | H3: Decoder | I3: Bemerkungen
A5: Lima | B5: 208333 | C5: Re 4/4 | D5: 183 | E5: BLS | F5: braun | G5: DC | I5: Wappen Kandersteg
A6: Lima | B6: 208333S1 | C6: Re 4/4 | D6: 161 | E6: BLS | F6: braun | G6: DC | I6: Wappen Domodossola
A7: Lima | B7: 208333S? | C7: Re 4/4 | D7: 176 | E7: BLS | F7: braun | G7: DC | I7: Wappen Hohtenn
A8: Lima | B8: 208334LP | C8: Re 4/4 | D8: 193 | E8: BLS | F8: braun | G8: DC | I8: Wappen Steg
A9: Lima | B9: 208335LP | C9: Re 4/4 | D9: 179 | E9: BN | F9: braun | G9: DC | I9: Wappen Bern
A10: Lima | B10: 208336LP | C10: Re 4/4 | D10: 177 | E10: SEZ | F10: braun | G10: DC | I10: Wappen Zweisimmen
A11: Lima | B11: 208393 | C11: Re 4/4 | D11: 180 | E11: BN | F11: braun | G11: DC | I11: Wappen Ville de Neuchâtel
A12: Lima | B12: 208396 | C12: Re 4/4 | D12: 178 | E12: GBS | F12: braun | G12: DC | I12: Wappen Schwarzenburg
A13: Lima | B13: 258161 | C13: Re 4/4 | D13: 188 | E13: BLS | F13: braun | G13: AC | I13: Wappen Naters
A14: Lima | C14: Re 4/4 | D14: 173 | E14: BLS | F14: braun | G14: DC | I14: Wappen Lötschental
A15: Lima | C15: Re 4/4 | D15: 176 | E15: BLS | F15: braun | G15: DC | I15: Wappen Hohtenn
A16: Lima | C16: Re 4/4 | D16: 164 | E16: BLS | F16: braun | G16: DC | I16: Wappen Lengnau
A17: Lima | C17: Re 4/4 | D17: 189 | E17: BLS | F17: braun | G17: DC | I17: Wappen Niedergesteln
C20: ANZAHL: | F20: =COUNTA(C4:C19) -> 13
B24: = verifiziert
A26: Auflistungen sind nach bestem Wissen und Gewissen erstellt. Falls Fehler gefunden werden, bitte melden: | H26: Mail an Roland Hausin
A28: © 2025 Roland Hausin

Sheet Messing
A1: Messing BLS Ae 4/4, Ae 8/8, Re 4/4 | I1: =TODAY() -> 46020
A3: Hersteller | B3: Art.Nr.1 | C3: Typ | D3: EVU | E3: Betriebsnr. | F3: Farbe | G3: AC/DC | H3: Decoder | I3: Bemerkungen
A5: Fulgurex | C5: Re 4/4 | D5: BLS | E5: 194 | F5: braun | G5: DC | I5: Wapen Thun
A6: Fulgurex | B6: 2260/1 | C6: Re 4/4 | D6: BLS | E6: 163 | F6: braun | G6: DC | H6: digital | I6: Wappen Court
A7: Fulgurex | B7: 2260/2 | C7: Re 4/4 | D7: BLS | E7: 177 | F7: braun | G7: DC | H7: digital | I7: Wappen Zweisimmen
A8: Fulgurex | B8: 2260/3 | C8: Re 4/4 | D8: BLS | E8: 184 | F8: braun | G8: DC | H8: digital | I8: Wappen Krattigen
A9: Fulgurex | C9: Re 4/4 | D9: BLS | E9: 262 | F9: braun | G9: DC | I9: Wappen Court
A10: Fulgurex | C10: Re 4/4 | D10: BLS | E10: 163 | F10: braun | G10: DC | I10: Wappen Grenchen
A12: Lemaco | B12: H0-069 | C12: Ae 4/4 | D12: BLS | E12: 251 | F12: braun | G12: DC
A13: Lemaco | B13: H0-069/1 | C13: Ae 4/4 | D13: BLS | E13: 253 | F13: grün | G13: DC
A14: Lemaco | B14: H0-069/1W | C14: Ae 4/4 | D14: BLS | E14: 253 | F14: grün | G14: AC
A15: Lemaco | B15: H0-069/W | C15: Ae 4/4 | D15: BLS | E15: 251 | F15: braun | G15: AC
A17: Metrop | B17: 704 | C17: Ae 4/4 | D17: BLS | E17: 257 | F17: braun | G17: DC
A18: Metrop | B18: 705 | C18: Ae 8/8 | D18: BLS | E18: 272 | F18: braun | G18: DC
A19: Metrop | B19: 705b | C19: Ae 8/8 | D19: BLS | E19: 272 | F19: braun | G19: DC
C21: ANZAHL: | F21: =COUNTA(C4:C20) -> 13
B25: = verifiziert
A27: Auflistungen sind nach bestem Wissen und Gewissen erstellt. Falls Fehler gefunden werden, bitte melden: | H27: Mail an Roland Hausin
A29: © 2025 Roland Hausin

Sheet Rivarossi
A1: Rivarossi BLS Ae 4/4, Ae 8/8, Re 4/4 | I1: =TODAY() -> 46020
A3: Hersteller | B3: Art.Nr.1 | C3: Typ | D3: EVU | E3: Betriebsnr. | F3: Farbe | G3: AC/DC | H3: Decoder | I3: Bemerkungen
A5: Rivarossi | B5: 1663 | C5: Ae 4/4 | D5: BLS | E5: 255 | F5: braun | G5: DC | I5: (Gehäuse und Chassis von Trix)
A6: Rivarossi | B6: 21661 | C6: Ae 4/4 | D6: BLS | E6: 255 | F6: grün | G6: DC | I6: (Gehäuse und Chassis von Trix)
A7: Rivarossi | B7: HR2058 | C7: Re 4/4 | D7: BLS | E7: 163 | F7: braun | G7: DC | I7: Wappen Grenchen
A8: Rivarossi | B8: HR2059 | C8: Re 4/4 | D8: BLS | E8: 163 | F8: braun | G8: AC | I8: Wappen Grenchen
A9: Rivarossi | B9: HR2100 | C9: Re 4/4 | D9: BLS BN | E9: 171 179 | F9: braun | G9: AC | I9: Wappen BLS Därligen und BN Bern
A10: Rivarossi | B10: HR2101 | C10: Re 4/4 | D10: BLS | E10: 171 | F10: braun | G10: AC | I10: Wappen Därligen
A11: Rivarossi | B11: HR2101 | C11: Re 4/4 | D11: BN | E11: 179 | F11: braun | G11: AC | I11: Wappen Bern
A12: Rivarossi | B12: HR2734 | C12: Re 4/4 | D12: BLS | E12: 174 | F12: braun | G12: AC | I12: Wappen Frutigen
A13: Rivarossi | B13: HR2734ACS | C13: Re 4/4 | D13: BLS | E13: 174 | F13: braun | G13: AC | H13: Sound | I13: Wappen Frutigen
A14: Rivarossi | B14: HR2734S | C14: Re 4/4 | D14: BLS | E14: 174 | F14: braun | G14: DC | H14: Sound | I14: Wappen Frutigen
A15: Rivarossi | B15: HR2735 | C15: Re 4/4 | D15: BLS | E15: 166 | F15: braun | G15: AC | I15: Wappen Aeschi
A16: Rivarossi | B16: HR2735ACS | C16: Re 4/4 | D16: BLS | E16: 166 | F16: braun | G16: AC | H16: Sound | I16: Wappen Aeschi
A17: Rivarossi | B17: HR2735S | C17: Re 4/4 | D17: BLS | E17: 166 | F17: braun | G17: DC | H17: Sound | I17: Wappen Aeschi
A18: Rivarossi | B18: HR2736 | C18: Re 4/4 | D18: BLS | E18: 192 | F18: braun | G18: AC | I18: Wappen Spiez
A19: Rivarossi | B19: HR2736ACS | C19: Re 4/4 | D19: BLS | E19: 192 | F19: braun | G19: AC | H19: Sound | I19: Wappen Spiez
A20: Rivarossi | B20: HR2736S | C20: Re 4/4 | D20: BLS | E20: 192 | F20: braun | G20: DC | H20: Sound | I20: Wappen Spiez
A21: Rivarossi | B21: HR2812 | C21: Re 4/4 | D21: BLS | E21: 161 | F21: braun | G21: DC | I21: Wappen Domodossola
A22: Rivarossi | B22: HR2812ACS | C22: Re 4/4 | D22: BLS | E22: 161 | F22: braun | G22: AC | H22: Sound | I22: Wappen Domodossola
A23: Rivarossi | B23: HR2812S | C23: Re 4/4 | D23: BLS | E23: 161 | F23: braun | G23: DC | H23: Sound | I23: Wappen Domodossola
A24: Rivarossi | B24: HR2813 | C24: Re 4/4 | D24: BLS SEZ | E24: 173 177 | F24: braun | G24: DC | I24: Wappen Lötschental und SEZ Zweisimmen
A25: Rivarossi | B25: HR2813ACS | C25: Re 4/4 | D25: BLS SEZ | E25: 173 177 | F25: braun | G25: AC | H25: Sound | I25: Wappen Lötschental und SEZ Zweisimmen
A26: Rivarossi | B26: HR2813S | C26: Re 4/4 | D26: BLS SEZ | E26: 173 177 | F26: braun | G26: DC | H26: Sound | I26: Wappen Lötschental und SEZ Zweisimmen
A27: Rivarossi | B27: HR2814 | C27: Re 4/4 | D27: BLS | E27: 195 | F27: braun | G27: AC | I27: Wappen Unterseen
A28: Rivarossi | B28: HR2814ACS | C28: Re 4/4 | D28: BLS | E28: 195 | F28: braun | G28: AC | H28: Sound | I28: Wappen Unterseen
A29: Rivarossi | B29: HR2814S | C29: Re 4/4 | D29: BLS | E29: 195 | F29: braun | G29: DC | H29: Sound | I29: Wappen Unterseen
A30: Rivarossi | B30: HR2958 | C30: Re 4/4 | D30: BLS | E30: 167 | F30: braun | G30: DC | I30: Wappen Ausserberg
A31: Rivarossi | B31: HR2958ACS | C31: Re 4/4 | D31: BLS | E31: 167 | F31: braun | G31: AC | H31: Sound | I31: Wappen Ausserberg
A32: Rivarossi | B32: HR2958S | C32: Re 4/4 | D32: BLS | E32: 167 | F32: braun | G32: DCC | H32: Sound | I32: Wappen Ausserberg
A33: Rivarossi | B33: HR2959 | C33: Re 4/4 | D33: BLS | E33: 181 | F33: braun | G33: DC | I33: Wappen Interlaken
A34: Rivarossi | B34: HR2959ACS | C34: Re 4/4 | D34: BLS | E34: 181 | F34: braun | G34: AC | H34: Sound | I34: Wappen Interlaken
A35: Rivarossi | B35: HR2959S | C35: Re 4/4 | D35: BLS | E35: 181 | F35: braun | G35: DCC | H35: Sound | I35: Wappen Interlaken
A36: Rivarossi | B36: HR2960 | C36: Re 4/4 | D36: BLS | E36: 191 | F36: braun | G36: DC | I36: Wappen Reichenbach
A37: Rivarossi | B37: HR2960ACS | C37: Re 4/4 | D37: BLS | E37: 191 | F37: braun | G37: AC | H37: Sound | I37: Wappen Reichenbach
A38: Rivarossi | B38: HR2960S | C38: Re 4/4 | D38: BLS | E38: 191 | F38: braun | G38: DCC | H38: Sound | I38: Wappen Reichenbach
A39: Rivarossi | B39: HR2960 | C39: Re 4/4 | D39: BLS | E39: 191 | F39: braun | G39: DC | I39: Wappen Reichenbach
A40: Rivarossi | B40: HR9901 | C40: Re 4/4 | D40: BN | E40: 179 | F40: braun | G40: AC | H40: digital | I40: Wappen Bern
A41: Rivarossi | B41: HR9903 | C41: Re 4/4 | D41: BN | E41: 179 | F41: braun | G41: AC | H41: Sound | I41: Wappen Bern
A42: Rivarossi | C42: Re 4/4 | D42: GBS | E42: 178 | F42: braun | G42: AC | I42: Wappen Schwarzenburg
A43: Rivarossi | C43: Re 4/4 | D43: BLS | E43: 194 | F43: braun | G43: AC | I43: Wappen Thun
A44: Rivarossi | C44: Re 4/4 | D44: BLS | E44: 176 | F44: braun | G44: AC | I44: Wappen Hohtenn
A45: Rivarossi | C45: Re 4/4 | D45: BLS | E45: 173 | F45: braun | G45: AC | I45: Wappen Lötschental
A46: Rivarossi | C46: Re 4/4 | D46: BLS | E46: 193 | F46: braun | G46: AC | I46: Wappen Steg
C50: ANZAHL: | F50: =COUNTA(C4:C49) -> 42
B54: = verifiziert
A56: Auflistungen sind nach bestem Wissen und Gewissen erstellt. Falls Fehler gefunden werden, bitte melden: | H56: Mail an Roland Hausin
A58: © 2025 Roland Hausin

Sheet Roco
A1: Roco BLS Ae 4/4, Ae 8/8, Re 4/4 | I1: =TODAY() -> 46020
A3: Hersteller | B3: Art.Nr.1 | C3: Typ | D3: EVU | E3: Betriebsnr. | F3: Farbe | G3: AC/DC | H3: Decoder | I3: Bemerkungen
A5: Roco | B5: 61425 | C5: Ae 4/4 | D5: BLS | E5: 257 | F5: braun | G5: DC | I5: Set
A6: Roco | B6: 62639 | C6: Ae 4/4 | D6: BLS | E6: 251 | F6: braun | G6: DC
A7: Roco | B7: 63880 | C7: Ae 8/8 | D7: BLS | E7: 274 | F7: braun | G7: DC
A8: Roco | B8: 63880.1 | C8: Ae 8/8 | D8: BLS | E8: 275 | F8: braun | G8: DC
A9: Roco | B9: 63882 | C9: Ae 4/4 | D9: BLS | E9: 251 | F9: braun | G9: DC
A10: Roco | B10: 63882.1 | C10: Ae 4/4 | D10: BLS | E10: 251 | F10: braun | G10: DC | I10: Sonderserie Schweiz
A11: Roco | B11: 63883 | C11: Ae 4/4 | D11: BLS | E11: 252 | F11: braun | G11: DC
A12: Roco | B12: 63885 | C12: Ae 4/4 | D12: BLS | E12: 255 | F12: grün | G12: DC
A13: Roco | B13: 63886 | C13: Ae 4/4 | D13: BLS | E13: 258 | F13: braun | G13: DC
A14: Roco | B14: 63887 | C14: Ae 8/8 | D14: BLS | E14: 271 | F14: braun | G14: DC
A15: Roco | B15: 68639 | C15: Ae 4/4 | D15: BLS | E15: 251 | F15: braun | G15: AC
A16: Roco | B16: 69880 | C16: Ae 8/8 | D16: BLS | E16: 274 | F16: braun | G16: AC
A17: Roco | B17: 69880.1 | C17: Ae 8/8 | D17: BLS | E17: 275 | F17: braun | G17: AC
A18: Roco | B18: 69883 | C18: Ae 4/4 | D18: BLS | E18: 252 | F18: braun | G18: AC
A19: Roco | B19: 69886 | C19: Ae 4/4 | D19: BLS | E19: 258 | F19: braun | G19: AC
A20: Roco | B20: 69887 | C20: Ae 8/8 | D20: BLS | E20: 271 | F20: braun | G20: AC
A21: Roco | B21: 72690 | C21: Ae 8/8 | D21: BLS | E21: 272 | F21: braun | G21: DC
A22: Roco | B22: 73780 | C22: Re 4/4 | D22: BLS | E22: 185 | F22: braun | G22: DC | I22: Wappen Lalden
A23: Roco | B23: 73781 | C23: Re 4/4 | D23: BLS | E23: 185 | F23: braun | G23: DC | H23: Sound | I23: Wappen Lalden
A24: Roco | B24: 73782 | C24: Re 4/4 | D24: BLS | E24: 194 | F24: braun | G24: DC | I24: Wappen Thun
A25: Roco | B25: 73783 | C25: Re 4/4 | D25: BLS | E25: 194 | F25: braun | G25: DC | H25: Sound | I25: Wappen Thun
A26: Roco | B26: 73818 | C26: Re 4/4 | D26: BLS | E26: 174 | F26: braun | G26: DC | I26: Wappen Frutigen
A27: Roco | B27: 73819 | C27: Re 4/4 | D27: BLS | E27: 174 | F27: braun | G27: DC | H27: Sound | I27: Wappen Frutigen
A28: Roco | B28: 73824 | C28: Re 4/4 | D28: BLS | E28: 169 | F28: braun | G28: DC
A29: Roco | B29: 73825 | C29: Re 4/4 | D29: BLS | E29: 169 | F29: braun | G29: DC | H29: Sound
A30: Roco | B30: 78604 | C30: Ae 8/8 | D30: BLS | E30: 273 | F30: braun | G30: AC
A31: Roco | B31: 78690 | C31: Ae 8/8 | D31: BLS | E31: 272 | F31: braun | G31: AC
A32: Roco | B32: 79781 | C32: Re 4/4 | D32: BLS | E32: 185 | F32: braun | G32: AC | H32: Sound | I32: Wappen Lalden
A33: Roco | B33: 79783 | C33: Re 4/4 | D33: BLS | E33: 194 | F33: braun | G33: AC | H33: Sound | I33: Wappen Thun
A34: Roco | B34: 79819 | C34: Re 4/4 | D34: BLS | E34: 174 | F34: braun | G34: AC | H34: Sound | I34: Wappen Frutigen
A35: Roco | B35: 79825 | C35: Re 4/4 | D35: BLS | E35: 169 | F35: braun | G35: AC | H35: Sound
C37: ANZAHL: | F37: =COUNTA(C4:C36) -> 31
B41: = verifiziert
A43: Auflistungen sind nach bestem Wissen und Gewissen erstellt. Falls Fehler gefunden werden, bitte melden: | H43: Mail an Roland Hausin
A45: © 2025 Roland Hausin

Sheet Trix
A1: Trix BLA Ae 4/4, Re 4/4 | I1: =TODAY() -> 46020
A3: Hersteller | B3: Art.Nr.1 | C3: Typ | D3: EVU | E3: Betriebsnr. | F3: Farbe | G3: AC/DC | H3: Decoder | I3: Bemerkungen
A5: Trix Express | B5: 2232 | C5: Ae 4/4 | D5: BLS | E5: 255 | F5: grün | G5: DC
A6: Trix Express | B6: 2236 | C6: Ae 4/4 | D6: BLS | E6: 255 | F6: braun | G6: DC
A7: Trix Express | B7: 762 / 2432 | C7: Ae 4/4 | D7: BLS | E7: 255 | F7: grün | G7: DC
A8: Trix Express | B8: 762 / 2432 | C8: Ae 4/4 | D8: BLS | E8: 255 | F8: hellgrün | G8: DC | I8: Version 2, 1958-1969
A9: Trix Express | B9: 762 / 2432 | C9: Ae 4/4 | D9: BLS | E9: 255 | F9: braun | G9: DC | I9: Version 1, 1956-1969
A10: Trix Express | B10: 2436 | C10: Ae 4/4 | D10: BLS | E10: 255 | F10: braun | G10: DC | I10: Version 3, 1958-1969, Beschriftung gelb
A11: Trix Express | B11: 2436 | C11: Ae 4/4 | D11: BLS | E11: 255 | F11: braun | G11: DC | I11: Version 4, 1958-1969, Beschriftung silber
A12: Trix Express | C12: Ae 4/4 | D12: BLS | E12: 255 | F12: blau | G12: DC | I12: Kleinserie
C14: ANZAHL: | F14: =COUNTA(C4:C13) -> 8
B18: = verifiziert
A20: Auflistungen sind nach bestem Wissen und Gewissen erstellt. Falls Fehler gefunden werden, bitte melden: | H20: Mail an Roland Hausin
A22: © 2025 Roland Hausin

Sheet Andere
A1: Andere Hersteller BLS Ae 4/4, Ae 8/8, Re 4/4 | I1: =TODAY() -> 46020
A3: Hersteller | B3: Art.Nr.1 | C3: Typ | D3: Betriebsnr. | E3: EVU | F3: Farbe | G3: AC/DC | H3: Decoder | I3: Bemerkungen
A5: APC | B5: 4508 | C5: Re 4/4 | D5: 195 | E5: BLS | F5: braun | G5: DC | I5: Wappen Unterseen
A7: Swisstoys | C7: Ae 4/4 | D7: 255 | E7: BLS | F7: braun | G7: AC | I7: Gehäuse von Trix
A9: Custom:
A11: HAG/Unbekannt | C11: Ae 8/8 | D11: 261 | E11: BLS | F11: braun | G11: AC | I11: Aus 2 Ae 4/4 zusammengebaut
C14: ANZAHL: | F14: =COUNTA(C4:C13) -> 3
B18: = verifiziert
A20: Auflistungen sind nach bestem Wissen und Gewissen erstellt. Falls Fehler gefunden werden, bitte melden: | H20: Mail an Roland Hausin
A22: © 2025 Roland Hausin
