Workbook

Sheet TOTAL
A1: Anzahl bekannte Ae 6/6 in Spur H0 | G1: =TODAY() -> 46138
D3: Originale | E3: Custom
A5: Fleischmann | B5: =Fleischmann!C11 -> 5
A6: HAG | B6: =HAG!C322 -> 310 | D6: =HAG!D323 -> 293 | E6: =HAG!D324 -> 17
A7: LIMA | B7: =Lima!D15 -> 6
A8: Märklin | B8: =Märklin!C60 -> 47 | D8: =Märklin!D61 -> 43 | E8: =Märklin!D62 -> 4
A9: Messing | B9: =Messing!C30 -> 22
A10: PIKO | B10: =PIKO!D31 -> 23
A11: Roco | B11: =ROCO!C55 -> 48
A12: Trix | B12: =Trix!D11 -> 4
A13: Andere | B13: =Andere!C24 -> 15
A15: TOTAL | B15: =SUM(B3:B14) -> 480 | E15: =SUM(E3:E14) -> 21
A18: Auflistungen sind nach bestem Wissen und Gewissen erstellt. Falls Fehler gefunden werden, bitte melden: | I18: Mail an Roland Hausin
A20: © 2026 Roland Hausin

Sheet Fleischmann
A1: Fleischmann Ae 6/6 | G1: =TODAY() -> 46138
A3: Hersteller | B3: Art.Nr.1 | C3: Typ | D3: Betriebsnr. | E3: Farbe | F3: AC/DC | G3: Decoder | H3: Bemerkungen
A5: Fleischmann | B5: 1334 | C5: Ae 6/6 | D5: 11412 | E5: grün | F5: DC | H5: Kantonslok Appenzell
A6: Fleischmann | B6: 1334 | C6: Ae 6/6 | D6: 11412 | E6: grün | F6: DC | H6: Kantonslok beide Basel
A7: Fleischmann | B7: 1334 | C7: Ae 6/6 | D7: 11412 | E7: grün | F7: DC | H7: Kantonslok Zug
A8: Fleischmann | B8: 1334 | C8: Ae 6/6 | D8: 11412 | E8: grün | F8: DC | H8: Kantonslok Genève
A9: Fleischmann | B9: 1334 | C9: Ae 6/6 | D9: 11412 | E9: grün | F9: DC | H9: Kantonslok Obwalden
B11: ANZAHL: | C11: =COUNTA(C4:C10) -> 5
A15: Auflistungen sind nach bestem Wissen und Gewissen erstellt. Falls Fehler gefunden werden, bitte melden: | I15: Mail an Roland Hausin
A17: =TOTAL!A20 -> © 2026 Roland Hausin

Sheet HAG
A1: HAG Ae 6/6 resp. Ae 610 | H1: =TODAY() -> 46138 | I1: Artikel-Nr. + 1 = Gleichstrom
A3: Hersteller | B3: Art.Nr.1 | C3: Art.Nr.2 | D3: Typ | E3: Betriebsnr. | F3: Farbe | G3: AC/DC | H3: Decoder | I3: Bemerkungen
A5: HAG | B5: 26.01 | D5: Ae 6/6 | E5: 11472 | F5: grün | G5: -20,-30 | I5: Set Simplon Trio
A6: HAG | B6: 30.01 | C6: 25004 | D6: Ae 6/6 | E6: 11505 | F6: grün | G6: -20,-31 | I6: Set Städtelok Lyss, mit 4 Kesselwagen
A7: HAG | B7: 30.01 | D7: Ae 6/6 | E7: 11510 | F7: grün | G7: -20,-31 | I7: Set Städtelok Rheinfelden, gealtert, mit 4 Kesselwagen
A8: HAG | B8: 30.02 | C8: 25003 | D8: Ae 6/6 | E8: 11510 | F8: grün | G8: -20,-31 | I8: Set Städtelok Rheinfelden, gealtert, mit 4 Kesselwagen, x/5
A9: HAG | B9: 30.03 | C9: 25003 | D9: Ae 6/6 | E9: 11510 | F9: grün | G9: -20,-31 | I9: Set Städtelok Rheinfelden, mit 4 Kesselwagen
A10: HAG | B10: 30.04 | C10: 25012 | D10: Ae 6/6 | E10: 11457 | F10: rot | G10: -20,-31 | I10: Set Städtelok Romanshorn, gealtert, mit 4 Kesselwagen
A11: HAG | B11: 30.99 | D11: Ae 6/6 | E11: 11510 | F11: grün | G11: -30 | I11: Set Städtelok Rheinfelden, mit 4 Kesselwagen, Sonderserie, x/1
A12: HAG | B12: 94.01 | C12: 11051 | D12: Ae 6/6 | E12: 11451 | F12: grün | G12: -20,-31 | I12: Winterthur, mit HAG-Logo
A13: HAG | B13: 94.02 | D13: Ae 6/6 | E13: 11451 | F13: grün | G13: -20,-31 | I13: Winterthur, ohne HAG-Logo, x/27
A14: HAG | B14: 116.01 | D14: Ae 6/6 | E14: 11412 | F14: grün | G14: -20,-30 | I14: Kantonslok Zürich
A15: HAG | B15: 116.02 | D15: Ae 6/6 | E15: 11416 | F15: grün | G15: -20,-30 | I15: Kantonslok Glarus
A16: HAG | B16: 116.03 | D16: Ae 6/6 | E16: 11421 | F16: grün | G16: -20,-30 | I16: Kantonslok Graubünden
A17: HAG | B17: 116.04 | D17: Ae 6/6 | E17: 11422 | F17: grün | G17: -20,-30 | I17: Kantonslok Vaud
A18: HAG | B18: 116.05 | C18: 11019 | D18: Ae 6/6 | E18: 11415 | F18: grün | G18: -20,-31 | I18: Kantonslok Thurgau
A19: HAG | B19: 116.06 | D19: Ae 6/6 | E19: 11415 | F19: grün | G19: -20,-30 | I19: Kantonslok Thurgau, Sonderserie Pulsar, x/10
A20: HAG | B20: 116.07 | D20: Ae 6/6 | E20: 11423 | F20: grün | G20: -20,-30 | I20: Kantonslok Wallis
A21: HAG | B21: 116.08 | C21: 11013 | D21: Ae 6/6 | E21: 11407 | F21: grün | G21: -20,-31 | I21: Kantonslok Aargau
A22: HAG | B22: 116.09 | C22: 11020 | D22: Ae 6/6 | E22: 11401 | F22: grün | G22: -20,-31 | I22: Kantonslok Ticino
A23: HAG | B23: 116.1 | C23: 11021 | D23: Ae 6/6 | E23: 11402 | F23: grün | G23: -20,-21,-22,-31,-32 | I23: Kantonslok Uri
A24: HAG | B24: 116.11 | C24: 11036 | D24: Ae 6/6 | E24: 11405 | F24: grün | G24: -20,-31 | I24: Kantonslok Nidwalden, Sonderserie Alpnacher, x/50
A25: HAG | B25: 116.13 | C25: 11042 | D25: Ae 6/6 | E25: 11406 | F25: grün | G25: -20 | I25: Kantonslok Obwalden, Sonderserie Alpnacher, x/30
A26: HAG | B26: 116.14 | C26: 11016 | D26: Ae 6/6 | E26: 11408 | F26: grün | G26: -20,-31 | I26: Kantonslok Solothurn
A27: HAG | B27: 116.15 | C27: 11048 | D27: Ae 6/6 | E27: 11406 | F27: grün | G27: -20,-31 | I27: Kantonslok Obwalden, Sonderserie Alpnacher, x/9
A28: HAG | B28: 116.16 | C28: 11047 | D28: Ae 6/6 | E28: 11421 | F28: grün | G28: -20,-31,-32 | I28: Kantonslok Graubünden
A29: HAG | B29: 116.17 | C29: 11504 | D29: Ae 6/6 | E29: 11411 | F29: grün | G29: -20,-31 | I29: Kantonslok Zug
A30: HAG | B30: 116.99 | D30: Ae 6/6 | E30: 11411 | F30: braun | G30: -20,-30 | I30: Kantonslok Zug
A31: HAG | B31: 117.12 | C31: 11037 | D31: Ae 6/6 | E31: 11405 | F31: lindengrün | G31: -20 | I31: Kantonslok Nidwalden, Sonderserie Alpnacher, x/1
A32: HAG | B32: 118.01 | D32: Ae 6/6 | E32: 11416 | F32: rot | G32: -20,-30 | I32: Kantonslok Glarus
A33: HAG | B33: 118.02 | D33: Ae 6/6 | E33: 11412 | F33: rot | G33: -20,-30 | I33: Kantonslok Zürich
A34: HAG | B34: 118.03 | C34: 11008 | D34: Ae 6/6 | E34: 11422 | F34: rot | G34: -20,-30,-31 | I34: Kantonslok Vaud
A35: HAG | B35: 118.04 | D35: Ae 6/6 | E35: 11421 | F35: rot | G35: -20,-30 | I35: Kantonslok Graubünden, Sondermodell Hartmann
A36: HAG | B36: 118.05 | C36: 11012 | D36: Ae 6/6 | E36: 11423 | F36: rot | G36: -20,-31 | I36: Kantonslok Wallis
A37: HAG/Friho | B37: 120 | C37: 2204 | D37: Ae 6/6 | E37: 11401 | F37: grün | G37: -20,-30 | I37: Kantonslok Ticino, Friho
A38: HAG/Friho | B38: 120 | C38: 2206 | D38: Ae 6/6 | E38: 11402 | F38: grün | G38: -20,-30 | I38: Kantonslok Uri, Friho
A39: HAG/Friho | B39: 120 | C39: 2212 | D39: Ae 6/6 | E39: 11401 | F39: rot | G39: -20,-30 | I39: Kantonslok Ticino, Friho
A40: HAG/Friho | B40: 120 | C40: 2216 | D40: Ae 6/6 | E40: 11402 | F40: rot | G40: -20,-30 | I40: Kantonslok Uri, Friho
A41: HAG | B41: 120.01 | D41: Ae 6/6 | E41: 11401 | F41: grün | G41: -20,-30 | I41: Kantonslok Uri, Wappen für 10 Kantone beiliegend
A42: HAG | B42: 120.02 | D42: Ae 6/6 | E42: 11401 | F42: grün | G42: -20,-30 | I42: Kantonslok Ticino
...

Sheet Lima
A1: LIMA Ae 6/6 (Spur H0, DC) | H1: =TODAY() -> 46138
A3: Hersteller | B3: Art.Nr.1 | C3: Art.Nr.2 | D3: Typ | E3: Betriebsnr. | F3: Farbe | G3: AC/DC | H3: Decoder | I3: Bemerkungen
A5: Lima | B5: 208046 | D5: Ae 6/6 | E5: 11493 | F5: grün | G5: DC | I5: Sissach
A6: Lima | B6: 106515T | D6: Ae 6/6 | E6: 11493 | F6: rot | G6: DC | I6: Sissach
A7: Lima | B7: 208046 | D7: Ae 6/6 | E7: 11493 | F7: grün | G7: DC | I7: Sissach
A8: Lima | B8: 208046 | D8: Ae 6/6 | E8: 11520 | F8: grün | G8: DC | I8: Langnau i.E.
A9: Lima | B9: 208048 | D9: Ae 6/6 | E9: 11103 | F9: orange/weiss | G9: DC | I9: Fantasielok
A10: Lima | B10: 208147 | D10: Ae 6/6 | E10: 11424 | F10: grün | G10: DC | I10: Neuchâtel
C15: ANZAHL: | D15: =COUNTA(D4:D14) -> 6
A18: * = Betriebsnummern sind relativ, es wurden meistens mehrere Original-Loks umgemalt
A22: Auflistungen sind nach bestem Wissen und Gewissen erstellt. Falls Fehler gefunden werden, bitte melden: | I22: Mail an Roland Hausin
A24: =TOTAL!A20 -> © 2026 Roland Hausin

Sheet Märklin
A1: Märklin Ae 6/6 (Spur H0) | I1: =TODAY() -> 46138
A3: Hersteller | B3: Art.Nr.1 | C3: Typ | D3: Betriebsnr. | E3: Farbe | F3: AC/DC | G3: Motor | H3: Decoder | I3: Bemerkungen | J3: Bemerkungen 2
A5: Märklin | B5: 3050 | C5: Ae 6/6 | D5: 11414 | E5: grün | F5: AC | G5: LFCM | H5: Relais | I5: Kantonslok Bern | J5: auch diverse andere Wappen mit gleicher BN
A6: Märklin | B6: 3332 | C6: Ae 6/6 | D6: 11429 | E6: rot | F6: AC | G6: LFCM | H6: Relais | I6: Städtelok Altdorf
A7: Märklin | B7: 3336 | C7: Ae 6/6 | D7: 11425 | E7: rot | F7: AC | G7: DCM | H7: elekt. Umschalter | I7: Kantonslok Genève | J7: Sondermodelle 700 Jahre CH
A8: Märklin | B8: 3337 | C8: Ae 6/6 | D8: 11437 | E8: grün | F8: AC | G8: DCM | H8: elekt. Umschalter | I8: Städtelok Basel
A9: Märklin | B9: 3338 | C9: Ae 6/6 | D9: 11414 | E9: grün | F9: AC | G9: DCM | H9: elekt. Umschalter | I9: Kantonslok Bern | J9: Sondermodelle 700 Jahre CH
A10: Märklin | B10: 3338 | C10: Ae 6/6 | D10: 11414 | E10: grün | F10: AC | G10: DCM | H10: ESU V4 | I10: Kantonslok Bern | J10: Sondermodelle 700 Jahre CH, gealtert
A11: Märklin | B11: 3339 | C11: Ae 6/6 | D11: 11426 | E11: rot | F11: AC | G11: DCM | H11: elekt. Umschalter | I11: Städtelok Zürich
A12: Märklin | B12: 3350 | C12: Ae 6/6 | D12: 11439 | E12: grün | F12: AC | G12: LFCM | H12: elekt. Umschalter | I12: Städtelok Schaffhausen
A13: Märklin | B13: 3636 | C13: Ae 6/6 | D13: 11425 | E13: rot | F13: AC | G13: DCM | H13: 6080 | I13: Kantonslok Genève | J13: Sondermodelle 700 Jahre CH
A14: Märklin | B14: 3636 | C14: Ae 6/6 | D14: 11444 | E14: schwarz | F14: AC | G14: DCM | H14: 6080 | I14: Städtelok Aarau
A15: Märklin | B15: 3638 | C15: Ae 6/6 | D15: 11414 | E15: grün | F15: AC | G15: DCM | H15: 6080 | I15: Kantonslok Bern | J15: Sondermodelle 700 Jahre CH
A16: Märklin | B16: 3650 | C16: Ae 6/6 | D16: 11445 | E16: grün | F16: AC | G16: LFCM | H16: 6080 | I16: Städtelok Frauenfeld
A17: Märklin | B17: 3736 | C17: Ae 6/6 | D17: 11417 | E17: rot | F17: AC | G17: DCM | H17: 6090 | I17: Kantonslok Fribourg
A18: Märklin | B18: 3737 | C18: Ae 6/6 | D18: 11437 | E18: grün | F18: AC | G18: DCM | H18: 6080 | I18: Städtelok Basel
A19: Märklin | B19: 3739 | C19: Ae 6/6 | D19: 11426 | E19: rot | F19: AC | G19: DCM | H19: 6090 | I19: Städtelok Zürich
A20: Märklin | B20: 3850 | C20: Ae 6/6 | D20: 11414 | E20: grün | F20: DC | G20: DCM | I20: Kantonslok Bern
A21: Märklin | B21: 8350 | C21: Ae 6/6 | D21: 11414 | E21: grün | F21: DC | G21: DCM | I21: Kantonslok Bern
A22: Märklin | B22: 26532 | C22: Ae 6/6 | D22: 11428 | E22: grün | F22: AC | G22: DCM | H22: 60901 | I22: Städtelok Luzern | J22: Zugpackung Holztransport
A23: Märklin | B23: 28505 | C23: Ae 6/6 | D23: 11432 | E23: rot | F23: AC | G23: DCM | H23: Delta | I23: Städtelok Stans | J23: Zugpackung Zürcher Nahverkehr
A24: Märklin | B24: 29019 | C24: Ae 6/6 | D24: 11483 | E24: grün | F24: AC | G24: DCM | I24: Kantonslok Jura | J24: Mega Startset mit Re 4/4 IV und 2 MS2, vermutlich gar nicht produziert
A25: Märklin | B25: 29463 | C25: Ae 6/6 | D25: 11424 | E25: rot | F25: AC | G25: DCM | H25: mfx | I25: Kantonslok Neuchâtel | J25: Mega Startset mit Re 465 und CS2
A26: Märklin | B26: 29484 | C26: Ae 610 | D26: 610 508-4 | E26: blau/rot | F26: AC | G26: DCM | H26: mfx | I26: Städtelok Wettingen | J26: Startset mit MS2
A27: Märklin | B27: 29680 | C27: Ae 6/6 | D27: 11404 | E27: grün | F27: AC | G27: DCM | H27: mfx | I27: Kantonslok Luzern
A28: Märklin | B28: 29814 | C28: Ae 6/6 | D28: 11409 | E28: grün | F28: AC | G28: DCM | H28: mfx | I28: Kantonslok Baselland | J28: Mega Startset mit Ae 8/14 und CS1
A29: Märklin | B29: 29850 | C29: Ae 6/6 | D29: 11453 | E29: grün | F29: AC | G29: DCM | H29: mfx | I29: Städtelok Arth-Goldau | J29: Startset mit Re 460 und Mobile Station
A30: Märklin | B30: 29851 | C30: Ae 6/6 | D30: 11453 | E30: grün | F30: AC | G30: DCM | H30: mfx | I30: Städtelok Arth-Goldau | J30: Startset mit Re 460 und CS1
A31: Märklin | B31: 30501.01 | C31: Ae 6/6 | D31: 11412 | E31: grün | F31: AC | H31: mfx | I31: Kantonslok Zürich | J31: Doppelpack Replika, HLA
A32: Märklin | B32: 30501.02 | C32: Ae 6/6 | D32: 11410 | E32: rot | F32: AC | H32: mfx | I32: Kantonslok Basel | J32: Doppelpack Replika, HLA
A33: Märklin | B33: 32325 | C33: Ae 6/6 | D33: 11436 | E33: grün | F33: AC | I33: Städtelok Stadt Solothurn | J33: Hütchentausch mit Trix-Modell
A34: Märklin | B34: 37360 | C34: Ae 610 | D34: 610 500-1 | E34: blau/rot | F34: AC | G34: DCM | H34: mfx | I34: Städtelok Landquart | J34: Cargo, 999 Exemplare 125 Jahre Gotthard
A35: Märklin | B35: 37361 | C35: Ae 6/6 | D35: 11422 | E35: rot | F35: AC | H35: mfx | I35: Kantonslok Vaud
A36: Märklin | B36: 37362.01 | C36: Ae 6/6 | D36: 11403 | E36: grün | F36: AC | G36: DCM | H36: mfx | I36: Kantonslok Schwyz | J36: Doppelpack 50 Jahre Ae 6/6
A37: Märklin | B37: 37362.02 | C37: Ae 6/6 | D37: 11520 | E37: rot | F37: AC | G37: DCM | H37: mfx | I37: Städtelok Langnau i.E. | J37: Doppelpack 50 Jahre Ae 6/6
A38: Märklin | B38: 37363 | C38: Ae 610 | D38: 610 492-1 | E38: blau/rot | F38: AC | G38: DCM | H38: mfx | I38: Städtelok Erstfeld | J38: Cargo, 999 Exemplare 125 Jahre Gotthard
A39: Märklin | B39: 37366 | C39: Ae 6/6 | D39: 11428 | E39: grün | F39: AC | G39: DCM | H39: 60901 | I39: Städtelok Luzern
A40: Märklin | B40: 37366 | C40: Ae 6/6 | D40: 11428 | E40: grün | F40: AC | G40: DCM | H40: 60901 | I40: Städtelok Luzern | J40: gealtert
A41: Märklin | B41: 37437 | C41: Ae 6/6 | D41: 11409 | E41: grün | F41: AC | G41: DCM | H41: mfx | I41: Kantonslok Basel-Land | J41: Mega Startset mit Ae 8/14 und CS1
A42: Märklin | B42: 38366 | C42: Ae 610 | D42: 610 519-1 | E42: blau/rot | F42: AC | G42: DCM | H42: mfx+ | I42: Städtelok Giubiasco | J42: Cargo
...

Sheet Messing
A1: Messing Ae 6/6 H0 | G1: =TODAY() -> 46138
A3: Hersteller | B3: Art.Nr.1 | C3: Typ | D3: Betriebsnr. | E3: Farbe | F3: AC/DC | G3: Decoder | H3: Bemerkungen
A5: Fulgurex | B5: 2252/0 | C5: Ae 6//6 | D5: 11401 | E5: grün | F5: DC | H5: Prototyp | I5: http://www.fulgurex.ch/modelle/h0/ae66/ae66-01.html
A6: Fulgurex | B6: 2252/1 | C6: Ae 6//6 | D6: 11402 | E6: grün | F6: DC | H6: Kantonslok Uri | I6: http://www.fulgurex.ch/catalogue/catalogue2012-2013.pdf
A7: Fulgurex | B7: 2252/2 | C7: Ae 6//6 | D7: 11404 | E7: grün | F7: DC | H7: Kantonslok Luzern | I7: http://www.fulgurex.ch/bulletindereservation/2252-dt.pdf
A8: Fulgurex | B8: 2252/4 | C8: Ae 6//6 | D8: 11410 | E8: grün | F8: DC | H8: Kantonslok Basel-Stadt
A9: Fulgurex | C9: Ae 6//6 | D9: 11414 | E9: grün | F9: DC | H9: Kantonslok Zürich
A10: Fulgurex | B10: 2252/3 | C10: Ae 6//6 | D10: 11415 | E10: grün | F10: DC | H10: Kantonslok Thurgau
A11: Fulgurex | C11: Ae 6//6 | D11: 11415 | E11: rot | F11: DC | H11: Kantonslok Thurgau
A12: Fulgurex | C12: Ae 6//6 | D12: 11417 | E12: grün | F12: DC | H12: Kantonslok Fribourg
A13: Fulgurex | B13: 2252/5 | C13: Ae 6//6 | D13: 11417 | E13: rot | F13: DC | H13: Kantonslok Fribourg
A14: Fulgurex | B14: 2252/6 | C14: Ae 6//6 | D14: 11433 | E14: grün | F14: DC | H14: Städtelok Glarus
A15: Fulgurex | C15: Ae 6//6 | D15: 11433 | E15: rot | F15: DC | H15: Städtelok Glarus
A16: Fulgurex | B16: 2252/8 | C16: Ae 6//6 | D16: 11455 | E16: rot | F16: DC | H16: Städtelok Biel
A17: Fulgurex | B17: 2252/7 | C17: Ae 6//6 | D17: 11483 | E17: grün | F17: DC | H17: Kantonslok Jura
A18: Fulgurex | C18: Ae 6//6 | D18: 11483 | E18: rot | F18: DC | H18: Kantonslok Jura
A20: Lemaco | B20: H0-007 | C20: Ae 6/6 | D20: 11425 | E20: grün | F20: DC | H20: Kantonslok Genève, x/200
A21: Lemaco | B21: H0-007/1 | C21: Ae 6/6 | D21: 11412 | E21: grün | F21: DC | H21: Kantonslok Zürich, x/225
A22: Lemaco | B22: H0-007/1 | C22: Ae 6//6 | D22: 11425 | E22: grün | F22: DC | H22: Kantonslok Genève
A23: Lemaco | B23: H0-007/2 | C23: Ae 6//6 | D23: 11422 | E23: rot | F23: DC | H23: Kantonslok Waadt
A24: Lemaco | B24: H0-007/2 | C24: Ae 6/6 | D24: 11422 | E24: rot | F24: DC | H24: Kantonslok Vaud,x/200
A25: Lemaco | B25: H0-008 | C25: Ae 6/6 | D25: 11507 | E25: grün | F25: DC | H25: Städteklok Wildegg, x/200
A26: Lemaco | B26: H0-008/1 | C26: Ae 6/6 | D26: 11429 | E26: rot | F26: DC | H26: Städtelok Altdorf, x/175
A27: Lemaco | B27: H0-012/1 | C27: Ae 6//6 | D27: 11472 | E27: rot | F27: DC | H27: Städtelok Brig
B30: TOTAL: | C30: =COUNTA(C4:C29) -> 22
B34: = verifiziert
A36: Auflistungen sind nach bestem Wissen und Gewissen erstellt. Falls Fehler gefunden werden, bitte melden: | H36: Mail an Roland Hausin
A38: =TOTAL!A20 -> © 2026 Roland Hausin

Sheet PIKO
A1: PIKO Ae 6/6 | H1: =TODAY() -> 46138
A3: Hersteller | B3: Art.Nr.1 | C3: Art.Nr.2 | D3: Typ | E3: Betriebsnr. | F3: Farbe | G3: AC/DC | H3: Decoder | I3: Bemerkungen
A5: Piko | B5: 31532 | D5: Ae 610 | E5: 610 487-1 | F5: blau/rot | G5: DC | I5: Cargo Langenthal, noch nicht ausgeliefert
A6: Piko | B6: 31536 | D6: Ae 6/6 | E6: 11447 | F6: grün | G6: DC | I6: Städtelok Lausanne, noch nicht ausgeliefert
A7: Piko | B7: 97200 | D7: Ae 6/6 | E7: 11401 | F7: grün | G7: DC | I7: Kantonslok Ticino
A8: Piko | B8: 97202 | D8: Ae 6/6 | E8: 11401 | F8: grün | G8: DC Sond | I8: Kantonslok Ticino
A9: Piko | B9: 97203 | D9: Ae 6/6 | E9: 11401 | F9: grün | G9: AC Sound | I9: Kantonslok Ticino
A10: Piko | B10: 97204 | D10: Ae 6/6 | E10: 11485 | F10: rot | G10: DC | I10: Städtelok Thun
A11: Piko | B11: 97205 | D11: Ae 6/6 | E11: 11485 | F11: rot | G11: DC Sound | I11: Städtelok Thun
A12: Piko | B12: 97206 | D12: Ae 6/6 | E12: 11485 | F12: rot | G12: AC Sound | I12: Städtelok Thun
A13: Piko | B13: 97207 | D13: Ae 6/6 | E13: 11417 | F13: rot | G13: DC | I13: Kantonslok Fribourg
A14: Piko | B14: 97208 | D14: Ae 6/6 | E14: 11417 | F14: rot | G14: DC Sound | I14: Kantonslok Fribourg
A15: Piko | B15: 97209 | D15: Ae 6/6 | E15: 11417 | F15: rot | G15: AC Sound | I15: Kantonslok Fribourg
A16: Piko | B16: 97210 | D16: Ae 6/6 | E16: 11465 | F16: grün | G16: DC | I16: Städtelok Oerlikon
A17: Piko | B17: 97211 | D17: Ae 6/6 | E17: 11465 | F17: grün | G17: DC Sound | I17: Städtelok Oerlikon
... A21: Piko | B21: 97215 | D21: Ae 6/6 | E21: 11409 | F21: grün | G21: AC Sound | I21: Kantonslok Basel-Land
A22: Piko | B22: 97216 | D22: Ae 610 | E22: 610 519-1 | F22: blau/rot | G22: DC | I22: Cargo Giubiasco
A23: Piko | B23: 97217 | D23: Ae 610 | E23: 610 519-1 | F23: blau/rot | G23: DC Sound | I23: Cargo Giubiasco
A24: Piko | B24: 97218 | D24: Ae 610 | E24: 610 519-1 | F24: blau/rot | G24: AC Sound | I24: Cargo Giubiasco
A25: Piko | B25: 97219 | D25: Ae 6/6 | E25: 11402 | F25: grün | G25: DC | I25: Kantonslok Uri
A26: Piko | B26: 97220 | D26: Ae 6/6 | E26: 11402 | F26: grün | G26: DC Sond | I26: Kantonslok Uri
A27: Piko | B27: 97221 | D27: Ae 6/6 | E27: 11401 | F27: grün | G27: AC Sound | I27: Kantonslok Uri
C31: ANZAHL: | D31: =COUNTA(D4:D30) -> 23
B35: = verifiziert
A37: * = Betriebsnummern sind relativ, es wurden meistens mehrere Original-Loks umgemalt
A40: Auflistungen sind nach bestem Wissen und Gewissen erstellt. Falls Fehler gefunden werden, bitte melden: | H40: Mail an Roland Hausin
A42: =TOTAL!A20 -> © 2026 Roland Hausin

Sheet ROCO
A1: Roco Ae 6/6 | G1: =TODAY() -> 46138
A3: Hersteller | B3: Art.Nr.1 | C3: Typ | D3: Betriebsnr. | E3: Farbe | F3: AC/DC | G3: Decoder | H3: Bemerkungen
A5: Roco | B5: 1682 | C5: Ae 6/6 | D5: ohne | E5: grün | F5: DC | H5: ohne Wappen und Nr.
A6: Roco | B6: 4195 | C6: Ae 6/6 | D6: 11466 | E6: grün | F6: DC | H6: 10 verschiedene Wappen & Nummern beiliegend
A7: Roco | B7: 41343 | C7: Ae 610 | D7: 610 489-7 | E7: blau/rot | F7: DCC | H7: Startset Cargo Airolo
A8: Roco | B8: 43512 | C8: Ae 6/6 | E8: grün | F8: DC | H8: 10 verschiedene Wappen & Nummern beiliegend
A9: Roco | B9: 43513 | C9: Ae 6/6 | E9: grün | F9: DC | H9: 10 verschiedene Wappen & Nummern beiliegend
A10: Roco | B10: 43535 | C10: Ae 6/6 | D10: 11450 | E10: grün | F10: DC | H10: 10 verschiedene Wappen & Nummern beiliegend
A11: Roco | B11: 43535.1 | C11: Ae 6/6 | D11: 11427 | E11: grün | F11: DC | H11: Stadt Bern, Seetal-Warnstreifen
A12: Roco | B12: 43536 | C12: Ae 6/6 | E12: rot | F12: DC | H12: 10 verschiedene Wappen & Nummern beiliegend
A13: Roco | B13: 43696 | C13: Ae 6/6 | D13: 11425 | E13: grün | F13: DC | H13: Kantonslok Genève
A14: Roco | B14: 43697 | C14: Ae 6/6 | D14: 11458 | E14: grün | F14: DC | H14: Städtelok Rorschach
A15: Roco | B15: 43698 | C15: Ae 6/6 | D15: 11423 | E15: rot | F15: DC | H15: Kantonslok Wallis
A16: Roco | B16: 43699 | C16: Ae 6/6 | D16: 11454 | E16: rot | F16: DC | H16: Städtelok Yverdon
A17: Roco | B17: 43852 | C17: Ae 6/6 | D17: 11454 | E17: rot | F17: AC | H17: Städtelok Yverdon
A18: Roco | B18: 43863 | C18: Ae 6/6 | D18: 11423 | E18: rot | F18: AC | H18: Kantonslok Graubünden
A19: Roco | B19: 43937 | C19: Ae 6/6 | D19: 11450 | E19: rot | F19: AC | H19: 10 verschiedene Wappen & Nummern beiliegend
A20: Roco | B20: 43938 | C20: Ae 6/6 | D20: 11450, 11442 | E20: rot | F20: AC | H20: Stadt St.Gallen, 10 verschiedene Wappen & Nummern beiliegend
A21: Roco | B21: 43986 | C21: Ae 6/6 | D21: 11425 | E21: grün | F21: AC | H21: Kantonslok Genève
A22: Roco | B22: 43987 | C22: Ae 6/6 | D22: 11458 | E22: grün | F22: AC | H22: Städtelok Rorschach
A23: Roco | B23: 51296 | C23: Ae 6/6 | D23: 11416 | E23: rot | F23: DCC | H23: Kantonslok Glarus, aus Startset
A24: Roco | B24: 52660 | C24: Ae 6/6 | D24: 11406 | E24: grün | F24: DC | H24: Kantonslok Obwalden
A25: Roco | B25: 52662 | C25: Ae 610 | D25: 610 500-1 | E25: blau/rot | F25: DC | H25: Cargo Landquart
A26: Roco | B26: 58660 | C26: Ae 6/6 | D26: 11406 | E26: grün | F26: AC | H26: Kantonslok Obwalden
A27: Roco | B27: 58662 | C27: Ae 610 | D27: 610 500-1 | E27: blau/rot | F27: AC | H27: Cargo Landquart
A28: Roco | B28: 62585 | C28: Ae 610 | D28: 610 439-2 | E28: blau/rot | F28: DC | H28: Cargo Schaffhausen
A29: Roco | B29: 62635 | C29: Ae 6/6 | D29: 11424 | E29: rot | F29: DC | H29: Kantonslok Neuchâtel
A30: Roco | B30: 62636 | C30: Ae 6/6 | D30: 11415 | E30: grün | F30: DC | H30: Kantonslok Thurgau
A31: Roco | B31: 62637 | C31: Ae 610 | D31: 610 500-1 | E31: blau/rot | F31: DC | H31: Cargo Landquart
A32: Roco | B32: 62642 | C32: Ae 6/6 | D32: 11423 | E32: rot | F32: DC | H32: Kantonslok Wallis
A33: Roco | B33: 63770 | C33: Ae 610 | D33: 610 439-2 | E33: blau/rot | F33: DC | H33: Cargo Erstfeld
A34: Roco | B34: 63770.1 | C34: Ae 610 | D34: 610 463-2 | E34: blau/rot | F34: DC | H34: Cargo Göschenen
A35: Roco | B35: 63735 | C35: Ae 6/6 | D35: 11609 | E35: grün | F35: DC | H35: Städtelok Uzwil
A36: Roco | B36: 63735.1 | C36: Ae 6/6 | D36: 11688 | E36: grün | F36: DC | H36: Städtelok Linthal
A37: Roco | B37: 63878 | C37: Ae 6/6 | D37: 11421 | E37: grün | F37: DC | H37: Kantonslok Graubünden
A38: Roco | B38: 68585 | C38: Ae 610 | D38: 610 439-2 | E38: blau/rot | F38: AC | H38: Cargo Schaffhausen
A39: Roco | B39: 68635 | C39: Ae 6/6 | D39: 11424 | E39: rot | F39: AC | H39: Kantonslok Neuchâtel
A40: Roco | B40: 68636 | C40: Ae 6/6 | D40: 11415 | E40: grün | F40: AC | H40: Kantonslok Thurgau
A41: Roco | B41: 68637 | C41: Ae 610 | D41: 610 489-7 | E41: blau/rot | F41: DCC | G41: Sound | H41: Cargo Airolo
A42: Roco | B42: 68642 | C42: Ae 6/6 | D42: 11423 | E42: rot | F42: AC | H42: Kantonslok Wallis
...

Sheet Trix
A1: Trix Ae 6/6 (Spur H0, DC) | H1: =TODAY() -> 46138
A3: Hersteller | B3: Art.Nr.1 | C3: Art.Nr.2 | D3: Typ | E3: Betriebsnr. | F3: Farbe | G3: AC/DC | H3: Decoder | I3: Bemerkungen
A5: Trix | B5: 22775 | D5: Ae 610 | E5: 610 500-1 | F5: blau/rot | G5: DC | H5: mfx | I5: Städtelok Landquart, Cargo
A6: Trix | B6: 25666 | D6: Ae 6/6 | E6: 11421 | F6: grün | G6: DC | H6: mfx | I6: Kantonslok Graubünden
A7: Trix | B7: 25667 | D7: Ae 610 | E7: 610 519-1 | F7: blau/rot | G7: DC | H7: mfx | I7: Städtelok Giubiasco | J7: Cargo
A8: Trix | B8: 32325 | D8: Ae 6/6 | E8: 11436 | F8: grün | G8: DC | I8: Städtelok Stadt Solothurn
C11: ANZAHL: | D11: =COUNTA(D4:D10) -> 4
A14: * = Betriebsnummern sind relativ, es wurden meistens mehrere Original-Loks umgemalt
A18: Auflistungen sind nach bestem Wissen und Gewissen erstellt. Falls Fehler gefunden werden, bitte melden: | I18: Mail an Roland Hausin
A20: =TOTAL!A20 -> © 2026 Roland Hausin

Sheet Andere
A1: Ae 6/6 andere Hersteller | G1: =TODAY() -> 46138
A3: Hersteller | B3: Art.Nr.1 | C3: Typ | D3: Betriebsnr. | E3: Farbe | F3: AC/DC | G3: Decoder | H3: Bemerkungen
A5: ESU | B5: 31530 | C5: Ae 6/6 | D5: 11402 | E5: grün | F5: AC | G5: LokSound 5 | H5: Kantonslok Uri | I5: https://www.esu.eu/produkte/engineering-edition/elektroloks-in-h0/baureihe-ae-66-in-h0/
A6: ESU | B6: 31530 | C6: Ae 6/6 | D6: 11402 | E6: grün | F6: DC | G6: Sound | H6: Kantonslok Uri
A7: ESU | B7: 31531 | C7: Ae 6/6 | D7: 11401 | E7: grün | F7: AC | G7: LokSound 5 | H7: Kantonslok Ticino
A8: ESU | B8: 31531 | C8: Ae 6/6 | D8: 11401 | E8: grün | F8: DC | G8: Sound | H8: Kantonslok Ticino
A9: ESU | B9: 31532 | C9: Ae 610 | D9: 610 487-1 | E9: blau/rot | F9: DC | G9: LokSound 5 | H9: Cargo Langenthal
A10: ESU | B10: 31532 | C10: Ae 610 | D10: 610 487-1 | E10: blau/rot | F10: AC | G10: LokSound 5 | H10: Cargo Langenthal
A11: ESU | B11: 31533 | C11: Ae 6/6 | D11: 11401 | E11: rot | F11: AC | G11: LokSound 5 | H11: Kantonslok Glarus
A12: ESU | B12: 31533 | C12: Ae 6/6 | D12: 11416 | E12: rot | F12: DC | G12: LokSound 5 | H12: Kantonslok Glarus
A13: ESU | B13: 31536 | C13: Ae 6/6 | D13: 11416 | E13: grün | F13: AC | G13: LokSound 5 | H13: Städtelok Lausanne
A14: ESU | B14: 31536 | C14: Ae 6/6 | D14: 11447 | E14: grün | F14: DC | G14: Sound | H14: Städtelok Lausanne
A16: FRIHO (Roco) | B16: 2210 | C16: Ae 6/6 | D16: 11402 | E16: grün | F16: DC | H16: Kantonslok Uri
A18: Kleinbahn | C18: Ae 6/6 | D18: 11404 | E18: grün | F18: DC | H18: Kantonslok Bern (Decals), 2-motorig
A19: Kleinbahn | C19: Ae 6/6 | D19: 11404 | E19: rot | F19: DC | H19: Kantonslok Bern (Decals)
A21: SWIMO | B21: 310 | C21: Ae 6/6 | D21: 11491 | E21: grün | F21: AC | H21: Basis Märklin 3050, nur ca. 20 Städteloks
A22: SWIMO | B22: 410 | C22: Ae 6/6 | D22: 11491 | E22: grün | F22: DC
B24: ANZAHL: | C24: =COUNTA(C4:C23) -> 15
A28: Auflistungen sind nach bestem Wissen und Gewissen erstellt. Falls Fehler gefunden werden, bitte melden: | I28: Mail an Roland Hausin
A30: =TOTAL!A20 -> © 2026 Roland Hausin
