Workbook

Sheet TOTAL
A1: Anzahl bekannte Ae 8/14 in Spur H0 | G1: =TODAY() -> 46235
D3: Original | E3: Custom
A5: Märklin | B5: =Märklin!C26 -> 15 | D5: =Märklin!D28 -> 13 | E5: =Märklin!D29 -> 2
A6: Messing | B6: =Messing!C34 -> 22
A7: Roco | B7: =ROCO!C18 -> 9
A8: Trix | B8: =Trix!C14 -> 8
A9: Andere | B9: =Andere!C11 -> 2
A11: TOTAL | B11: =SUM(B4:B10) -> 56 | E11: =SUM(E4:E10) -> 2
A14: Auflistungen sind nach bestem Wissen und Gewissen erstellt. Falls Fehler gefunden werden, bitte melden: | J14: Mail an Roland Hausin
A16: © 2026 Roland Hausin

Sheet Märklin
A1: Märklin Ae 8/14 (Spur H0) | H1: =TODAY() -> 46235
A3: Hersteller | B3: Art.Nr.1 | C3: Typ | D3: Betriebsnr. | E3: Farbe | F3: AC/DC | G3: Decoder | H3: Bemerkungen | I3: Bemerkungen 2
A5: Märklin | B5: 26539 | C5: Ae 8/14 | D5: 11801 | E5: grün | F5: AC | G5: sound | H5: 2 x 5-Pol DCM Motor | I5: Aus Startset
A6: Märklin | B6: 29814 | C6: Ae 8/14 | D6: 11801 | E6: grün | F6: AC | G6: sound | H6: 2 x 5-Pol DCM Motor | I6: Aus Startset
A7: Märklin | B7: 33591 | C7: Ae 8/14 | D7: 11801 | E7: grün | F7: AC | H7: 2 x DCM Motor
A8: Märklin | B8: 33592 | C8: Ae 8/14 | D8: 11801 | E8: silber | F8: AC | H8: 2 x 5-Pol DCM Motor
A9: Märklin | B9: 33593 | C9: Ae 8/14 | D9: 11801 | E9: grün | F9: AC | H9: 2 x DCM Motor
A10: Märklin | B10: 37591 | C10: Ae 8/14 | D10: 11801 | E10: grün | F10: AC | H10: 2 x DCM Motor
A11: Märklin | B11: 37592 | C11: Ae 8/14 | D11: 11801 | E11: silber | F11: AC | G11: C90 | H11: 2 Panto
A12: Märklin | B12: 37593 | C12: Ae 8/14 | D12: 11801 | E12: grün | F12: AC | H12: 2 x DCM Motor
A13: Märklin | B13: 37595 | C13: Ae 8/14 | D13: 11801 | E13: grün | F13: AC | G13: mfx | H13: 2 x DCM Motor | I13: 2 Panto
A14: Märklin | B14: 37596 | C14: Ae 8/14 | D14: 11801 | E14: grün | F14: AC | G14: mfx | H14: 2 x DCM Motor
A15: Märklin | B15: 38590 | C15: Ae 8/14 | D15: 11852 | E15: grün | F15: AC | G15: mfx+ | H15: Landilok, 2 x HLA | I15: 2 Panto
A16: Märklin | B16: 39590 | C16: Ae 8/14 | D16: 11801 | E16: hellgrün | F16: AC | G16: Sound | H16: 2 x SDS Motor
A17: Märklin | B17: 39591 | C17: Ae 8/14 | D17: 11801 | E17: braun | F17: AC | G17: Sound | H17: 2 x SDS Motor, x/749
A20: Custom painted
A22: Märklin/SOBA | C22: Ae 8/14 | D22: 11306 | E22: braun | F22: AC | G22: BLS, braun
A23: Märklin/SOBA | C23: Ae 8/14 | E23: gelb | F23: AC | G23: Käse
B26: TOTAL: | C26: =COUNTA(C4:C25) -> 15
B28: Original | D28: =COUNTA(C4:C19) -> 13
B29: Custom painted | D29: =COUNTA(C20:C25) -> 2
B31: = verifiziert
A33: Auflistungen sind nach bestem Wissen und Gewissen erstellt. Falls Fehler gefunden werden, bitte melden: | H33: Mail an Roland Hausin
A35: © 2026 Roland Hausin

Sheet Messing
A1: Messing Ae 4/6 Ae 8/14 (Spur H0) | G1: =TODAY() -> 46235
A3: Hersteller | B3: Art.Nr.1 | C3: Typ | D3: Betriebsnr. | E3: Farbe | F3: AC/DC | G3: Decoder | H3: Bemerkungen
A5: E.I.D. SA Genève | B5: 81400 C | C5: Ae 8/14 | D5: 11801 | E5: grün | F5: DC | H5: 4-motorig, Bausatz oder Fertigmodell
A7: Fulgurex | C7: Ae 4/6 | D7: 10812 | E7: grün | F7: DC
A8: Fulgurex | B8: 2054 | C8: Ae 4/6 | D8: 10810 | E8: grün | F8: DC
A10: Fulgurex | B10: 2022 | C10: Ae 8/14 | D10: 11801 | E10: grün | F10: DC | H10: 3 Panto
A11: Fulgurex | C11: Ae 8/14 | D11: 11801 | E11: grün | F11: DC | H11: 4 Panto, 2 Motoren
A12: Fulgurex | B12: 2058-1 | C12: Ae 8/14 | E12: hellgrün | F12: DC | H12: Landilok
A13: Fulgurex | B13: 2058-2 | C13: Ae 8/14 | D13: 11852 | E13: grün | F13: DC | H13: Landilok
A14: Fulgurex | C14: Ae 8/14 | E14: vergoldet | F14: DC | H14: Landilok
A16: Lemaco | B16: H0-022 | C16: Ae 4/6 | D16: 10809 | E16: grün | F16: DC
A17: Lemaco | B17: H0-023 | C17: Ae 8/14 | D17: 11801 | E17: grün | F17: DC | H17: 4 Panto, 200 Exemplare (1931)
A18: Lemaco | B18: H0-032 | C18: Ae 8/14 | D18: 11801 | E18: grün | F18: DC | H18: 4 Panto, 200 Exemplare (1932)
A19: Lemaco | C19: Ae 8/14 | D19: 11852 | E19: grün | F19: DC | H19: 4 Panto, Ae 6/6 Führerstände
A20: Lemaco | B20: H0-032/1 | C20: Ae 8/14 | D20: 11801 | E20: grün | F20: DC | H20: 4 Panto, 250 Exemplare (1960)
A22: Metropolitan | B22: 735 | C22: Ae 4/6 | D22: 10807 | E22: grün | F22: DC | H22: SBB
A23: Metropolitan | B23: 714 | C23: Ae 8/14 | D23: 11801 | E23: grün | F23: DC
A24: Metropolitan | B24: 728 | C24: Ae 8/14 | D24: 11852 | E24: hellgrün | F24: DC | H24: Landilok
A25: Metropolitan | B25: 741 | C25: Ae 8/14 | D25: 11801 | E25: grün | F25: DC
A26: Metropolitan | B26: 741 | C26: Ae 8/14 | D26: 11851 | E26: grün | F26: DC
A27: Metropolitan | B27: 796 | C27: Ae 8/14 | D27: 11801 | E27: grün | F27: DC
A29: Morep/mtr | B29: 23 | C29: Ae 8/14 | D29: 11801 | E29: grün | F29: DC | H29: 2 x Faulhaber
A30: Morep/mtr | B30: 30W | C30: Ae 4/6 | D30: 10811 | E30: grün | F30: AC
A31: Morep/mtr | B31: 30W | C31: Ae 4/6 | D31: 10812 | E31: grün | F31: AC
B34: TOTAL: | C34: =COUNTA(C4:C33) -> 22
A37: Auflistungen sind nach bestem Wissen und Gewissen erstellt. Falls Fehler gefunden werden, bitte melden: | G37: Mail an Roland Hausin
A39: © 2026 Roland Hausin

Sheet ROCO
A1: Roco Ae 4/6 Ae 8/14 (Spur H0) | G1: =TODAY() -> 46235
A3: Hersteller | B3: Art.Nr.1 | C3: Typ | D3: Farbe | E3: Betriebsnr. | F3: AC/DC | G3: Decoder | H3: Bemerkungen
A5: Roco | B5: 63530 | D5: Ae 4/6 | E5: 10812 | F5: grün | G5: DCC
A6: Roco | B6: 68641 | D6: Ae 4/6 | E6: 10804 | F6: grün | G6: AC
A7: Roco | B7: 78383 | C7: Ae 4/6 | D7: 10803 | E7: grün | F7: AC
A8: Roco | B8: 43770 | C8: Ae 8/14 | D8: grün | E8: 11852 | F8: DC | H8: Landilok
A9: Roco | B9: 43850 | C9: Ae 8/14 | D9: grün | E9: 11852 | F9: AC | H9: Landilok
A10: Roco | B10: 62638 | C10: Ae 8/14 | D10: grün | E10: 1185 | F10: DC
A11: Roco | B11: 63771 | C11: Ae 8/14 | D11: hellgrün | E11: 11852 | F11: DC | H11: Landilok
A12: Roco | B12: 69771 | C12: Ae 8/14 | D12: hellgrün | E12: 11852 | F12: DC | H12: Landilok
A13: Roco | B13: 71813 | C13: Ae 8/14 | D13: grün | E13: 11851 | F13: DC
A14: Roco | B14: 71814 | C14: Ae 8/14 | D14: grün | E14: 11851 | F14: DC | G14: Sound
A15: Roco | B15: 79814 | C15: Ae 8/14 | D15: grün | E15: 11851 | F15: AC | G15: Sound
B18: ANZAHL: | C18: =COUNTA(C4:C17) -> 9
A24: * = Betriebsnummern sind relativ, es wurden meistens mehrere Original-Loks umgemalt
A27: Auflistungen sind nach bestem Wissen und Gewissen erstellt. Falls Fehler gefunden werden, bitte melden: | H27: Mail an Roland Hausin
A29: © 2026 Roland Hausin

Sheet Trix
A1: Trix Ae 8/14 (Spur H0) | G1: =TODAY() -> 46235
A3: Hersteller | B3: Art.Nr.1 | C3: Typ | D3: Farbe | E3: Betriebsnr. | F3: AC/DC | G3: Decoder | H3: Bemerkungen
A5: Trix | B5: 12713 | C5: Ae 8/14 | D5: grün | E5: 11801 | F5: DC | H5: Handarbeitsmodell
A6: Trix | B6: 22339 | C6: Ae 8/14 | D6: hellgrün | E6: 11801 | F6: DC | H6: 2 x DC Motor
A7: Trix | B7: 22397 | C7: Ae 8/14 | D7: grün | E7: 11801 | F7: DC | G7: mfx
A8: Trix | B8: 22362 | C8: Ae 8/14 | D8: hellgrün | E8: 11801 | F8: DC | H8: 2 x 5-Pol DCM Motor
A9: Trix | B9: 22580 | C9: Ae 8/14 | D9: grün | E9: 11801 | F9: DC | H9: 2 x 5-Pol DCM Motor
A10: Trix | B10: 22587 | C10: Ae 8/14 | D10: grün | E10: 11801 | F10: DC | H10: 2 x 5-Pol DCM Motor
A11: Trix | B11: 22590 | C11: Ae 8/14 | D11: grün | E11: 11852 | F11: DC
A12: Trix | C12: Ae 8/14 | D12: grün | E12: 11801 | F12: DC | H12: 3 Panto, Fine Art
B14: ANZAHL: | C14: =COUNTA(C4:C13) -> 8
A17: * = Betriebsnummern sind relativ, es wurden meistens mehrere Original-Loks umgemalt
B19: = verifiziert
A21: Auflistungen sind nach bestem Wissen und Gewissen erstellt. Falls Fehler gefunden werden, bitte melden: | I21: Mail an Roland Hausin
A23: © 2026 Roland Hausin

Sheet Andere
A1: Ae 8/14 (Spur H0) andere Hersteller | G1: =TODAY() -> 46235
A3: Hersteller | B3: Art.Nr.1 | C3: Typ | D3: Farbe | E3: Betriebsnr. | F3: AC/DC | G3: Decoder | H3: Bemerkungen
A5: mtr | B5: 23 | C5: Ae 8/14 | D5: grün | E5: 11801 | F5: DC | H5: 2 x Faulhaber Motor
A7: Swisstoys | C7: Ae 8/14 | D7: grün | E7: 11801 | F7: DC | H7: x/10
B11: ANZAHL: | C11: =COUNTA(C4:C10) -> 2
B13: = verifiziert
A15: Auflistungen sind nach bestem Wissen und Gewissen erstellt. Falls Fehler gefunden werden, bitte melden: | H15: Mail an Roland Hausin
A17: © 2026 Roland Hausin
