Workbook

Sheet TOTAL
A1: Anzahl bekannte Dampfloks in Spur H0 | G1: =TODAY() -> 46201
D3: Original | E3: Custom
A5: Fleischmann | B5: =Fleischmann!C10 -> 1
A6: Märklin | B6: =Märklin!C30 -> 20 | D6: =Märklin!D32 -> 17 | E6: =Märklin!D33 -> 3
A7: Messing | B7: =Messing!C86 -> 74
A8: Roco | B8: =ROCO!C19 -> 13
A9: Trix | B9: =Trix!C11 -> 5
A10: Andere | B10: =Andere!C43 -> 35
A12: TOTAL | B12: =SUM(B4:B11) -> 148
A16: Auflistungen sind nach bestem Wissen und Gewissen erstellt. Falls Fehler gefunden werden, bitte melden: | I16: Mail an Roland Hausin
A18: © 2026 Roland Hausin
A22: Typen | B22: 141 R
B23: A 3/5
B24: B 3/4
B25: C 5/6
B26: D 2/4
B27: D 2x2/2 Mallet
B28: D4T
B29: E 3/3
B30: E 4/4
B31: Eb 3/5
B32: Ec 4/6

Sheet Fleischmann
A1: Fleischmann Dampfloks | G1: =TODAY() -> 46201
A3: Hersteller | B3: Art.Nr.1 | C3: Typ | D3: Betriebsnr. | E3: Farbe | F3: AC/DC | G3: Decoder | H3: Bemerkungen
A5: Fleischmann | B5: 874008 | C5: Tunnel-Putz | D5: 8172 | E5: schwarz | F5: DC | H5: Tunnelputzzug
B10: ANZAHL: | C10: =COUNTA(C4:C9) -> 1
B13: = verifiziert
A17: Auflistungen sind nach bestem Wissen und Gewissen erstellt. Falls Fehler gefunden werden, bitte melden: | H17: Mail an Roland Hausin
A19: © 2025 Roland Hausin

Sheet Märklin
A1: Märklin Dampfloks | H1: =TODAY() -> 46201
A3: Hersteller | B3: Art.Nr.1 | C3: Typ | D3: Betriebsnr. | E3: Farbe | F3: AC/DC | G3: Decoder | H3: Bemerkungen
A5: Märklin | B5: 26471 | C5: D 2/4 | E5: grün/schwarz | F5: AC | G5: 6090 | H5: Spanisch-Brötli-Bahn mit 4 Anhänger
A6: Märklin | B6: 28471 | C6: D 2/4 | D6: Limmat | E6: grün/schwarz | F6: AC | G6: 6090 | H6: Spanisch-Brötli-Bahn mit 4 Anhänger
A7: Märklin | B7: 29216 | C7: E 3/3 | D7: 8500 | E7: schwarz | F7: AC | G7: mfx+ | H7: Tigerli
A8: Märklin | B8: 36473 | C8: D 2/4 | D8: 3 | E8: grün/schwarz | F8: AC | G8: mfx+ | H8: SNB, Rhein
A9: Märklin | B9: 37131 | C9: Eb 3/5 | D9: 5818 | E9: schwarz | F9: AC | G9: mfx+ | H9: SBB
A10: Märklin | B10: 37136 | C10: Eb 3/5 | D10: 5812 | E10: schwarz | F10: AC | G10: mfx+ | H10: SBB
A11: Märklin | B11: 37137 | C11: Eb 3/5 | D11: 5804 | E11: schwarz | F11: AC | G11: mfx+ | H11: SBB
A12: Märklin | B12: 37146 | C12: E 3/3 | D12: 8500 | E12: schwarz | F12: AC | G12: mfx+ | H12: Tigerli
A13: Märklin | B13: 37147 | C13: E 3/3 | D13: 8481 | E13: grün | F13: AC | G13: mfx+ | H13: Feldschlösschen
A14: Märklin | B14: 37191 | C14: Eb 3/5 | D14: 5815 | E14: schwarz | F14: AC | G14: mfx+ | H14: SBB
A15: Märklin | B15: 37195 | C15: Eb 3/5 | D15: 5807 | E15: schwarz | F15: AC | G15: mfx+ | H15: SBB
A16: Märklin | B16: 38141 | C16: 141 R | D16: 1244 | E16: grün/schwarz | F16: AC | G16: mfx+ | H16: SNCF Dampf-Lok (CH Musemslok)
A17: Märklin | B17: 39241 | C17: 241 A | D17: 241-A-65 | E17: schwarz | F17: AC | G17: mfx+ | H17: SBB
A18: Märklin | B18: 39250 | C18: C 5/6 | D18: 2969 | E18: schwarz | F18: AC | G18: mfx+ | H18: SBB Historic
A19: Märklin | B19: 39251 | C19: C 5/6 | D19: 2976 | E19: schwarz | F19: AC | G19: mfx+ | H19: SBB Historic
A20: Märklin | B20: 39252 | C20: C 5/6 | D20: 2977 | E20: schwarz | F20: AC | G20: mfx+ | H20: SBB Historic
A21: Märklin/Scholz | B21: AH95 | C21: Ec 4/6 | D21: 62 | E21: schwarz | F21: AC | H21: BLS
A24: Custom painted
A26: Märklin/SOBA | C26: E 3/3 | D26: 8500 | E26: gelb | F26: AC | H26: Käse, Tigerli
A27: Märklin/SOBA | C27: E 3/3 | D27: 8500 | E27: schwarz/blau | F27: AC | H27: Reisslack, Tigerli
A28: Märklin/SOBA | C28: Eb 3/5 | D28: 5810 | E28: blau/schwarz | F28: AC | H28: ST
B30: TOTAL: | C30: =COUNTA(C4:C29) -> 20
B32: Orginal | D32: =COUNTA(C4:C23) -> 17
B33: Custom painted | D33: =COUNTA(C25:C29) -> 3
B35: = verifiziert
A37: Auflistungen sind nach bestem Wissen und Gewissen erstellt. Falls Fehler gefunden werden, bitte melden: | H37: Mail an Roland Hausin
A39: © 2025 Roland Hausin

Sheet Messing
A1: Messing Dampfloks | G1: =TODAY() -> 46201
A3: Hersteller | B3: Art.Nr.1 | C3: Typ | D3: Betriebsnr. | E3: Farbe | F3: AC/DC | G3: Decoder | H3: Bemerkungen
A5: Fulgurex | B5: 2011 | C5: A 3/5 | D5: 705 | E5: schwarz | F5: DC | G5: digital | H5: SBB
A6: Fulgurex | B6: 2008 | C6: E 3/3 | D6: 8487 | E6: schwarz | F6: DC | H6: SBB
A7: Fulgurex | C7: E 3/3 | D7: 8512 | E7: schwarz | F7: DC | H7: SBB
A8: Fulgurex | C8: E 3/3 | D8: 8489 | E8: schwarz | F8: DC | G8: digital | H8: SBB
A9: Fulgurex | B9: 2021 | C9: C 5/6 | D9: 2978 | E9: schwarz | F9: DC | H9: SBB
A10: Fulgurex | B10: 2023 | C10: 141 P | E10: schwarz | F10: DC | H10: SNCF
A11: Fulgurex | B11: 2031 | C11: 241 A | E11: grün | F11: DC | H11: SNCF
A12: Fulgurex | B12: 2038 | C12: Eb 3/5 | E12: schwarz | F12: DC | H12: SBB
A13: Fulgurex | B13: 2039 | C13: E 4/4 | E13: schwarz | F13: DC | H13: SBB
A14: Fulgurex | B14: 2040 | C14: C 4/5 | D14: 26xx | E14: schwarz | F14: DC | H14: SBB
A15: Fulgurex | B15: 2042 | C15: B 3/4 | D15: 1367 | E15: schwarz | F15: DC | H15: SBB
A16: Fulgurex | B16: 2044 | C16: C 4 | D16: 196 | E16: grün | F16: DC | H16: SCB
A17: Fulgurex | B17: 2045 | C17: Ed 2x2/2 | E17: schwarz | F17: DC | H17: SBB
A18: Fulgurex | B18: 2066 | C18: A 3/5 | D18: 2xx | E18: schwarz | F18: DC | H18: GB
A19: Fulgurex | B19: 2071 | C19: Ec 4/6 | E19: schwarz | F19: DC | H19: BLS
A20: Fulgurex | B20: 2098 | C20: A 3/5 | D20: 6xx | E20: schwarz | F20: DC | H20: SBB
A21: Fulgurex | B21: 2099 | C21: A 3/5 | D21: 9xx | E21: schwarz | F21: DC | H21: SBB, ex GB
A22: Fulgurex | B22: 2254 | C22: E 4/4 | D22: 8801 | E22: schwarz | F22: DC | G22: digital | H22: SBB
A23: Fulgurex | B23: 2278 | C23: A 3/5 | D23: 202 | E23: blau | F23: DC | G23: digital | H23: GB, Prototyp von ca. 1896
A24: Fulgurex | B24: 2281 | C24: D4T | D24: 169 | E24: blau | F24: DC | G24: digital | H24: SCB, ca. 1897
A25: Fulgurex | B25: 2282 | C25: D 2x2/2 Mallet | D25: 4603 | E25: blau | F25: DC | G25: digital | H25: SCB, ca. 1910
A26: Fulgurex | B26: 2516 | C26: A 3/5 | D26: 705 | E26: schwarz | F26: DC | G26: digital | H26: 3L=
A27: Fulgurex | B27: 2254/1 | C27: E 4/4 | D27: 8853 | E27: schwarz | F27: DC | G27: digital | H27: SBB
A28: Fulgurex | B28: 2254/2 | C28: E 4/4 | D28: 8855 | E28: schwarz | F28: DC | G28: digital | H28: SBB
A29: Fulgurex | B29: 2254/3 | C29: E 4/4 | D29: 8902 | E29: schwarz | F29: DC | G29: digital | H29: SBB
A30: Fulgurex | B30: 2254/4 | C30: E 4/4 | D30: 8903 | E30: schwarz | F30: DC | G30: digital | H30: SBB
A31: Fulgurex | B31: 2254/5 | C31: E 4/4 | D31: 8907 | E31: schwarz | F31: DC | G31: digital | H31: SBB
A32: Fulgurex | B32: 2254/6 | C32: E 4/4 | D32: 8910 | E32: schwarz | F32: DC | G32: digital | H32: SBB
A33: Fulgurex | B33: 2254/7 | C33: E 4/4 | D33: 8913 | E33: schwarz | F33: DC | G33: digital | H33: SBB
A34: Fulgurex | B34: 2254/8 | C34: E 4/4 | D34: 8901 | E34: schwarz | F34: DC | G34: digital | H34: SBB
A35: Fulgurex | B35: 2275/4 | C35: B 3/4 | D35: 1668 | E35: schwarz | F35: DC | G35: digital | H35: SBB
A36: Fulgurex | B36: 2275/5 | C36: B 3/4 | D36: 1367 | E36: schwarz | F36: DC | G36: digital | H36: SBB
A37: Fulgurex | B37: 2275/6 | C37: B 3/4 | D37: 1601 | E37: schwarz | F37: DC | G37: digital | H37: SBB
A38: Fulgurex | B38: 2278/1 | C38: A 3/5 | D38: 209 | E38: blau | F38: DC | G38: digital | H38: GB, ca. 1900
... A51: Fulgurex | B51: 2282/2 | C51: D 2x2/2 Mallet | D51: 4612 | E51: schwarz | F51: DC | G51: digital | H51: SCB, ca. 1923
A53: HRF | B53: 1654 | C53: Ea 3/6 | D53: 31 | E53: schwarz | F53: DC | H53: BN
A54: HRF | B54: 1653 | C54: Ea 3/6 | D54: 32 | E54: schwarz | F54: DC | H54: BN
A55: HRF | B55: 1658-2 | C55: Ec 3/5 | D55: 43 | E55: schwarz | F55: DC | H55: BLS (GTB)
...

Sheet ROCO
A1: Roco Dampfloks | G1: =TODAY() -> 46201
A3: Hersteller | B3: Art.Nr.1 | C3: Typ | D3: Betriebsnr. | E3: Farbe | F3: AC/DC | G3: Decoder | H3: Bemerkungen
A5: Roco | B5: 04111A | C5: C 5/6 | D5: 2978 | E5: schwarz | F5: DC | H5: Elefant
A6: Roco | B6: 14111A | C6: C 5/6 | D6: 2978 | E6: schwarz | F6: AC | H6: Elefant
A7: Roco | B7: 43200 | C7: C 5/6 | D7: 2978 | E7: schwarz | F7: DC | H7: Elefant
A8: Roco | B8: 43201 | C8: C 5/6 | D8: 2976 | E8: schwarz | F8: DC | H8: Elefant
A9: Roco | B9: 43335 | C9: C 5/6 | D9: 2978 | E9: hellgrau/schwarz | F9: DC | H9: SBB Historic
A10: Roco | B10: 43336 | C10: C 5/6 | D10: 2969 | E10: hellgrau/schwarz | F10: DC | H10: SBB Historic
A11: Roco | B11: 43872 | C11: C 5/6 | D11: 2978 | E11: hellgrau/schwarz | F11: AC | G11: Sound | H11: SBB Historic
A12: Roco | B12: 43873 | C12: C 5/6 | D12: 2969 | E12: hellgrau/schwarz | F12: AC | G12: Sound | H12: SBB Historic
A13: Roco | B13: 43907 | C13: C 5/6 | E13: schwarz | F13: AC | G13: Sound | H13: SBB Historic
A14: Roco | B14: 61420 | C14: C 5/6 | D14: 2957 | E14: schwarz | F14: DC | H14: SBB, aus Set, 7-teilig
A15: Roco | B15: 63320 | C15: C 5/6 | D15: 2976 | E15: schwarz | F15: DC | H15: SBB, Öltender
A16: Roco/Friho | B16: LA C56 U | C16: C 5/6 | D16: 2976 | E16: schwarz | F16: DC | H16: SBB
A17: Roco/Friho | B17: LA C56 a | C17: C 5/6 | D17: 2976 | E17: schwarz | F17: DC | H17: SBB
B19: ANZAHL: | C19: =COUNTA(C4:C18) -> 13
B23: = verifiziert
A27: Auflistungen sind nach bestem Wissen und Gewissen erstellt. Falls Fehler gefunden werden, bitte melden: | H27: Mail an Roland Hausin
A29: © 2025 Roland Hausin

Sheet Trix
A1: Trix Dampfloks | G1: =TODAY() -> 46201
A3: Hersteller | B3: Art.Nr.1 | C3: Typ | D3: Betriebsnr. | E3: Farbe | F3: AC/DC | G3: Decoder | H3: Bemerkungen
A5: Trix | B5: 22309 | C5: D 2/4 | D5: 3 | E5: grün/schwarz | F5: DC | G5: mfx+ | H5: SNB, Rhein
A6: Trix | B6: 22567 | C6: Eb 3/5 | D6: 5818 | E6: schwarz | F6: DC | G6: mfx+ | H6: SBB
A7: Trix | B7: 22925 | C7: C 5/6 | D7: 2969 | E7: schwarz | F7: DC | G7: mfx+ | H7: SBB Historic
A8: Trix | B8: 22941 | C8: 241 A | D8: 241-A-65 | E8: schwarz | F8: DC | G8: mfx+ | H8: SBB
A9: Trix | B9: 25141 | C9: 141 R | D9: 1244 | E9: grün/schwarz | F9: DC | G9: mfx+ | H9: SNCF Dampf-Lok (CH Musemslok)
B11: ANZAHL: | C11: =COUNTA(C4:C10) -> 5
B14: = verifiziert
A18: Auflistungen sind nach bestem Wissen und Gewissen erstellt. Falls Fehler gefunden werden, bitte melden: | I18: Mail an Roland Hausin
A20: © 2025 Roland Hausin

Sheet Andere
A1: Dampfloks andere Hersteller | H1: =TODAY() -> 46201
A3: Hersteller | B3: Art.Nr.1 | C3: Typ | D3: Betriebsnr. | E3: Farbe | F3: AC/DC | G3: Decoder | H3: Bemerkungen
A5: Jouef | B5: A308C | C5: 141 R | E5: schwarz | F5: DC
A6: Jouef | B6: HJ2433S | C6: 141 R | D6: 1244 | E6: schwarz | F6: DC | G6: Sound | H6: Verein Mikado Brugg
A7: Jouef | B7: HJ2152 | C7: 141 R | D7: 446 | E7: schwarz | F7: AC | G7: Digital
A9: Liliput | B9: L103324 3351 | C9: E 3/3 | D9: 8481 | E9: grün | F9: DC | H9: Feldschlösschen
A10: Liliput | B10: L103334 3350 | C10: E 3/3 | D10: 8484 | E10: schwarz | F10: DC | H10: Tigerli
A11: Liliput | B11: L103344 | C11: E 3/3 | D11: 8478 | E11: schwarz | F11: DC | H11: Tigerli
A12: Liliput | B12: L10750 | C12: A 3/5 | D12: 604 | E12: schwarz | F12: DC | H12: SBB
A13: Liliput | B13: L103314 | C13: E 3/3 | D13: 8480 | E13: schwarz | F13: DC | H13: Tigerli
A14: Liliput | B14: L131390 | C14: E 4/4 | D14: 8855 | E14: schwarz | F14: DC | H14: SBB
A15: Liliput | B15: L131395 | C15: E 4/4 | D15: 8855 | E15: schwarz | F15: AC | H15: SBB
A16: Liliput | B16: L131950 | C16: B 3/4 | D16: 1359 | E16: schwarz | F16: DC | H16: SBB
A17: Liliput | B17: L131951 | C17: B 3/4 | D17: 1367 | E17: schwarz | F17: DC | H17: SBB
A18: Liliput | B18: L131952 | C18: B 3/4 | D18: 1364 | E18: schwarz | F18: DC | H18: SBB
A19: Liliput | B19: L131955 | C19: B 3/4 | D19: 1359 | E19: schwarz | F19: AC | H19: SBB
A20: Liliput | B20: L131955S | C20: B 3/4 | D20: 1359 | E20: schwarz | F20: AC | G20: Sound | H20: SBB
A21: Liliput | B21: L131956 | C21: B 3/4 | D21: 1367 | E21: schwarz | F21: AC | H21: SBB Historic
A22: Liliput | B22: L131956S | C22: B 3/4 | D22: 1367 | E22: schwarz | F22: AC | G22: Sound | H22: SBB Historic
A23: Liliput | B23: L131957 | C23: B 3/4 | D23: 1364 | E23: schwarz | F23: AC | H23: SBB
A24: Liliput | B24: L131957S | C24: B 3/4 | D24: 1364 | E24: schwarz | F24: AC | G24: Sound | H24: SBB
A25: Liliput | B25: L131958 | C25: B 3/4 | D25: 1361 | E25: schwarz | F25: DC | H25: SBB
A26: Liliput | B26: L131958S | C26: B 3/4 | D26: 1361 | E26: schwarz | F26: DC | G26: Sound | H26: SBB
A27: Liliput | B27: L131959 | C27: B 3/4 | D27: 1361 | E27: schwarz | F27: AC | H27: SBB
A28: Liliput | B28: L131959S | C28: B 3/4 | D28: 1361 | E28: schwarz | F28: AC | G28: Sound | H28: SBB
A29: Liliput | B29: L131960 | C29: B 3/4 | D29: 1350 | E29: schwarz | F29: DC | H29: SBB
A30: Liliput | B30: L131960S | C30: B 3/4 | D30: 1350 | E30: schwarz | F30: DC | G30: Sound | H30: SBB
A31: Liliput | B31: L131961 | C31: B 3/4 | D31: 1350 | E31: schwarz | F31: AC | H31: SBB
A32: Liliput | B32: L131961S | C32: B 3/4 | D32: 1350 | E32: schwarz | F32: AC | G32: Sound | H32: SBB
A33: Liliput | B33: L131964 | C33: B 3/4 | D33: 1357 | E33: schwarz | F33: DC | H33: SBB
A34: Liliput | B34: L131964S | C34: B 3/4 | D34: 1357 | E34: schwarz | F34: DCC | G34: Sound | H34: SBB
A35: Liliput | B35: L131965S | C35: B 3/4 | D35: 1357 | E35: schwarz | F35: AC | G35: Sound | H35: SBB
A36: Liliput | B36: L131980 | C36: A 3/5 | D36: 613 | E36: schwarz | F36: DC | G36: digital | H36: SBB
A37: Liliput | B37: L131985 | C37: A 3/5 | D37: 613 | E37: schwarz | F37: AC | H37: SBB
A39: SMF | B39: A308C | C39: E 4/4 | D39: 8854 | E39: schwarz | F39: DC | H39: SBB
A40: SMF | B40: A314 | C40: CZm 1/2 | D40: 31 | E40: grün | F40: DC | H40: UeBB
A41: SMF | C41: CZm 1/2 | D41: 8 | E41: grün | F41: DC | H41: DW
B43: ANZAHL: | C43: =COUNTA(C4:C42) -> 35
B45: = verifiziert
A47: Auflistungen sind nach bestem Wissen und Gewissen erstellt. Falls Fehler gefunden werden, bitte melden: | H47: Mail an Roland Hausin
...
