Workbook

Sheet TOTAL
A1: Anzahl bekannte Krokodile in Spur H0
B4: Total | D4: Original | E4: Custom painted
A6: Märklin | B6: =Märklin!C172 -> 149 | D6: =Märklin!D174 -> 123 | E6: =Märklin!D175 -> 26
A7: Messing | B7: =Messing!C65 -> 52
A8: Roco | B8: =ROCO!C62 -> 41 | D8: =ROCO!D64 -> 40 | E8: =ROCO!D65 -> 1
A9: Trix | B9: =Trix!C34 -> 23
A10: Andere | B10: =Andere!C20 -> 9
A12: TOTAL | B12: =SUM(B5:B11) -> 274 | D12: =SUM(D5:D11) -> 163 | E12: =SUM(E5:E11) -> 27
A16: Anmerkung RH:
A17: Der Hauptaugenmerk der in allen Tabellen aufgelisteten Modelle wurde auf die in der Schweiz verkehrenden Typen gerichtet.
A18: Dies wurde aber insbesondere bei den Traxxen und den Krokodilen nicht so konsequent ausgeführt, da wurde praktisch alles was gefunden werden konnte, zusammengetragen
A20: Auflistungen sind nach bestem Wissen und Gewissen erstellt. Falls Fehler gefunden werden, bitte melden: | J20: mailto:roland@hausin.com?subject=Angaben/Korrekturen zu H0-Loks
A22: © 2026 Roland Hausin
A26: Typen | B26: Be 6/8 II
B27: Be 6/8 III
B28: Ce 6/8 I
B29: Ce 6/8 II
B30: Ce 6/8 III
B31: De 6/6
B32: Fc 2x3/4

Sheet Märklin
A1: Märklin Krokodile H0 | I1: 45155
A3: Hersteller | B3: Art.Nr.1 | C3: Typ | D3: Betriebsnr. | E3: Farbe | F3: AC/DC | G3: Motor | H3: Decoder | I3: Bemerkungen
A5: Märklin | B5: 97 | C5: Be 6/8 III | E5: silber | F5: AC | G5: DCM | H5: Relais | I5: Technologie-Lok 1997
A6: Märklin | B6: 3015 | C6: Ce 6/8 | D6: 3015 | E6: grün | F6: AC | I6: diverse Varianten (1-11), Metall, 1947-1978
A7: Märklin | B7: 3015.01 | C7: Ce 6/8 | D7: CCS800 | E7: grün | F7: AC | I7: Metall, 1947
A8: Märklin | B8: 3015.02 | C8: Ce 6/8 | D8: CCS800 | E8: grün | F8: AC | I8: Metall, 1947-1948, Kuppelstangen mit Sechskantschrauben, Panto 4A
A9: Märklin | B9: 3015.03 | C9: Ce 6/8 | D9: CCS800 | E9: olivgrün | F9: AC | I9: Metall, 1948-1949
A10: Märklin | B10: 3015.04 | C10: Ce 6/8 | D10: CCS800 | E10: grün | F10: AC | I10: Metall, 1950, grosser Sandkasten. Die in den Führerständen befindlichen Ballastgewichten entfielen, Panto Typ 4B
A11: Märklin | B11: 3015.05 | C11: Ce 6/8 | D11: CCS800 | E11: grün | F11: AC | I11: Metall, 1951-1953, Stirnlampen von vorne montiert und die Lampenbügel wurden rund ausgeführt. Panto 5A bzw. 5B
A12: Märklin | B12: 3015.06 | C12: Ce 6/8 | D12: CCS800 | E12: grün | F12: AC | I12: Metall, 1954, CCS silbern
A13: Märklin | B13: 3015.07 | C13: Ce 6/8 | D13: CCS800 | E13: dunkelgrün | F13: AC | I13: Metall, 1955, Dach silbergrau lackiert. Panto 6.
A14: Märklin | B14: 3015.08 | C14: Ce 6/8 | D14: CCS800 | E14: grün | F14: AC | I14: Metall, 1956, unlackiert
A15: Märklin | B15: 3015.09 | C15: Ce 6/8 | D15: CCS800 | E15: grün | F15: AC | I15: Metall, 1957-1959
A16: Märklin | B16: 3015.1 | C16: Ce 6/8 | D16: 3015 | E16: blaugrün | F16: AC | G16: LFCM | H16: Relais | I16: Metall, 1959-1965
A17: Märklin | B17: 3015.11 | C17: Ce 6/8 | D17: 3015 | E17: tannengrün | F17: AC | G17: LFCM | H17: Relais | I17: Metall, 1965-1975, Dach silbern
A18: Märklin-Loki-Spengler | B18: 3015 | C18: Ce 6/8 | D18: 13305 | E18: grün | F18: AC | G18: LFCM | H18: Relais | I18: Metall, Umbau vermutlich Loki-Spengler Umnbau
A19: Märklin-Swisstoys | B19: 3015 | C19: Ce 6/8 | D19: 3015 | E19: braun | F19: AC | G19: LFCM | H19: Relais | I19: Metall, Fabrikationsjahr unbekannt
A20: Märklin-Swisstoys | B20: 3015 | C20: Ce 6/8 | D20: 3015 | E20: grün | F20: DC | G20: LFCM | H20: Relais | I20: Metall, Umbau auf DC
A21: Märklin-Swisstoys | B21: 3015 | C21: Ce 6/8 | D21: 3015 | E21: braun | F21: DC | G21: LFCM | H21: Relais | I21: Metall, Umbau auf DC
A22: Märklin | B22: 3056 | C22: Be 6/8 III | D22: 13303 | E22: braun | F22: AC | G22: DCM | H22: Relais | I22: Kunststoff Gehäuse, umgemaltes 3356.3?
A23: Märklin | B23: 3056 | C23: Ce 6/8 III | D23: 12251 | E23: braun | F23: AC | G23: DCM | H23: Relais | I23: Kunststoff Gehäuse, von SWIMO modifiziert
A24: Märklin | B24: 3056.1 | C24: Be 6/8 III | D24: 13302 | E24: grün | F24: AC | G24: DCM | H24: Relais | I24: Kunststoff Gehäuse, analog, rote Kunststoff Dach-Isolatoren
A25: Märklin | B25: 3056.2 | C25: Be 6/8 III | D25: 13302 | E25: grün | F25: AC | G25: DCM | H25: Relais | I25: Kunststoff Gehäuse, analog, Rahmen und Fahrgestell grau, 1972
A26: Märklin | B26: 3056.3 | C26: Be 6/8 III | D26: 13302 | E26: grün | F26: AC | G26: DCM | H26: Relais | I26: Kunststoff Gehäuse, analog, Chassis grau, Krokodil-Reise 1976, 50 Exemplare
A27: Märklin | B27: 3056.4 | C27: Be 6/8 III | D27: 13302 | E27: grün | F27: AC | G27: DCM | H27: Relais | I27: Kunststoff Gehäuse, analog, Fenster mit senkrechter Teilung, 1977
... A52: Märklin | B52: 3556.5 | C52: Be 6/8 | D52: 14305 | E52: vergoldet | F52: AC | G52: DCM 5* | H52: Elektr. U. | I52: Metall-Gehäuse, Metall-Technologieschau 1990
A53: Märklin | B53: 3652 | C53: Ce 6/8 III | D53: 14301 | E53: braun | F53: AC | G53: DCM | H53: 6080 | I53: C80-Decoder, Metall, 1987-1990
A54: Märklin | B54: 3656 | C54: Be 6/8 III | D54: 14305 | E54: grün | F54: AC | G54: DCM | H54: 6080 | I54: C80-Decoder, Metall, 1989-1993
A55: Märklin | B55: 3756.01 | C55: Ce 6/8 III | D55: 14305 | E55: blaugrün | F55: AC | G55: DCM | H55: 6090 | I55: C90-Decoder, Metall-Gehäuse, HLA, 1993
A56: Märklin | B56: 3756.1 | C56: Be 6/8 III | D56: 13305 | E56: grün | F56: AC | G56: DCM | H56: 6090 | I56: Metall-Gehäuse, HLA, 1994-2004
A57: Märklin | B57: 3756.15 | C57: Be 6/8 III | D57: 13304 | E57: grün, gealtert | F57: AC | G57: DCM | H57: 6090 | I57: Metall-Gehäuse, Haltestangen grau, 1993, aus Sonderserie 26730
A58: Märklin | B58: 3915 | C58: Be 6/8 | D58: 3015 | E58: tannengrün | F58: AC | G58: LCFM | H58: Relais | I58: Metall-Gehäuse, 1976-1979, wie 3015.11, aber nur als Teilesatz
A59: Märklin-Hamo | B59: 8356 | C59: Be 6/8 III | D59: 13302 | E59: grün | F59: DC | I59: Kunststoff Gehäuse
A60: Märklin-Hamo | B60: 8356 | C60: Be 6/8 III | D60: 13318 | E60: grün | F60: DC | I60: Kunststoff Gehäuse
A61: Märklin-Hamo | B61: 8356 | C61: Be 6/8 III | D61: 14303 | E61: braun | F61: DC | I61: Kunststoff Gehäuse
A62: Märklin | B62: 18044 | C62: Ce 6/8 | D62: CCS 700 | E62: schwarz | F62: AC | H62: mfx+ | I62: Replika der CCS700
A63: Märklin | B63: 18045 | C63: Ce 6/8 | D63: CCS 700 | E63: grün | F63: AC | H63: mfx+ | I63: Replika der CCS800
A64: Märklin | B64: 26591 | C64: Ce 6/8 III | D64: 14309 | E64: braun, gealtert | F64: AC | I64: Zugpackung mit gealterten Güterwagen, 2000 Exemplare
A65: Märklin | B65: 26730 | C65: Be 6/8 | D65: 13304 | E65: grün | F65: AC | G65: DCM | H65: 6090x | I65: Zugpackung, C90-Decoder
A66: Märklin | B66: 26911 | C66: Ce 6/8 III | D66: 14911 | E66: gold | F66: AC | I66: Zugpackung Porsche mit 2 Autotransportwagen und 4 Porsch 911, 911 Exemplare
...

Sheet Messing
A1: Messing Krokodile H0 | G1: 45151
A3: Hersteller | B3: Art.Nr.1 | C3: Typ | D3: Betriebsnr. | E3: Farbe | F3: AC/DC | G3: Decoder | H3: Bemerkungen
A5: EMB | C5: Be 6/8 | D5: 13254 | E5: vergoldet | F5: DC | H5: nur auf Bestellung
A6: EMB | C6: Be 6/8 | D6: 13254 | E6: braun | F6: DC
A7: EMB | C7: Be 6/8 | D7: 13254 | E7: grün | F7: DC
A8: EMB | C8: Be 6/8 | D8: 13255 | E8: vergoldet | F8: DC | H8: nur auf Bestellung
A9: EMB | C9: Be 6/8 | D9: 13255 | E9: braun | F9: DC
A10: EMB | C10: Be 6/8 | D10: 13255 | E10: grün | F10: DC
A12: Fulgurex | B12: 2065 | C12: Ce 6/8 I | D12: 14201 | E12: braun | F12: DC | H12: Köfferli-Lok
A13: Fulgurex | B13: 1985 | C13: Ce 6/8 II | F13: DC
A14: Fulgurex | B14: 2005 | C14: Ce 6/8 | D14: 14284 | E14: grün | F14: DC
A15: Fulgurex | B15: 2005A | C15: Ce 6/8 | D15: 14272 | E15: grün | F15: DC
A16: Fulgurex | B16: 2005B | C16: Ce 6/8 | D16: 14272 | E16: braun | F16: DC
A17: Fulgurex | B17: 2066 | C17: Ce 6/8 III | D17: 14305 | E17: grün | F17: DC
A18: Fulgurex | C18: Ce 6/8 III | D18: 14302 | E18: braun | F18: DC
A19: Fulgurex | B19: 2050 | C19: De 6/6 | D19: 15302 | E19: braun | F19: DC | H19: ohne Übergangsblech
A20: Fulgurex | B20: 2050/2 | C20: De 6/6 | D20: 15301 | E20: braun | F20: DC | H20: mit Übergangsblech
A22: Lemaco | B22: 2463 | C22: De 6/6 | E22: braun | F22: DC | H22: Messing
A24: Lematec | B24: H0-202/1 A | C24: Ce 6/8 III | D24: 14301 | E24: braun | F24: DC | H24: Messing
A25: Lematec | B25: H0-202/1 B | C25: Ce 6/8 III | D25: 14304 | E25: braun | F25: DC | H25: Messing
A26: Lematec | B26: H0-202/1 C | C26: Ce 6/8 III | D26: 14318 | E26: braun | F26: DC | H26: Messing
A27: Lematec | B27: H0-202/2 | C27: Ce 6/8 III | D27: 14316 | E27: grün | F27: DC | H27: Messing
A28: Lematec | B28: H0-202/2 A | C28: Ce 6/8 III | D28: 14316 | E28: grün | F28: DC | H28: Messing
A29: Lematec | B29: H0-202/2 B | C29: Ce 6/8 III | D29: 14308 | E29: grün | F29: DC | H29: Messing
A30: Lematec | B30: H0-202/3 | C30: Ce 6/8 III | D30: 14312 | E30: grün | F30: DC | H30: Messing
A31: Lematec | B31: H0-202/4 | C31: Be 6/8 III | D31: 13305 | E31: grün | F31: DC | H31: Messing
A32: Lematec | B32: H0-202/5 A | C32: Be 6/8 III | D32: 13303 | E32: grün | F32: DC | H32: Messing
A33: Lematec | B33: H0-202/5 B | C33: Be 6/8 III | D33: 13310 | E33: grün | F33: DC | H33: Messing
A34: Lematec | B34: H0-202/5 C | C34: Be 6/8 III | D34: 13317 | E34: grün | F34: DC | H34: Messing
A35: Lematec | B35: H0-202/6 | C35: Be 6/8 III | D35: 13302 | E35: grün | F35: DC | H35: Messing
... A45: Lematec | B45: H0-211/9 | C45: Ce 6/8 II | D45: 14274 | E45: grün | F45: DC | H45: Messing
A47: Metropolitan | B47: 796 | C47: Ce 6/8 III | D47: 14302 | E47: braun | F47: DC
A48: Metropolitan | B48: 679 | C48: Ce 6/8 | D48: 12251 | E48: braun | F48: DC
A49: Metropolitan | C49: Ce 6/8 I | D49: 14201 | F49: DC | H49: Köfferli-Lok BN
A50: Metropolitan | B50: 742 | C50: Ce 6/8 I | D50: 14201 | E50: braun | F50: DC | H50: Köfferli-Lok
A51: Metropolitan | B51: 774 | C51: Ce 6/8 I | D51: 14201 | E51: grün | F51: DC | H51: Köfferli-Lok
A52: Metropolitan | B52: 743 | C52: Ce 6/8 III | D52: 14302 | E52: grün | F52: DC
A53: Metropolitan | B53: 743 | C53: Ce 6/8 III | D53: 14316 | E53: grün | F53: DC
A54: Metropolitan | B54: 757 | C54: De 6/6 | D54: 15301 | E54: braun | F54: DC
A55: Metropolitan | B55: 767 | C55: Ce 6/8 II | D55: 14275 | E55: grün | F55: DC
...

Sheet ROCO
A1: Roco Krokodile H0 | G1: =TODAY() -> 46212
A3: Hersteller | B3: Art.Nr.1 | C3: Typ | D3: Betriebsnr. | E3: Farbe | F3: AC/DC | G3: Decoder | H3: Bemerkungen
A5: Schweizerische Krokodile
A7: Roco | B7: 41259 | C7: Be 6/8 II | D7: 13257 | E7: grün | H7: Packung mit 4 Wagen
A8: Roco | B8: 41280 | C8: Ce 6/8 II | D8: 14273 | E8: braun | F8: DC | H8: aus Digital Startset
A9: Roco | B9: 43023 | C9: Ce 6/8 II | D9: 14253 | E9: braun | F9: DC | H9: Packung plus 3 Wagen
A10: Roco | B10: 43043 | C10: Be 6/8 II | D10: 13253 | E10: grün | F10: DCC | G10: Sound | H10: Packung mit 5 Wagen
A11: Roco | B11: 43538 | C11: Be 6/8 II | D11: 13254 / 13253 | E11: grün | F11: DC
A12: Roco | B12: 43538 | C12: Be 6/8 II | D12: 13253 | E12: grün | F12: DCC
A13: Roco | B13: 43539 | C13: Ce 6/8 II | D13: 14253 | E13: braun | F13: DC
A14: Roco | B14: 43940 | C14: Ce 6/8 II | D14: 13254 | E14: grün | F14: DC
A15: Roco | B15: 43941 | C15: Ce 6/8 II | D15: 13253 | E15: grün | F15: AC
A16: Roco | B16: 43941 | C16: Ce 6/8 II | D16: 14253 | E16: braun | F16: AC
A17: Roco | B17: 43966 | C17: Be 6/8 II | D17: 13256 | E17: grün | F17: DCC | G17: Sound
A18: Roco | B18: 63523 | C18: Ce 6/8 II | D18: 14252 | E18: rot | F18: DC
A19: Roco | B19: 63523.1 | C19: Ce 6/8 II | D19: 14251 | E19: braun | F19: DC
A20: Roco | B20: 63524 | C20: Ce 6/8 II | D20: 14258 | E20: grün | F20: DC
A21: Roco | B21: 63527 | C21: Ce 6/8 II | D21: 14269 | E21: grün | F21: DC
A22: Roco | B22: 63527.1 | C22: Ce 6/8 II | D22: 14267 | E22: grün | F22: DC
A23: Roco | B23: 63528 | C23: Be 6/8 II | D23: 13254 / 13256 | E23: grün | F23: DC
A24: Roco | B24: 63529 | C24: Ce 6/8 II | D24: 14252 | E24: braun | F24: DC
A25: Roco | B25: 63533 | C25: Ce 6/8 II | D25: 14253 | E25: braun | F25: DC
A26: Roco | B26: 63849 | C26: Ce 6/8 II | D26: 13265 | E26: grün | F26: DCC | G26: Sound
A27: Roco | B27: 63897 | C27: Ce 6/8 II | D27: 14272 | E27: grün | F27: DC
A28: Roco | B28: 69523 | C28: Ce 6/8 II | D28: 14260 | E28: zinnoberrot | F28: AC
A29: Roco | B29: 69527.1 | C29: Ce 6/8 II | D29: 14267 | E29: grün | F29: DC
A30: Roco | B30: 69849 | C30: Ce 6/8 II | D30: 13265 | E30: grün | F30: AC
A31: Roco | B31: 73249 | C31: Ce 6/8 II | D31: 14266 | E31: grün | F31: DC
A32: Roco | B32: 79249 | C32: Ce 6/8 II | D32: 14266 | E32: grün | F32: AC
A35: Deutsche Krokodile
A37: Roco | B37: 43416 | C37: BR 94 | D37: 94 003 | E37: grau | F37: DC
A38: Roco | B38: 63714 | C38: E89 | D38: E89 107 | E38: schwarz | F38: DC | H38: DRB
A39: Roco | B39: 79351 | C39: BR 194 | D39: 194 118-6 | E39: grün | F39: AC
A40: Roco | B40: 04168A | C40: BR 94 | D40: 194 035-2 | E40: grün | F40: DC
A44: Oesterreichische Krokodile
A46: Roco | B46: 43446.1 | C46: BR 1189 | D46: 1189.07 | E46: grün | F46: DC
A47: Roco | B47: 43447 | C47: BR 1189 | D47: 1189.02 | E47: zinnoberrot | F47: DC
A48: Roco | B48: 63777 | C48: BR 1189 | D48: 1189 | E48: grün | F48: DC
A49: Roco | B49: 72646 | C49: BR 1189 | D49: 1189.02 | E49: braun | F49: DC
A50: Roco | B50: 72654 | C50: BR 1189 | D50: 1189.02 | E50: grün | F50: DC
...

Sheet Trix
A1: Trix Krokodile H0 | G1: 45143
A3: Hersteller | B3: Art.Nr.1 | C3: Typ | D3: Betriebsnr. | E3: Farbe | F3: AC/DC | G3: Decoder | H3: Bemerkungen
A5: Trix | B5: 22340 | C5: Ce 6/8 III | D5: 14308 | E5: braun | F5: DC
A6: Trix | B6: 22363 | C6: Be 6/8 III | D6: 13257 | E6: grün | F6: DC
A7: Trix | B7: 22576 | C7: Ce 6/8 III | D7: 14307 | E7: grün | F7: DC
A8: Trix | B8: 22577 | C8: Ce 6/8 III | D8: 14303 | E8: braun | F8: DC
A9: Trix | B9: 22578 | C9: Ce 6/8 III | D9: 14316 | E9: braun | F9: DC
A10: Trix | B10: 22584.1 | C10: Be 6/8 III | D10: 13305 | E10: grün | F10: DC
A11: Trix | B11: 22584.2 | C11: Be 6/8 III | D11: 14310 | E11: grün | F11: DC
A12: Trix | B12: 22776 | C12: Ce 6/8 III | D12: 14307 | E12: grün | F12: DC
A13: Trix | B13: 22777 | C13: Ce 6/8 III | D13: 14303 | E13: braun | F13: DC
A14: Trix | B14: 22953 | C14: Ce 6/8 II | D14: 14271 | E14: braun | F14: DC | G14: DCC Sound
A15: Trix | B15: 22955 | C15: Ce 6/8 II | D15: 142013 | E15: schwarz | F15: DC | G15: DCC Sound
A16: Trix | B16: 22956 | C16: Ce 6/8 II | D16: 14268 | E16: braun | F16: DC | G16: DCC Sound | H16: im 2-er Set
A17: Trix | B17: 22956 | C17: Ce 6/8 II | D17: 14272 | E17: grün | F17: DC | G17: DCC Sound | H17: im 2-er Set
A18: Trix | B18: 22957 | C18: Be 6/8 II | D18: 13257 | E18: grün | F18: DC
A19: Trix | B19: 22967 | C19: Ce 6/8 II | D19: 14282 | E19: grün | F19: DC | G19: DCC Sound
A20: Trix | B20: 22968 | C20: Fc 2x3/4 | D20: 12201 | E20: braun | F20: DC | H20: Köfferli-Lok
A21: Trix | B21: 25595 | C21: Ce 6/8 II | D21: 14253 | E21: braun | F21: DC
A24: Trix | B24: 22246 | C24: De 6/6 | D24: 15301 | E24: braun | F24: DC
A25: Trix | B25: 22329 | C25: De 6/6 | D25: 15302 | E25: braun | F25: DC
A26: Trix | B26: 22536 | C26: De 6/6 | D26: 15302 | E26: braun | F26: DC
A27: Trix | B27: 22727 | C27: De 6/6 | D27: 15303 | E27: braun | F27: DC
A28: Trix | B28: 22759 | C28: De 6/6 | D28: 15303 | E28: braun | F28: DC
A29: Trix | B29: 22961 | C29: De 6/6 | D29: 15302 | E29: braun | F29: DC | H29: 2018, einmalige Serie
B34: ANZAHL: | C34: =COUNTA(C4:C33) -> 23
B37: = verifiziert
A41: Auflistungen sind nach bestem Wissen und Gewissen erstellt. Falls Fehler gefunden werden, bitte melden: | H41: mailto:roland@hausin.com?subject=Angaben/Korrekturen zu H0-Loks
A43: © 2025 Roland Hausin

Sheet Andere
A1: Krokodile anderer Hersteller | G1: 45143
A3: Hersteller | B3: Art.Nr.1 | C3: Typ | D3: Farbe | E3: Betriebsnr. | F3: AC/DC | G3: Decoder | H3: Bemerkungen
A6: Atlas | B6: 101 | C6: Ce 6/8 II | D6: braun | E6: 14253 | H6: Stand-Modell
A8: EMB | C8: Ce 6/8 | D8: vergoldet | E8: 13254
A10: Liliput | B10: 11910 | C10: BR 1020.32 | D10: grün | E10: 1020.32 | F10: DC
A11: Liliput | B11: 11911 | C11: BR 1020.42 | D11: rot | E11: 1020.42 | F11: DC
A13: Loki-Spengler | C13: Be 6/8 III | D13: 13305 | E13: grün | F13: DC
A14: Loki-Spengler | C14: Ce 6/8 I | D14: 14201 | E14: braun | F14: AC | H14: Version 1
A15: Loki-Spengler | C15: Ce 6/8 I | D15: 14201 | E15: grün | F15: AC | H15: Version 2
A16: Loki-Spengler | C16: Ce 6/8 I | D16: 14201 | E16: grün | F16: AC | H16: Version 1
A17: Loki-Spengler | C17: De 6/6 | D17: 15301 | E17: braun | F17: DC
B20: ANZAHL: | C20: =COUNTA(C4:C19) -> 9
B22: = verifiziert
A24: Auflistungen sind nach bestem Wissen und Gewissen erstellt. Falls Fehler gefunden werden, bitte melden: | H24: mailto:roland@hausin.com?subject=Angaben/Korrekturen zu H0-Loks
A26: © 2025 Roland Hausin
