Workbook

Sheet TOTAL
A1: Anzahl bekannte Re 4/4 I, Re 416, Am 4/4, Bm 4/4 II
B4: Total | D4: Original | E4: Custom painted
A6: HAG | B6: =HAG!C91 -> 79 | D6: =HAG!D93 -> 67 | E6: =HAG!D94 -> 12
A7: Lima | B7: =Lima!E17 -> 10
A8: Märklin | B8: =Märklin!E20 -> 14
A9: Messing | B9: =Messing!E21 -> 12
A10: Piko | B10: =PIKO!E31 -> 23
A11: Rivarossi | B11: =Rivarossi!E8 -> 0
A12: Roco | B12: =Roco!E6 -> 0
A13: Trix | B13: =Trix!E14 -> 7
A14: Andere | B14: =Andere!E18 -> 7
A16: TOTAL | B16: =SUM(B5:B15) -> 152
A19: Typen | B19: Re 4/4 I
B20: Re 416
B21: Am 4/4
B22: Bm 4/4 II
A26: Auflistungen sind nach bestem Wissen und Gewissen erstellt. Falls Fehler gefunden werden, bitte melden: | I26: Mail an Roland Hausin
A28: © 2026 Roland Hausin

Sheet HAG
A1: HAG Re 4/4 I, Re 416 | J1: 45514
A3: Hersteller | B3: Art.Nr.1 | C3: Art.Nr.2 | D3: Typ | E3: Betriebsnr. | F3: Farbe | G3: AC/DC | H3: Motor | I3: Decoder | J3: Bemerkungen
A5: HAG | B5: 220.01 | D5: Re 4/4 I | E5: 10035 | F5: grün | G5: AC | H5: 64AC | J5: Serie 2
A6: HAG | B6: 220.02 | D6: Re 4/4 I | E6: 10035 | F6: grün | G6: AC | H6: 64AC | J6: Serie 2
A7: HAG | B7: 220.03 | D7: Re 4/4 I | E7: 10030 | F7: grün | G7: AC | H7: 64AC | J7: Serie 2
A8: HAG | B8: 220.04 | D8: Re 4/4 I | E8: 10031 | F8: grün | G8: AC | H8: 64AC | J8: Serie 2
A9: HAG | B9: 220.05 | D9: Re 4/4 I | E9: 10042 | F9: grün | G9: AC | H9: 64AC | J9: Serie 2
A10: HAG | B10: 220.06 | D10: Re 4/4 I | E10: 10039 | F10: grün | G10: AC | H10: 64AC | J10: Serie 2
A11: HAG | B11: 220.07 | C11: 22002 | D11: Re 4/4 I | E11: 10029 | F11: grün | G11: AC | H11: 64AC | J11: Serie 2
A12: HAG | B12: 220.08 | C12: 22007 | D12: Re 416 | E12: 416 628-6 | F12: grün | G12: AC | H12: 64AC | J12: MThB, Serie 2
A13: HAG | B13: 220.09 | C13: 22003 | D13: Re 4/4 I | E13: 10049 | F13: grün | G13: AC | H13: 64AC | J13: Serie 2
A14: HAG | B14: 220.1 | C14: 22014 | D14: Re 4/4 I | E14: 10044 | F14: grün | G14: AC | H14: 64AC | J14: Serie 2
A15: HAG | B15: 220.11 | C15: 22018 | D15: Re 416 | E15: 416 628-6 | F15: grün | G15: AC | H15: 64AC | J15: SRT, Serie 2
A16: HAG | B16: 220.99 | D16: Re 4/4 I | F16: grün | G16: AC | J16: BT, x/1
A17: HAG | B17: 222.01 | C17: 22005 | D17: Re 4/4 I | E17: 10043 | F17: rot | G17: AC | H17: 64AC | J17: Serie 2
A18: HAG | B18: 222.02 | C18: 22006 | D18: Re 4/4 I | E18: 10027 | F18: rot | G18: AC | H18: 64AC | J18: Serie 2
A19: HAG/Alpnacher | B19: 222.03 | C19: 22019 | D19: Re 410 | E19: 410 050-9 | F19: blau/rot | G19: AC | J19: Cargo, x/30
A20: HAG | B20: 222.04 | C20: 22100 | D20: Re 410 | E20: 410 027-7 | F20: gelb/rot | G20: AC | J20: Cargo, x/20
A21: HAG | B21: 225.01 | D21: Re 4/4 I | E21: 10018 | F21: grün | G21: AC | J21: Serie 1
A22: HAG | B22: 225.02 | D22: Re 4/4 I | E22: 10022 | F22: grün | G22: AC | J22: Serie 1
A23: HAG | B23: 225.03 | D23: Re 4/4 I | E23: 10026 | F23: grün | G23: AC | H23: 88AC | J23: Serie 1 (Pendel)
A24: HAG | B24: 225.04 | D24: Re 4/4 I | E24: 10011 | F24: grün | G24: AC | J24: Serie 1
A25: HAG | B25: 225.05 | C25: 22033 | D25: Re 416 | E25: 416 625-2 | F25: grün | G25: AC | J25: MThB, Serie 1
A26: HAG | B26: 225.06 | C26: 22024 | D26: Re 4/4 I | E26: 10013 | F26: grün | G26: AC | J26: Serie 1
A27: HAG | B27: 225.07 | C27: 22020 | D27: Re 4/4 I | E27: 10042 | F27: grün | G27: AC | J27: Serie 1
A28: HAG | B28: 225.99 | D28: Re 4/4 I | E28: 10019 | F28: silber | G28: AC | J28: Centralbahn
A29: HAG | B29: 227.01 | C29: 22025 | D29: Re 4/4 I | E29: 402 | F29: grün | G29: AC | J29: Serie 1
A30: HAG | B30: 227.02 | C30: 22025 | D30: Re 4/4 I | E30: 402 | F30: grün | G30: AC | J30: Serie 1
A31: HAG | B31: 227.03 | C31: 22034a | D31: Re 4/4 I | E31: 10001 | F31: grün | G31: AC | J31: Serie 1
A32: HAG | B32: 230.01 | D32: Re 4/4 I | E32: 10035 | F32: rot/creme | G32: AC | H32: 88AC | J32: TEE
A33: HAG | B33: 230.02 | C33: 22017 | D33: Re 4/4 I | E33: 1033 | F33: rot/creme | G33: AC | J33: TEE
A34: HAG | B34: 230.03 | C34: 22013 | D34: Re 4/4 I | E34: 10050 | F34: rot/creme | G34: AC | J34: TEE
A35: HAG | B35: 230.04 | C35: 22016 | D35: Re 4/4 I | E35: 10034 | F35: rot/creme | G35: AC | J35: TEE
A36: HAG | B36: 230.05 | D36: Re 4/4 I | E36: 10046 | F36: rot/creme | G36: AC | H36: 88AC | J36: TEE
A37: HAG | B37: 230.06 | C37: 22010 | D37: Re 4/4 I | E37: 10050 | F37: rot/creme | G37: AC | H37: 88AC | J37: TEE
A38: HAG | B38: 230.07 | C38: 22011 | D38: Re 4/4 I | E38: 10050 | F38: rot/creme | G38: AC | J38: TEE, x/40
A39: HAG | B39: 230.08 | D39: Re 4/4 I | E39: 10034 | F39: rot/creme | G39: AC | J39: TEE, auch 10034
A40: HAG | B40: 230.09 | C40: 22015 | D40: Re 4/4 I | E40: 10050 | F40: blau/creme | G40: AC | J40: Rheingold Bemalung, x/20
A41: HAG | B41: 230.1 | C41: 22016 | D41: Re 4/4 I | E41: 10034 | F41: rot/creme | G41: AC | J41: TEE, HAG-Reise, x/20
A42: HAG | B42: 230.11 | C42: 22010-2 | D42: Re 4/4 I | E42: 10050 | F42: rot/creme | G42: AC | J42: TEE, 2-motoriger Prototyp, x/1
...

Sheet Lima
A1: Lima Re 4/4 I | H1: 45514
A3: Hersteller | B3: Art.Nr.1 | C3: Typ | D3: Betriebsnr. | E3: Farbe | F3: AC/DC | G3: Decoder | H3: Bemerkungen
A5: Lima | B5: 208067 LG | C5: Re 4/4 I | D5: 10047 | E5: tannengrün | F5: DC
A6: Lima | B6: 208066 LG | C6: Re 4/4 I | D6: 10050 | E6: rot/beige | F6: DC | H6: TEE
A7: Lima | B7: 8066 | C7: Re 4/4 I | D7: 10050 | E7: rot/beige | F7: DC | H7: TEE
A8: Lima | B8: 208447S | C8: Re 4/4 I | D8: 10046 | E8: rot/beige | F8: DC | H8: TEE
A9: Lima | B9: 208067L | C9: Re 4/4 I | D9: 10043 | E9: rot | F9: DC
A10: Lima | B10: 208486 | C10: Re 4/4 I | D10: 10047 | E10: tannengrün | F10: DC
A11: Lima | B11: 208508 | C11: Re 4/4 I | D11: 10011 | E11: rot | F11: DC
A12: Lima | B12: 208444 | C12: Re 4/4 I | D12: 10031 | E12: grün | F12: DC
A13: Lima | B13: 208445 | C13: Re 4/4 I | D13: 10031 | E13: tannengrün | F13: DC
A14: Lima | B14: 208446 | C14: Re 4/4 I | D14: 10026 | E14: grün | F14: DC
C17: ANZAHL: | E17: =COUNTA(C4:C16) -> 10
B21: = verifiziert
A23: Auflistungen sind nach bestem Wissen und Gewissen erstellt. Falls Fehler gefunden werden, bitte melden: | H23: Mail an Roland
A25: © 2025 Roland Hausin

Sheet Märklin
A1: Märklin Re 4/4 I | H1: 45514
A3: Hersteller | B3: Art.Nr.1 | C3: Typ | D3: Betriebsnr. | E3: Farbe | F3: AC/DC | G3: Decoder | H3: Bemerkungen
A5: Märklin | B5: 3014 | C5: Re 4/4 I | D5: 427 | E5: tannengrün | F5: AC
A6: Märklin | B6: 3914 | C6: Re 4/4 I | D6: 427 | E6: rot/beige | F6: AC | H6: TEE
A7: Märklin | B7: 26557 | C7: Re 4/4 I | D7: 10033 | E7: rot/beige | F7: AC | G7: mfx | H7: Zugset TEE Bavaria
A8: Märklin | B8: 37044 | C8: Re 4/4 I | D8: 10040 | E8: tannengrün | F8: AC | G8: mfx
A9: Märklin | B9: 37045 | C9: Re 4/4 I | D9: 10036 | E9: verkehrsrot | F9: AC | G9: mfx
A10: Märklin | B10: 38422 | C10: Re 4/4 I | D10: 409 | E10: blau | F10: AC | G10: mfx
A11: Märklin | B11: 39420 | C11: Re 4/4 I | D11: 10015 | E11: tannengrün | F11: AC | G11: mfx
A12: Märklin | B12: 39421 | C12: Re 4/4 I | D12: 10023 | E12: tannengrün | F12: AC | G12: mfx
A13: Märklin | B13: 39422 | C13: Re 4/4 I | D13: 409 | E13: saphirblau | F13: AC | G13: mfx+
A14: Märklin | B14: 39423 | C14: Re 4/4 I | D14: 10011 | E14: grün | F14: AC | G14: mfx+
A15: Märklin | B15: RE 800 | C15: RE 800 | D15: RE800 | E15: tannengrün | F15: AC | H15: 2 Versionen, 4-Achs-Antrieb, einseitig beleuchtet
A16: Märklin | B16: RES 800 | C16: RES 800 | D16: 427 | E16: tannengrün | F16: AC | H16: 2 Versionen, 2-Achs-Antrieb, einseitig beleuchtet
A17: Märklin | B17: RET 800 | C17: RET 800 | D17: 427 | E17: tannengrün | F17: AC | H17: 2 Versionen, 2-Achs-Antrieb, beidseitig beleuchtet
C20: ANZAHL: | E20: =COUNTA(C3:C18) -> 14
B24: = verifiziert
A26: Auflistungen sind nach bestem Wissen und Gewissen erstellt. Falls Fehler gefunden werden, bitte melden: | H26: Mail an Roland
A28: © 2025 Roland Hausin

Sheet Messing
A1: Messing Re 4/4 I, Am 4/4, Bm 4/4 | H1: 45514
A3: Hersteller | B3: Art.Nr.1 | C3: Typ | D3: Betriebsnr. | E3: Farbe | F3: AC/DC | G3: Decoder | H3: Bemerkungen
A5: Fulgurex | B5: 2097/1 | C5: Am 4/4 | D5: 1001 | E5: grün | F5: DC
A6: Fulgurex | B6: 2097 | C6: Bm 4/4 II | D6: 18451 | E6: grün | F6: DC
A7: Fulgurex | B7: 2097 | C7: Bm 4/4 II | D7: 18452 | E7: grün | F7: DC
A9: Lemaco | B9: H0-020 | C9: Re 4/4 I | D9: 413 | E9: grün | F9: DC
A10: Lemaco | B10: H0-020/1 | C10: Re 4/4 I | D10: 10021 | E10: grün | F10: DC
A11: Lemaco | B11: H0-021 | C11: Re 4/4 I | D11: 10047 | E11: grün | F11: DC
A12: Lemaco | B12: H0-021/1 | C12: Re 4/4 I | D12: 10043 | E12: rot | F12: DC
A13: Lemaco | B13: H0-021/2 | C13: Re 4/4 I | D13: 10033 | E13: rot/beige | F13: DC | H13: TEE
A15: Metropolitan | B15: 725 | C15: Re 4/4 I | D15: 10033 | E15: rot/beige | F15: DC | H15: TEE
A16: Metropolitan | B16: 714 | C16: Re 4/4 I | D16: 10020 | E16: grün | F16: DC
A17: Metropolitan | B17: 724 | C17: Re 4/4 I | D17: 10045 | E17: grün | F17: DC | H17: TEE
A18: Metropolitan | B18: 736 | C18: Re 4/4 I | D18: 401 | E18: grün | F18: DC
C21: ANZAHL: | E21: =COUNTA(C4:C20) -> 12
B25: = verifiziert
A27: Auflistungen sind nach bestem Wissen und Gewissen erstellt. Falls Fehler gefunden werden, bitte melden: | H27: Mail an Roland
A29: © 2026 Roland Hausin

Sheet PIKO
A1: PIKO Re 4/4 I | H1: 45514
A3: Hersteller | B3: Art.Nr.1 | C3: Typ | D3: Betriebsnr. | E3: Farbe | F3: AC/DC | G3: Decoder | H3: Bemerkungen
A5: Piko | B5: 96870 | C5: Re 4/4 I | D5: 10018 | E5: rot | F5: DC
A6: Piko | B6: 96872 | C6: Re 4/4 I | D6: 10018 | E6: rot | F6: DCC | G6: Sound
A7: Piko | B7: 96873 | C7: Re 4/4 I | D7: 10018 | E7: rot | F7: AC | G7: Sound
A8: Piko | B8: 96874 | C8: Re 4/4 I | D8: 10040 | E8: grün | F8: DC
A9: Piko | B9: 96875 | C9: Re 4/4 I | D9: 10040 | E9: grün | F9: DCC | G9: Sound
A10: Piko | B10: 96877 | C10: Re 4/4 I | D10: 10031 | E10: rot | F10: DC
A11: Piko | B11: 96878 | C11: Re 4/4 I | D11: 10031 | E11: rot | F11: DCC | G11: Sound
A12: Piko | B12: 96879 | C12: Re 4/4 I | D12: 10031 | E12: rot | F12: AC | G12: Sound
A13: Piko | B13: 96880 | C13: Re 4/4 I | D13: 401 | E13: tannengrün | F13: DC
A14: Piko | B14: 96881 | C14: Re 4/4 I | D14: 401 | E14: tannengrün | F14: DC | G14: Sound
A15: Piko | B15: 96882 | C15: Re 4/4 I | D15: 401 | E15: tannengrün | F15: AC | G15: Sound
A16: Piko | B16: 96883 | C16: Re 4/4 I | D16: 10033 | E16: rot/beige | F16: DC
A17: Piko | B17: 96884 | C17: Re 4/4 I | D17: 10033 | E17: rot/beige | F17: DCC | G17: Sound
A18: Piko | B18: 96885 | C18: Re 4/4 I | D18: 10034 | E18: rot/beige | F18: DC | G18: Sound | H18: TEE
A19: Piko | B19: 96886 | C19: Re 4/4 I | D19: 10040 | E19: grün | F19: DC
A20: Piko | B20: 96887 | C20: Re 4/4 I | D20: 10040 | E20: grün | F20: DC | G20: Sound
A21: Piko | B21: 96888 | C21: Re 4/4 I | D21: 10040 | E21: grün | F21: AC | G21: Sound
A22: Piko | B22: 96889 | C22: Re 4/4 I | D22: 10033 | E22: rot/beige | F22: DC | H22: TEE
A23: Piko | B23: 96890 | C23: Re 4/4 I | D23: 10033 | E23: rot/beige | F23: DC | G23: Sound | H23: TEE
A24: Piko | B24: 96891 | C24: Re 4/4 I | D24: 10033 | E24: rot/beige | F24: AC | G24: Sound | H24: TEE
A25: Piko | B25: 96892 | C25: Re 4/4 I | D25: 409 | E25: blau | F25: DC
A26: Piko | B26: 96893 | C26: Re 4/4 I | D26: 409 | E26: blau | F26: DC | G26: Sound
A27: Piko | B27: 96894 | C27: Re 4/4 I | D27: 409 | E27: blau | F27: AC | G27: Sound
C31: ANZAHL: | E31: =COUNTA(B4:B30) -> 23
B35: = verifiziert
A37: Auflistungen sind nach bestem Wissen und Gewissen erstellt. Falls Fehler gefunden werden, bitte melden: | H37: Mail an Roland
A39: =TOTAL!A28 -> © 2026 Roland Hausin

Sheet Rivarossi
A1: Rivarossi Re 4/4 | H1: 45514
A3: Hersteller | B3: Art.Nr.1 | C3: Typ | D3: Betriebsnr. | E3: Farbe | F3: AC/DC | G3: Decoder | H3: Bemerkungen
C8: ANZAHL: | E8: =COUNTA(C4:C7) -> 0
B12: = verifiziert
A14: Auflistungen sind nach bestem Wissen und Gewissen erstellt. Falls Fehler gefunden werden, bitte melden: | H14: Mail an Roland
A16: © 2025 Roland Hausin

Sheet Roco
A1: Roco Re 4/4 I | H1: 45514
A3: Hersteller | B3: Art.Nr.1 | C3: Typ | D3: Betriebsnr. | E3: Farbe | F3: AC/DC | G3: Decoder | H3: Bemerkungen
C6: ANZAHL: | E6: =COUNTA(C4:C5) -> 0
B10: = verifiziert
A12: Auflistungen sind nach bestem Wissen und Gewissen erstellt. Falls Fehler gefunden werden, bitte melden: | H12: Mail an Roland
A14: © 2025 Roland Hausin

Sheet Trix
A1: Trix Re 4/4 I | H1: 45514
A3: Hersteller | B3: Art.Nr.1 | C3: Typ | D3: Betriebsnr. | E3: Farbe | F3: AC/DC | G3: Decoder | H3: Bemerkungen
A5: Trix | B5: 21238 | C5: Re 4/4 I | D5: 10033 | E5: crème/rot | F5: DC | H5: TEE Set
A6: Trix | B6: 22244 | C6: Re 4/4 I | D6: 10040 | E6: tannengrün | F6: DC | G6: sound
A7: Trix | B7: 22245 | C7: Re 4/4 I | D7: 10036 | E7: rot | F7: DC | G7: sound
A8: Trix | B8: 22330 | C8: Re 4/4 I | D8: 10015 | E8: tannengrün | F8: DC | G8: sound
A9: Trix | B9: 22353 | C9: Re 4/4 I | D9: 10023 | E9: tannengrün | F9: DC | G9: sound
A10: Trix | B10: 22422 | C10: Re 4/4 I | D10: 409 | E10: saphirblau | F10: DC | G10: sound
A11: Trix | B11: 25423 | C11: Re 4/4 I | D11: 10011 | E11: tannengrün | F11: DC | G11: sound
C14: ANZAHL: | E14: =COUNTA(C4:C13) -> 7
B18: = verifiziert
A20: Auflistungen sind nach bestem Wissen und Gewissen erstellt. Falls Fehler gefunden werden, bitte melden: | H20: Mail an Roland
A22: © 2025 Roland Hausin

Sheet Andere
A1: Andere Hersteller Re 4/4 I, Am 4/4, Bm 4/4 | H1: 45514
A3: Hersteller | B3: Art.Nr.1 | C3: Typ | D3: Betriebsnr. | E3: Farbe | F3: AC/DC | G3: Decoder | H3: Bemerkungen
A5: Kleinbahn | C5: Re 4/4 I | D5: 10005 | E5: grün | F5: DC
A6: Kleinbahn | C6: Re 4/4 I | D6: 10005 | E6: rot | F6: DC
A8: Minirex | B8: 2045 | C8: Re 4/4 I | D8: 10045 | E8: grün | F8: AC | H8: ex RET 800
A9: Minirex | B9: 2046 | C9: Re 4/4 I | D9: 10046 | E9: rot/crème | F9: AC | H9: ex RET 800
A11: Milodor | C11: Re 4/4 I | D11: 401 | E11: grün | F11: AC | H11: 1949
A13: Ruco | C13: Re 4/4 I | D13: 10046 | E13: rot/crème | F13: AC
A15: Swisstoys | C15: Re 4/4 I | E15: rot/crème | F15: AC | H15: TEE, aus Märklin RET 800
C18: ANZAHL: | E18: =COUNTA(C4:C17) -> 7
B22: = verifiziert
A24: Auflistungen sind nach bestem Wissen und Gewissen erstellt. Falls Fehler gefunden werden, bitte melden: | H24: Mail an Roland
A26: © 2025 Roland Hausin
