Workbook

Sheet TOTAL
A1: Anzahl bekannte Re 4/4 II in Spur H0 | G1: =TODAY() -> 46254
B4: Total | D4: Original | E4: Custom painted
A6: Fleischmann | B6: =Fleischmann!C21 -> 11 | D6: =Fleischmann!D23 -> 9 | E6: =Fleischmann!D24 -> 2
A7: HAG | B7: =HAG!C326 -> 305 | D7: =HAG!D328 -> 259 | E7: =HAG!D329 -> 46
A8: Lima | B8: =Lima!C17 -> 8 | D8: =Lima!D19 -> 7 | E8: =Lima!D20 -> 1
A9: Märklin | B9: =Märklin!C43 -> 34 | D9: =Märklin!D45 -> 33 | E9: =Märklin!D46 -> 1
A10: Messing | B10: =Messing!C11 -> 3
A11: Rivarossi | B11: =Rivarossi!C17 -> 11
A12: Roco | B12: =ROCO!C154 -> 145
A13: Trix | B13: =Trix!C24 -> 17
A14: Andere | B14: =Andere!C14 -> 6
A16: TOTAL | B16: =SUM(B5:B15) -> 540 | D16: =B16-E16 -> 490 | E16: =SUM(E5:E15) -> 50
A19: Auflistungen sind nach bestem Wissen und Gewissen erstellt. Falls Fehler gefunden werden, bitte melden: | H19: Mail an Roland
A21: © 2026 Roland Hausin
A24: Typen | B24: Re 4/4 II
B25: Re 4/4 III
B26: Re 420
B27: Re 421
B28: Re 425
B29: Re 430
B30: Re 436

Sheet Fleischmann
A1: Fleischmann Re 4/4 II | G1: =TODAY() -> 46254
A3: Hersteller | B3: Art.Nr.1 | C3: Typ | D3: Farbe | E3: Betriebsnr. | F3: AC/DC | G3: Decoder | H3: Bemerkungen
A5: Fleischmann | B5: 1349 | C5: Re 4/4 II | D5: rot/crème | E5: 11156 | F5: AC | H5: TEE
A6: Fleischmann | B6: 4339 | C6: Re 421 | D6: blau/rot | E6: 421 397-1 | F6: DC | H6: Cargo
A7: Fleischmann | B7: 433901 | C7: Re 436 | D7: rot | E7: 436 113-5 | F7: DC | H7: Crossrail
A8: Fleischmann | B8: 4340 | C8: Re 4/4 II | D8: grün | E8: 11156 | F8: DC
A9: Fleischmann | B9: 4341 | C9: Re 4/4 II | D9: rot/crème | E9: 11156 | F9: DC | H9: TEE
A10: Fleischmann | B10: 4342 | C10: Re 4/4 II | D10: rot | E10: 11178 | F10: DC
A11: Fleischmann | B11: 4343 | C11: Re 4/4 II | D11: grün | E11: 11374 | F11: DC
A12: Fleischmann | B12: 4344 | C12: Re 4/4 II | D12: rot | E12: 42 | F12: DC
A13: Fleischmann | B13: 99 6399 CH | C13: Re 4/4 II | D13: grün | F13: DC | H13: Startset
A15: Custom Painted
A17: Fleischmann/Klancnik | C17: Re 420 | D17: silber/rot | E17: 420 503-5 | F17: DC | H17: Travys
A19: Fleischmann/Rosetti | B19: 4343 | C19: Re 421 | D19: blau | E19: 421 379-9 | F19: DC | H19: Zürich-München
B21: ANZAHL: | C21: =COUNTA(C4:C20) -> 11
B23: original | D23: =COUNTA(B4:B14) -> 9
B24: custom painted | D24: =C21-D23 -> 2
B26: = verifiziert
A28: Auflistungen sind nach bestem Wissen und Gewissen erstellt. Falls Fehler gefunden werden, bitte melden: | H28: Mail an Roland Hausin
A30: © 2025 Roland Hausin

Sheet HAG
A1: HAG Re 4/4 II III 420 421 436 | H1: =TODAY() -> 46254
A3: Hersteller | B3: Art.Nr.1 | C3: Art.Nr.2 | D3: Typ | E3: Betriebsnr. | F3: Farbe | G3: AC/DC | H3: Decoder | I3: Bemerkungen
A5: HAG | B5: 24.01 | C5: 25006 | D5: Re 4/4 II | E5: 11159 | F5: rot/crème | G5: AC | I5: Set TEE Cisalpin
A6: HAG | B6: 26.01 | D6: Re 436 | E6: 436 | F6: rot | G6: AC | I6: aus Simplon-Trio (194.06)
A7: HAG | B7: 34.01 | C7: 16035 | D7: Re 420 | E7: 420 507-6 | F7: rot | G7: AC | I7: BLS
A8: HAG | B8: 36.01 | C8: 36010 | D8: Re 436 | E8: 436 115-0 | F8: rot/weiss | G8: AC | I8: RM, Wappen Amt Lebern (Doppelpack mit Luzern)
A9: HAG | B9: 42.01 | C9: 16033 | D9: Re 4/4 II | E9: 420 503-5 | F9: grün | G9: AC | I9: BLS
A10: HAG | B10: 42.02 | D10: Re 420 | E10: 420 503-5 | F10: blau | G10: AC | I10: BLS, x/2
A11: HAG | B11: 44.01 | C11: 16034 | D11: Re 4/4 II | E11: 420 502-7 | F11: silber/hellgrün | G11: AC | I11: BLS, Nina, 1 STA
A12: HAG | B12: 44.02 | C12: 16043 | D12: Re 4/4 II | E12: 420 504-3 | F12: silber/hellgrün | G12: AC | I12: BLS, Nina, 1 STA
A13: HAG | B13: 44.03 | D13: Re 4/4 II | E13: 420 504-3 | F13: gold/blau/hellgrün | G13: AC | I13: BLS, Nina, 1 STA, x/2
A14: HAG | B14: 44.04 | C14: 16043-2 | D14: Re 4/4 II | E14: 420 504-3 | F14: silber/hellgrün | G14: AC | I14: BLS, Nina, 1 STA, 2-motorig, 1/1
A15: HAG | B15: 58.01 | C15: 25001 | D15: Re 4/4 II | E15: 11276 | F15: türkis | G15: AC | I15: Set Cargo
A16: HAG | B16: 88.01 | D16: Re 4/4 II | E16: 11238 | F16: weiss | G16: AC | I16: SEV
A17: HAG | B17: 156.01 | D17: Re 4/4 III | E17: 41 | F17: rot | G17: AC | I17: SOB
A18: HAG | B18: 156.02 | D18: Re 4/4 III | E18: 41 | F18: rot | G18: AC | I18: SOB, 2-motorig
A19: HAG | B19: 158.01 | D19: Re 4/4 III | E19: 41 | F19: grün | G19: AC | I19: SOB
A20: HAG | B20: 158.02 | D20: Re 4/4 III | E20: 41 | F20: grün | G20: AC | I20: SOB, 2-motorig
A21: HAG | B21: 160.01 | D21: Re 4/4 II | E21: 11207 | F21: grün | G21: AC | I21: grüne Schürze
A22: HAG | B22: 160.02 | D22: Re 4/4 II | E22: 11207 | F22: grün | G22: AC | I22: graue Schürze
A23: HAG | B23: 160.03 | D23: Re 4/4 II | E23: 11107 | F23: grün | G23: AC | I23: graue Schürze
A24: HAG | B24: 160.04 | D24: Re 4/4 II | E24: 11107 | F24: grün | G24: AC | I24: geschwärzt
A25: HAG | B25: 160.05 | D25: Re 4/4 II | E25: 11107 | F25: grün | G25: AC
A26: HAG | B26: 160.06 | D26: Re 4/4 II | E26: 11107 | F26: grün | G26: AC
A27: HAG | B27: 160.07 | C27: 16001 | D27: Re 4/4 II | E27: 11127 | F27: grün | G27: AC
A28: HAG | B28: 160.08 | D28: Re 4/4 II | E28: 11127 | F28: grün | G28: AC | I28: 2-motorig
A29: HAG | B29: 160.09 | D29: Re 4/4 II | E29: 11107 | F29: grün | G29: AC
A30: HAG | B30: 160.1 | D30: Re 4/4 II | E30: 11107 | F30: grün | G30: AC | I30: ohne Trennleiste
A31: HAG | B31: 160.12 | D31: Re 4/4 II | E31: 11207 | F31: blau/weiss | G31: AC | I31: möglicherweise umgespritzt
A32: HAG | B32: 162.01 | D32: Re 4/4 II | E32: 11116 | F32: rot | G32: AC
A33: HAG | B33: 165.01 | D33: Re 4/4 II | E33: 11380 | F33: rot | G33: AC
A34: HAG | B34: 165.02 | D34: Re 4/4 II | E34: 11396 | F34: rot | G34: AC | I34: Werbelok Halbtax
A35: HAG | B35: 165.03 | D35: Re 4/4 II | E35: 11357 | F35: rot | G35: AC
A36: HAG | B36: 165.04 | D36: Re 4/4 II | E36: 11196 | F36: rot | G36: AC
A37: HAG | B37: 165.05 | D37: Re 4/4 II | E37: 11322 | F37: rot/blau | G37: AC | I37: Werbelok Halbtax
A38: HAG | B38: 165.06 | D38: Re 4/4 II | E38: 11228 | F38: rot/bunt | G38: AC | I38: Werbelok Kuoni
A39: HAG | B39: 165.07 | C39: 16038 | D39: Re 4/4 II | E39: 11181 | F39: rot/schwarz/blau | G39: AC | I39: Zugkraft Aargau
A40: HAG | B40: 165.08 | D40: Re 4/4 II | E40: 11369 | F40: rot | G40: AC
A41: HAG | B41: 165.09 | D41: Re 4/4 II | E41: 11365 | F41: rot | G41: AC
A42: HAG | B42: 165.1 | D42: Re 421 | E42: 421 397-1 | F42: rot/blau | G42: AC | I42: Cargo
A43: HAG | B43: 165.11 | D43: Re 421 | E43: 421 371-6 | F43: rot/blau | G43: AC | I43: Cargo
A44: HAG | B44: 165.12 | D44: Re 421 | E44: 421 371-6 | F44: rot/türkis | G44: AC | I44: Cargo, x/10
A45: HAG | B45: 165.13 | D45: Ref 4/4 II | E45: 11182 | F45: rot | G45: AC
A46: HAG | B46: 165.14 | D46: Re 4/4 II | E46: 11181 | F46: rot/schwarz/blau | G46: AC | I46: Zugkraft Aargau, x/1, eine Seite blau, die andere schwarz
A47: HAG | B47: 165.15 | D47: Re 421 | E47: 421 378-1 | F47: blau/rot | G47: AC
A48: HAG | B48: 165.16 | C48: 16014 | D48: Re 421 | E48: 421 374-0 | F48: blau/rot | G48: AC
A49: HAG | B49: 165.18 | C49: 16013 | D49: Re 420 | E49: 420 186-9 | F49: rot/blau | G49: AC | I49: Cargo National
A50: HAG | B50: 165.19 | D50: Re 4/4 II | E50: 11302 | F50: rot | G50: AC
A51: HAG | B51: 165.2 | C51: 16018 | D51: Re 4/4 II | E51: 11214 | F51: rot | G51: AC
A52: HAG | B52: 165.21 | D52: Re 420 | E52: 420 310-5 | F52: blau/gelb | G52: AC | I52: Dispo, x/3
A53: HAG | B53: 165.22 | C53: 16200 | D53: Re 4/4 III | E53: 11356 | F53: rot | G53: AC
A54: HAG | B54: 165.23 | C54: 16201 | D54: Re 4/4 III | E54: 11356 | F54: rot | G54: AC | I54: gealtert
A55: HAG | B55: 165.24 | C55: 16206 | D55: Re 4/4 II | E55: 11239 | F55: rot | G55: AC | I55: Wappen Porrentruy
A56: HAG | B56: 165.25 | C56: 16041 | D56: Re 4/4 II | E56: 11272 | F56: rot | G56: AC | I56: 100. Klimaanlage
A57: HAG | B57: 165.26 | C57: 16042 | D57: Re 420 | E57: 420 160-4 | F57: rot/blau | G57: AC | I57: Cargo National
A58: HAG | B58: 165.27 | C58: 16205 | D58: Re 420 | E58: 420 160-4 | F58: rot/blau | G58: AC | I58: Cargo National, gealtert
A59: HAG | B59: 165.28 | D59: Re 4/4 II | E59: 11148 | F59: rot | G59: AC | I59: Existenz fragwürdig
A60: HAG | B60: 165.29 | D60: Re 4/4 II | E60: 11207 | F60: rot | G60: AC | I60: Existenz fragwürdig
A61: HAG | B61: 165.3 | C61: 16216 | D61: Re 4/4 II | E61: 11409 | F61: rot | G61: AC | I61: Sondermodell Helis, x/50
A62: HAG | B62: 165.31 | C62: 16204 | D62: Re 420 | E62: 420 178-6 | F62: rot/blau | G62: AC | I62: Cargo National, gealtert
A63: HAG | B63: 165.32 | C63: 16040 | D63: Re 421 | E63: 421 372-4 | F63: rot/blau | G63: AC | I63: Cargo
A64: HAG | B64: 165.33 | C64: 16219 | D64: Re 4/4 II | E64: 11320 | F64: orange | G64: AC | I64: Interregio Cargo
A65: HAG | B65: 165.34 | C65: 16211 | D65: Re 4/4 II | E65: 11257 | F65: rot | G65: AC
A66: HAG | B66: 165.35 | C66: 16220 | D66: Re 420 | E66: 420 207-3 | F66: rot/gelb | G66: AC | I66: Dispo, Sonderserie Zollibolli, x/15
A67: HAG | B67: 165.36 | C67: 16222 | D67: Re 420 | E67: 420 276-8 | F67: rot/blau | G67: AC | I67: Cargo
A68: HAG | B68: 165.37 | C68: 16223 | D68: Re 421 | E68: 421 381-5 | F68: rot/blau | G68: AC | I68: Cargo
A69: HAG | B69: 165.38 | C69: 16224 | D69: Re 430 | E69: 430 356-6 | F69: rot/blau | G69: AC | I69: Cargo
A70: HAG | B70: 165.39 | C70: 16227 | D70: Re 4/4 II | E70: 11239 | F70: rot | G70: AC | I70: Wappen Porrentruy, Sonderserie Däpp (4 AC/1 DC)
A71: HAG | B71: 165.4 | C71: 16056 | D71: Re 420 | E71: 420 503-5 | F71: silber/blau/hellgrün | G71: AC | I71: Nina
A72: HAG | B72: 165.41 | C72: 16228 | D72: Re 420 | E72: 420 202-4 | F72: rot | G72: AC | I72: Lion
A73: HAG | B73: 165.42 | C73: 16229a | D73: Re 420 | E73: 420 230-5 | F73: rot | G73: AC | I73: Lion
A74: HAG | B74: 165.43 | C74: 16231 | D74: Re 420 | E74: 420 203-2 | F74: rot | G74: AC | I74: Lion
A75: HAG | B75: 165.44 | C75: S-16278 | D75: Re 420 | E75: 420 268-5 | F75: weiss | G75: AC | I75: Sondermodell AFC, x/16
A76: HAG | B76: 165.91 | C76: 16038 | D76: Re 4/4 II | E76: 11181 | F76: rot/schwarz/blau | G76: AC | I76: Zugkraft Aargau, x/1, Dach dunkelgrau
A77: HAG | B77: 165.92 | C77: 16038 | D77: Re 4/4 II | E77: 11181 | F77: rot/schwarz/blau | G77: AC | I77: Zugkraft Aargau, x/1, Dach dunkelgrau
A78: HAG | B78: 165.93 | D78: Re 421 | E78: 421 371-6 | F78: türkis/rot/blau | G78: AC | I78: Farbmuster, x/1
A79: HAG | B79: 165.94 | D79: Re 421 | E79: 421 377-3 | F79: braun/blau | G79: AC | I79: Farbmuster, x/1
A80: HAG | B80: 165.95 | D80: Re 421 | E80: 421 377-3 | F80: braun/blau/grün | G80: AC | I80: Farbmuster, x/1
A81: HAG | B81: 165.96 | D81: Re 421 | E81: 421 377-3 | F81: braun/blau | G81: AC | I81: Farbmuster, x/1
A82: HAG | B82: 165.97 | D82: Re 421 | E82: 421 377-3 | F82: braun/rot/grün | G82: AC | I82: Farbmuster, x/1
A83: HAG | B83: 165.98 | D83: Re 420 | E83: 420 503-5 | F83: silber/schwarz | G83: AC | I83: Nina Farbvariante, 1/1
A84: HAG | B84: 167.01 | D84: Re 4/4 II | E84: 11372 | F84: grün | G84: AC | I84: graue Schürze
A85: HAG | B85: 167.02 | D85: Re 4/4 II | E85: 11376 | F85: grün | G85: AC | I85: graue Schürze
A86: HAG | B86: 167.03 | D86: Re 4/4 II | E86: 11374 | F86: grün | G86: AC | I86: graue Schürze
A87: HAG | B87: 167.04 | D87: Re 4/4 II | E87: 11321 | F87: grün | G87: AC | I87: graue Schürze
A88: HAG | B88: 167.05 | D88: Re 4/4 III | E88: 11364 | F88: grün | G88: AC
A89: HAG | B89: 167.06 | D89: Re 4/4 II | E89: 11220 | F89: grün | G89: AC | I89: graue Schürze
A90: HAG | B90: 167.07 | C90: 16028 | D90: Re 4/4 II | E90: 11158 | F90: grün | G90: AC | I90: graue Schürze
A91: HAG | B91: 167.08 | C91: 16011 | D91: Re 4/4 II | E91: 11347 | F91: grün | G91: AC | I91: graue Schürze
A92: HAG | B92: 167.09 | C92: 16039 | D92: Re 4/4 II | E92: 11344 | F92: grün | G92: AC | I92: graue Schürze
A93: HAG | B93: 167.1 | C93: 16202 | D93: Re 4/4 II | E93: 11159 | F93: grün | G93: AC | I93: graue Schürze
A94: HAG | B94: 167.11 | C94: 16203 | D94: Re 4/4 II | E94: 11159 | F94: grün | G94: AC | I94: graue Schürze, gealtert
A95: HAG | B95: 167.12 | C95: 16210 | D95: Re 4/4 II | E95: 11330 | F95: grün | G95: AC | I95: graue Schürze, Testklimaanlage
A96: HAG | B96: 167.13 | C96: 16059 | D96: Re 4/4 II | E96: 11330 | F96: grün | G96: AC | I96: graue Schürze, 1-motorig
A97: HAG | B97: 167.14 | C97: 16060-2 | D97: Re 4/4 II | E97: 11330 | F97: grün | G97: AC | I97: graue Schürze, 2-motorig, ev. nicht ausgeliefert
A98: HAG | B98: 167.15 | C98: 16061-2 | D98: Re 4/4 II | E98: 11330 | F98: grün | G98: AC | I98: graue Schürze, HAG-Reise Blonay-Chamby, 2-motorig, x/32
A99: HAG | B99: 167.16 | C99: 16150 | D99: Re 4/4 II | E99: 11330 | F99: grün | G99: AC | I99: graue Schürze, HAG-Reise Blonay-Chamby
A100: HAG | B100: 167.17 | C100: 16213 | D100: Re 4/4 II | E100: 11309 | F100: grün | G100: AC
A101: HAG | B101: 167.99 | D101: Re 4/4 II | E101: 11236 | F101: grün | G101: AC | I101: graue Schürze
A102: HAG | B102: 172.01 | D102: Re 4/4 III | E102: 11113 | F102: rot | G102: AC
...

Sheet Lima
A1: Lima Re 4/4 II | G1: =TODAY() -> 46254
A3: Hersteller | B3: Art.Nr.1 | C3: Typ | D3: Farbe | E3: Betriebsnr. | F3: AC/DC | G3: Decoder | H3: Bemerkungen
A5: Lima | B5: 208156 LP | C5: Re 4/4 II | D5: orange-grau | E5: 11112 | F5: DC | H5: ca. 1984 - 1989
A6: Lima | B6: 208156 LP Z2 | C6: Re 4/4 III | D6: grün | F6: DC | H6: SÜD-OST-BAHN
A7: Lima | B7: 208156 Z1 | C7: Re 4/4 II | D7: rot | E7: 11116 | F7: DC
A8: Lima | B8: 208156 Z2 | C8: Re 4/4 III | D8: grün | E8: 41 | F8: DC | H8: SÜD-OST-BAHN
A9: Lima | B9: 208157 LP | C9: Re 4/4 II | D9: grün | E9: 11152 | F9: DC | H9: SBB
A10: Lima | B10: 208219 L | C10: Re 4/4 III | D10: rotorange | E10: 41 | F10: DC | H10: SÜD-OST-BAHN
A11: Lima | B11: 208398 | C11: Re 4/4 II | D11: rot | E11: 11113 | F11: DC | H11: SÜD-OST-BAHN
A13: Custom Painted
A15: Lima/Rosetti | C15: Re 420 | D15: bunt | E15: ohne | F15: DC | H15: Voralpen-Express
B17: ANZAHL: | C17: =COUNTA(C4:C16) -> 8
B19: original | D19: =COUNTA(B5:B12) -> 7
B20: custom painted | D20: =C17-D19 -> 1
B22: = verifiziert
A24: Auflistungen sind nach bestem Wissen und Gewissen erstellt. Falls Fehler gefunden werden, bitte melden: | H24: Mail an Roland Hausin
A26: © 2025 Roland Hausin

Sheet Märklin
A1: Märklin Re 4/4 II (Spur H0) | I1: =TODAY() -> 46254
A3: Hersteller | B3: Art.Nr.1 | C3: Typ | D3: Farbe | E3: Betriebsnr. | F3: AC/DC | G3: Motor | H3: Decoder | I3: Bemerkungen | J3: Bemerkungen 2
A5: Märklin | B5: 3434 | C5: Re 4/4 II | D5: rot | E5: 11162 | F5: AC
A6: Märklin | B6: 3734 | C6: Re 4/4 II | D6: rot | E6: 11162 | F6: AC | H6: mfx
A7: Märklin | B7: 26534 | C7: Re 4/4 II | D7: grün | E7: 11332 | F7: AC | H7: mfx | I7: Set, 4-teilig
A8: Märklin | B8: 29481 | C8: Re 421 | D8: rot/blau | E8: 421 374-0 | F8: AC | H8: mfx | I8: Cargo
A9: Märklin | B9: 29483 | C9: Re 421 | D9: rot/blau | E9: 421 374-0 | F9: AC | H9: mfx | I9: Cargo
A10: Märklin | B10: 29859 | C10: Re 4/4 II | D10: grün | E10: 11376 | F10: AC | H10: 6090x | I10: aus Startset
A11: Märklin | B11: 31016 | C11: Re 420 | D11: weiss | E11: 420 268-5 | F11: AC | H11: mfx | I11: Gottardo 2016
A12: Märklin | B12: 34341 | C12: Re 4/4 II | D12: grün | E12: 11294 | F12: AC | H12: mfx
A13: Märklin | B13: 34345 | C13: Re 4/4 II | D13: türkis | E13: 11276 | F13: AC | H13: mfx | I13: Cargo Versuchsanstrich
A14: Märklin | B14: 37304 | C14: Re 420 | D14: rot | E14: 420 202-4 | F14: AC | H14: mfx+ | I14: Lion
A15: Märklin | B15: 37306 | C15: Re 4/4 II | D15: blau/rot/schjwarz | E15: 11181 | F15: AC | H15: mfx | I15: Zugkraft Aargau
A16: Märklin | B16: 37320 | C16: Re 4/4 II | D16: grün | E16: 11319 | F16: AC | H16: mfx
A17: Märklin | B17: 37340 | C17: Re 421 | D17: rot/blau | E17: 421 376-1 | F17: AC | H17: mfx | I17: Cargo
A18: Märklin | B18: 37341 | C18: Re 4/4 II | D18: grün | E18: 11294 | F18: AC | H18: mfx
A19: Märklin | B19: 37342 | C19: Re 4/4 II | D19: rot | E19: 11305 | F19: AC | H19: mfx | I19: Doppelpack mit 11344
A20: Märklin | B20: 37342 | C20: Re 4/4 II | D20: grün | E20: 11344 | F20: AC | H20: mfx | I20: Doppelpack mit 11305
A21: Märklin | B21: 37343 | C21: Re 4/4 II | D21: rot | E21: 11161 | F21: AC | H21: mfx+ | I21: TEE
A22: Märklin | B22: 37344 | C22: Re 4/4 II | D22: rot | E22: 11252 | F22: AC | H22: mfx
A23: Märklin | B23: 37345 | C23: Re 421 | D23: rot/blau | E23: 421 397-1 | F23: AC | H23: mfx | I23: Cargo
A24: Märklin | B24: 37346 | C24: Re 436 | D24: rot | E24: 436 113-5 | F24: AC | H24: mfx | I24: Crossrail
A25: Märklin | B25: 37347 | C25: Re 420 | D25: rot | E25: 420 227 | F25: AC | H25: mfx | I25: Lion
A26: Märklin | B26: 37348 | C26: Re 4/4 II | D26: rot | E26: 11229 | F26: AC | H26: mfx
A27: Märklin | B27: 37349 | C27: Re 4/4 II | D27: rot/crème | E27: 11250 | F27: AC | H27: mfx | I27: TEE
A28: Märklin | B28: 37351 | C28: Re 4/4 II | D28: rot/bunt | F28: AC | H28: mfx | I28: 50 Jahre LGB
A29: Märklin | B29: 37356 | C29: Re 4/4 II | D29: rot | E29: 11239 | F29: AC | H29: mfx | I29: Porrentruy
A30: Märklin | B30: 37359 | C30: Re 4/4 II | D30: grün | E30: 11310 | F30: AC | H30: mfx
A31: Märklin | B31: 37875 | C31: Re 420 | D31: weiss | E31: 420 251-1 | F31: AC | H31: mfx+ | I31: 175 Jahre SBB
A32: Märklin | B32: 37300-01 | C32: Re 421 | D32: rot/crème | E32: 421 393-0 | F32: AC | H32: mfx+ | I32: TEE
A33: Märklin | B33: 37300-02 | C33: Re 421 | D33: blau/crème | E33: 421 387-2 | F33: AC | H33: mfx+ | I33: Rheingold Bemalung
A34: Märklin | B34: 38420 | C34: Re 4/4 II | D34: orange/weiss | E34: 11141 | F34: AC | H34: mfx | I34: Swiss Express
A35: Märklin | B35: 83434 | C35: Re 4/4 II | D35: silber | F35: AC | H35: delta
A36: Märklin | C36: Re 4/4 II | D36: rot | E36: 11229 | F36: AC | H36: mfx
A37: Märklin | C37: Re 4/4 II | D37: grün | E37: 11332 | F37: AC | H37: mfx
A39: Custom Painted
A41: Märklin/Klancnik | C41: Re 420 | E41: ohne | F41: weiss | I41: Knie
B43: TOTAL: | C43: =COUNTA(C4:C42) -> 34
B45: original | D45: =COUNTA(C4:C38) -> 33
B46: custom painted | D46: =C43-D45 -> 1
A50: Auflistungen sind nach bestem Wissen und Gewissen erstellt. Falls Fehler gefunden werden, bitte melden: | I50: Mail an Roland Hausin
A52: © 2025 Roland Hausin

Sheet Messing
A1: Messing Re 4/4 II H0 | G1: =TODAY() -> 46254
A3: Hersteller | B3: Art.Nr.1 | C3: Typ | D3: Farbe | E3: Betriebsnr. | F3: AC/DC | G3: Decoder | H3: Bemerkungen
A5: Fulgurex/Tenshodo | B5: 2112 | C5: Re 4/4 II | D5: grün | E5: 11125 | F5: DC
A6: Fulgurex/Tenshodo | B6: 2113 | C6: Re 4/4 II | D6: grün | E6: 11156 | F6: DC | H6: 2-motorig
A8: Lemaco | C8: Re 4/4 II | D8: grün | E8: 11156 | F8: DC
B11: TOTAL: | C11: =COUNTA(C4:C10) -> 3
B14: = verifiziert
A17: Auflistungen sind nach bestem Wissen und Gewissen erstellt. Falls Fehler gefunden werden, bitte melden: | G17: Mail an Roland Hausin
A19: © 2025 Roland Hausin

Sheet Rivarossi
A1: Rivarossi Re 4/4 II | G1: =TODAY() -> 46254
A3: Hersteller | B3: Art.Nr.1 | C3: Typ | D3: Farbe | E3: Betriebsnr. | F3: AC/DC | G3: Decoder | H3: Bemerkungen
A5: Rivarossi | B5: 1060 | C5: Re 4/4 II | D5: grün | E5: 11137 | F5: AC
A6: Rivarossi | B6: 1061 | C6: Re 4/4 II | D6: rot | E6: 11147 | F6: AC
A7: Rivarossi | B7: 1062 | C7: Re 4/4 II | D7: rot | E7: 11134 | F7: AC | H7: Doppelpack mit Dummy 11143
A8: Rivarossi | B8: 1650 | C8: Re 4/4 II | D8: grün | E8: 11137 | F8: DC
A9: Rivarossi | B9: 1650.1 | C9: Re 4/4 II | D9: grün | E9: 11137
A10: Rivarossi | B10: 1651 | C10: Re 4/4 II | D10: rot | E10: 11110
A11: Rivarossi | B11: 1651.1 | C11: Re 4/4 II | D11: rot | E11: 11147 | F11: DC
A12: Rivarossi | B12: 16518 | C12: Re 4/4 II | D12: rot | E12: 11147 | F12: DC
A13: Rivarossi | B13: 1662 | C13: Re 4/4 II | D13: rot | E13: 11134 | F13: DC | H13: Doppelpack mit Dummy 11143
A14: Rivarossi | B14: 1652 | C14: Re 4/4 II | D14: rot | E14: 41 | H14: SOB
A15: Rivarossi | B15: 1653 | C15: Re 4/4 II | D15: orange-grau | E15: 11113 | H15: Swiss Express
B17: ANZAHL: | C17: =COUNTA(C4:C16) -> 11
B19: = verifiziert
A21: Auflistungen sind nach bestem Wissen und Gewissen erstellt. Falls Fehler gefunden werden, bitte melden: | H21: Mail an Roland Hausin
A23: © 2025 Roland Hausin

Sheet ROCO
A1: Roco Re 4/4 II | G1: =TODAY() -> 46254
A3: Hersteller | B3: Art.Nr.1 | C3: Typ | D3: Betriebsnr. | E3: Farbe | F3: AC/DC | G3: Decoder | H3: Bemerkungen
A5: Roco | B5: 61442 | C5: Re 420 | D5: 420 221-4 | E5: rot | F5: DC | H5: Lion
A6: Roco | B6: 61443 | C6: Re 420 | D6: 420 221-4 | E6: rot | F6: DCC | G6: Sound | H6: Lion
A7: Roco | B7: 61444 | C7: Re 420 | D7: 420 227-1 | E7: rot | F7: DC | H7: Lion
A8: Roco | B8: 61445 | C8: Re 420 | D8: 420 227-1 | E8: rot | F8: DCC | G8: Sound | H8: Lion
A9: Roco | B9: 41312 | C9: Re 4/4 II | D9: 11142 | E9: grün | F9: DCC | H9: Set
A10: Roco | B10: 62690 | C10: Re 420 | D10: 11109 | E10: orange/weiss | F10: DC | H10: Swiss Express
A11: Roco | B11: 62691 | C11: Re 420 | D11: 420 504-3 | E11: silber/blau/hellgrün | F11: DC | H11: BLS
A12: Roco | B12: 63840 | C12: Re 4/4 II | D12: 11128 | E12: grün | F12: DC
A13: Roco | B13: 63841 | C13: Re 4/4 II | D13: 11134 | E13: rot | F13: DC
A14: Roco | B14: 63842 | C14: Re 4/4 II | D14: 11141 | E14: orange/weiss | F14: DC | H14: Swiss Express
A15: Roco | B15: 63843 | C15: Re 4/4 II | D15: 11117 | E15: grün | F15: DC
A16: Roco | B16: 63843.1 | C16: Re 4/4 II | D16: 11117 | E16: grün | F16: DC | H16: mit Klima
A17: Roco | B17: 63844 | C17: Re 420 | D17: 420 502-7 | E17: silber/blau/hellgrün | F17: DC | H17: BLS
A18: Roco | B18: 63845 | C18: Re 4/4 II | D18: 11144 | E18: rot | F18: DC
A19: Roco | B19: 63845.1 | C19: Re 4/4 II | D19: 11144 | E19: rot | F19: DC | H19: mit Klima
A20: Roco | B20: 63847-503 | C20: Re 4/4 II | D20: 420 503-6 | E20: silber/rot | F20: DC | H20: Travys
A21: Roco | B21: 69840 | C21: Re 4/4 II | D21: 11128 | E21: grün | F21: AC
A22: Roco | B22: 69841 | C22: Re 4/4 II | D22: 11134 | E22: rot | F22: AC
A23: Roco | B23: 69842 | C23: Re 4/4 II | D23: 11141 | E23: orange/weiss | F23: AC | H23: Swiss Express
A24: Roco | B24: 69843 | C24: Re 4/4 II | D24: 11117 | E24: grün | F24: AC
A25: Roco | B25: 69844 | C25: Re 420 | D25: 420 502-7 | E25: silber/blau/hellgrün | F25: AC | H25: BLS
A26: Roco | B26: 69845 | C26: Re 4/4 II | D26: 11144 | E26: rot | F26: AC
A27: Roco | B27: 68690 | C27: Re 420 | D27: 11109 | E27: orange/weiss | F27: AC | H27: Swiss Express
A28: Roco | B28: 68691 | C28: Re 420 | D28: 420 504-3 | E28: silber/blau/hellgrün | F28: AC | H28: BLS
A29: Roco | B29: 71401 | C29: Re 420 | D29: 420 294-1 | E29: rot | F29: DC | H29: Circus Knie
A30: Roco | B30: 71402 | C30: Re 420 | D30: 420 294-1 | E30: rot | F30: DCC | G30: Sound | H30: Circus Knie
A31: Roco | B31: 71403 | C31: Re 430 | D31: 430 364-0 | E31: grün | F31: DC
A32: Roco | B32: 71404 | C32: Re 430 | D32: 430 364-0 | E32: grün | F32: DCC | G32: Sound
A33: Roco | B33: 71405 | C33: Re 4/4 II | D33: 11251 | E33: rot/crème | F33: DC | H33: TEE
A34: Roco | B34: 71406 | C34: Re 4/4 II | D34: 11251 | E34: rot/crème | F34: DC | G34: Sound | H34: TEE
A35: Roco | B35: 71407 | C35: Re 421 | D35: 421 394-8 | E35: blau | F35: DC | H35: Zürich-München
A36: Roco | B36: 71408 | C36: Re 421 | D36: 421 394-8 | E36: blau | F36: DCC | G36: Sound | H36: Zürich-München
A37: Roco | B37: 71410 | C37: Re 4/4 III | D37: 11361 | E37: rot | F37: DC | H37: Doppelpack mit Re 6/6
A38: Roco | B38: 71412 | C38: Re 421 | D38: 421 371-6 | E38: blau | F38: DC | H38: Zürich-München
A39: Roco | B39: 71413 | C39: Re 421 | D39: 421 371-6 | E39: blau | F39: DCC | G39: Sound | H39: Zürich-München
A40: Roco | B40: 71416 | C40: Re 420 | D40: 420 257-8 | E40: bunt | F40: DC | H40: Bei uns dreht sich alles um nachhaltige Entsorgung
A41: Roco | B41: 71417 | C41: Re 420 | D41: 420 257-8 | E41: bunt | F41: DCC | G41: Sound | H41: Bei uns dreht sich alles um nachhaltige Entsorgung
A42: Roco | B42: 72400 | C42: Re 4/4 II | D42: 11158 | E42: rot/crème | F42: DC | H42: TEE
A43: Roco | B43: 72401 | C43: Re 4/4 II | D43: 11158 | E43: rot/crème | F43: DC | G43: Sound | H43: TEE
A44: Roco | B44: 72402 | C44: Re 4/4 II | D44: 11208 | F44: DC
A45: Roco | B45: 72403 | C45: Re 4/4 II | D45: 11208 | E45: rot | F45: DCC | G45: Sound
A46: Roco | B46: 72404 | C46: Re 421 | D46: 421 387-2 | E46: blau/rot | F46: DC | H46: Cargo
A47: Roco | B47: 72405 | C47: Re 421 | D47: 421 387-2 | E47: blau/rot | F47: DCC | G47: Sound | H47: Cargo
A48: Roco | B48: 72406 | C48: Re 4/4 II | D48: 11161 | E48: grün | F48: DC
A49: Roco | B49: 72407 | C49: Re 4/4 II | D49: 11161 | E49: grün | F49: DC | G49: Sound
A50: Roco | B50: 72408 | C50: Re 4/4 II | D50: 11239 | E50: grün | F50: DC | H50: Porrentruy
A51: Roco | B51: 72409 | C51: Re 4/4 II | D51: 11239 | E51: grün | F51: DCC | G51: Sound | H51: Porrentruy
A52: Roco | B52: 72410 | C52: Re 4/4 II | D52: 11181 | E52: bunt | F52: DC | H52: Bourret
A53: Roco | B53: 72411 | C53: Re 4/4 II | D53: 11181 | E53: bunt | F53: DC | G53: Sound | H53: Bourret
A54: Roco | B54: 72412 | C54: Re 421 | D54: 421 383-1 | E54: grau | F54: DC | H54: RailAdventure
A55: Roco | B55: 72413 | C55: Re 421 | D55: 421 383-1 | E55: grau | F55: DCC | G55: Sound | H55: RailAdventure
A56: Roco | B56: 72418 | C56: Re 4/4 III | D56: 11370 11357 | E56: grün | F56: DC | H56: Doppelpack
A57: Roco | B57: 72419 | C57: Re 4/4 III | E57: grün | F57: DCC | G57: Sound | H57: Doppelpack
A58: Roco | B58: 72583b | C58: Re 420 | D58: 420 169-5 | E58: blau/rot | F58: DCC | G58: Sound | H58: Cargo
A59: Roco | B59: 73250 | C59: Re 420 | D59: 420 275 | E59: rot | F59: DC
A60: Roco | B60: 73251 | C60: Re 420 | D60: 420 275 | E60: rot | F60: DCC | G60: Sound
A61: Roco | B61: 73252 | C61: Re 420 | D61: 420 268-5 | E61: weiss | F61: DC | H61: Gottardo 2016
A62: Roco | B62: 73253 | C62: Re 420 | D62: 420 268-5 | E62: weiss | F62: DC | G62: Sound | H62: Gottardo 2016
A63: Roco | B63: 73254 | C63: Re 4/4 II | D63: 11214 | E63: grün | F63: DC | I63: https://www.roco.cc/rde/catalog/product/view/id/4259/
A64: Roco | B64: 73255 | C64: Re 4/4 II | D64: 11214 | E64: grün | F64: DCC | G64: Sound
A65: Roco | B65: 73256 | C65: Re 421 | D65: 421 389-8 | E65: blau/rot | F65: DC | H65: Cargo
A66: Roco | B66: 73257 | C66: Re 421 | D66: 421 389-8 | E66: blau/rot | F66: DCC | G66: Sound | H66: Cargo
A67: Roco | B67: 73258 | C67: Re 420 | D67: 420 278-4 | E67: rot | F67: DC
A68: Roco | B68: 73259 | C68: Re 420 | D68: 420 278-4 | E68: rot | F68: DCC | G68: Sound
A69: Roco | B69: 73370 | C69: Re 4/4 II | D69: 11193 | E69: rot | F69: DC
A70: Roco | B70: 73371 | C70: Re 4/4 II | D70: 11193 | E70: rot | F70: DCC | G70: Sound
A71: Roco | B71: 73372 | C71: Re 4/4 II | D71: 11160 | E71: rot/crème | F71: DC | H71: TEE
A72: Roco | B72: 73373 | C72: Re 4/4 II | D72: 11160 | E72: rot/crème | F72: DCC | G72: Sound | H72: TEE
A73: Roco | B73: 73374 | C73: Re 4/4 II | D73: 11320 | E73: orange | F73: DC | H73: Interregio Cargo
A74: Roco | B74: 73375 | C74: Re 4/4 II | D74: 11320 | E74: orange | F74: DCC | G74: Sound | H74: Interregio Cargo
A75: Roco | B75: 73376 | C75: Re 420 | D75: 420 221-4 | E75: rot | F75: DC | H75: Lion
A76: Roco | B76: 73377 | C76: Re 420 | D76: 420 221-4 | E76: rot | F76: DCC | G76: Sound | H76: Lion
A77: Roco | B77: 73378 | C77: Re 420 | D77: 420 227-1 | E77: rot | F77: DC | H77: Lion
A78: Roco | B78: 73991 | C78: Re 4/4 III | D78: 11370 | E78: grün | F78: DCC | G78: Sound
A79: Roco | B79: 73992 | C79: Re 4/4 III | D79: 11357 | E79: grün | F79: DCC | G79: Sound
A80: Roco | B80: 73995 | C80: Re 420 | D80: 420 227-1 | E80: rot | F80: DC | H80: Lion
A81: Roco | B81: 73996 | C81: Re 420 | D81: 420 227-1 | E81: rot | F81: DCC | G81: Sound | H81: Lion
A82: Roco | B82: 73998 | C82: Re 420 | D82: 420 169-5 | E82: blau/rot | F82: DC | H82: Cargo
A83: Roco | B83: 73999 | C83: Re 420 | D83: 420 169-5 | E83: blau/rot | F83: DCC | G83: Sound | H83: Cargo
A84: Roco | B84: 78400 | C84: Re 4/4 II | D84: 11158 | E84: rot/crème | F84: AC | H84: TEE
A85: Roco | B85: 78401 | C85: Re 4/4 II | D85: 11158 | E85: rot/crème | F85: AC | G85: Sound | H85: TEE
A86: Roco | B86: 78402 | C86: Re 4/4 II | D86: 11208 | E86: rot | F86: AC
A87: Roco | B87: 78403 | C87: Re 4/4 II | D87: 11208 | E87: rot | F87: AC | G87: Sound
A88: Roco | B88: 78404 | C88: Re 421 | D88: 421 387-2 | E88: blau/rot | F88: AC | H88: Cargo
A89: Roco | B89: 78405 | C89: Re 421 | D89: 421 387-2 | E89: blau/rot | F89: AC | G89: Sound | H89: Cargo
A90: Roco | B90: 78407 | C90: Re 4/4 II | D90: 11161 | E90: grün | F90: AC | G90: Sound
A91: Roco | B91: 78409 | C91: Re 4/4 II | D91: 11239 | E91: grün | F91: AC | G91: Sound | H91: Porrentruy
A92: Roco | B92: 78411 | C92: Re 4/4 II | D92: 11181 | E92: bunt | F92: AC | H92: Bourret
A93: Roco | B93: 78413 | C93: Re 421 | D93: 421 383-1 | E93: grau | F93: AC | G93: Sound | H93: RailAdventure
A94: Roco | B94: 78415 | C94: Re 420 | D94: 420 221-4 | E94: rot | F94: AC | G94: Sound | H94: Lion
A95: Roco | B95: 78417 | C95: Re 420 | D95: 420 227-1 | E95: rot | F95: AC | G95: Sound | H95: Lion
A96: Roco | B96: 78419 | C96: Re 4/4 III | D96: 11370 11357 | E96: grün | F96: AC | G96: Sound | H96: Doppelpack
A97: Roco | B97: 79251 | C97: Re 420 | D97: 420 275 | E97: rot | F97: AC | G97: Sound
A98: Roco | B98: 79253 | C98: Re 420 | D98: 420 268-5 | E98: weiss | F98: AC | G98: Sound | H98: Gottardo 2016
A99: Roco | B99: 79255 | C99: Re 4/4 II | D99: 11214 | E99: grün | F99: AC | G99: Sound
A100: Roco | B100: 79257 | C100: Re 421 | D100: 421 389-8 | E100: blau/rot | F100: AC | G100: Sound | H100: Cargo
A101: Roco | B101: 79259 | C101: Re 421 | D101: 421 389-8 | E101: blau/rot | F101: AC | G101: Sound | H101: Cargo
A102: Roco | B102: 79371 | C102: Re 4/4 II | D102: 11193 | E102: rot | F102: AC | G102: Sound
...

Sheet Trix
A1: Trix Re 4/4 II | G1: =TODAY() -> 46254
A3: Hersteller | B3: Art.Nr.1 | C3: Typ | D3: Betriebsnr. | E3: Farbe | F3: AC/DC | G3: Decoder | H3: Bemerkungen
A5: Trix | B5: 21333 | C5: Re 4/4 II | D5: 11332 | E5: grün | F5: DC | H5: Set
A6: Trix | B6: 22148 | C6: Re 4/4 II | D6: 11250 | E6: rot/crème | F6: DC | H6: TEE
A7: Trix | B7: 22313 | C7: Re 421 | D7: 421 397-1 | E7: rot/blau | F7: DC | H7: Cargo
A8: Trix | B8: 22391 | C8: Re 4/4 II | D8: 11268 | E8: weiss | F8: DC | H8: Gottardo 2016
A9: Trix | B9: 22585 | C9: Re 4/4 II | D9: 11252 | E9: rot | F9: DC
A10: Trix | B10: 22666 | C10: Re 421 | D10: 421 379-0 | E10: blau | F10: DC | G10: mfx+ | H10: Zürich-München
A11: Trix | B11: 22744 | C11: Re 4/4 II | D11: 11161 | E11: rot/crème | F11: DC | H11: TEE
A12: Trix | B12: 22835 | C12: Re 420 | D12: 420 227-1 | E12: rot | F12: DCC | G12: mfx+ | H12: Lion
A13: Trix | B13: 22843 | C13: Re 420 | D13: 420 306-3 | E13: rot/bunt | F13: DC | G13: mfx+ | H13: 50 Jahre LGB
A14: Trix | B14: 22844 | C14: Re 4/4 II | D14: 11252 | E14: rot/crème | F14: DC | G14: mfx+ | H14: TEE
A15: Trix | B15: 22848 | C15: Re 421 | D15: 421 378-1 | E15: rot/blau | F15: DCC | G15: mfx+ | H15: Cargo
A16: Trix | B16: 22849 | C16: Re 420 | D16: 420 202-4 | E16: rot | F16: DC | G16: mfx+ | H16: Lion
A17: Trix | B17: 25420 | C17: Re 4/4 II | D17: 11141 | E17: orange/weiss | F17: DCC | G17: mfx+ | H17: Swiss Express
A18: Trix | B18: 25875 | C18: Re 420 | D18: 420 251-1 | E18: crème | F18: DC | G18: mfx+ | H18: 175 Jahre SBB
A19: Trix | B19: 25100-01 | C19: Re 421 | D19: 421 393-0 | E19: rot/crème | F19: DC | G19: mfx+ | H19: TEE
A20: Trix | B20: 25100-02 | C20: Re 421 | D20: 421 387-2 | E20: blau/crème | F20: DC | G20: mfx+ | H20: Rheingold Bemalung
A21: Trix | C21: Re 4/4 II | D21: 11239 | E21: rot | F21: DC | H21: Wappen Porrentruy
B24: ANZAHL: | C24: =COUNTA(C4:C23) -> 17
B26: = verifiziert
A28: Auflistungen sind nach bestem Wissen und Gewissen erstellt. Falls Fehler gefunden werden, bitte melden: | H28: Mail an Roland Hausin
A30: © 2025 Roland Hausin

Sheet Andere
A1: Re 4/4 II anderer Hersteller | G1: =TODAY() -> 46254
A3: Hersteller | B3: Art.Nr.1 | C3: Typ | D3: Farbe | E3: Betriebsnr. | F3: AC/DC | G3: Decoder | H3: Bemerkungen
A5: Jouef | B5: 8857 | C5: Re 4/4 II | D5: rot/crème | E5: 11166 | F5: DC | H5: TEE
A6: Jouef | B6: 8868 | C6: Re 4/4 II | D6: bunt | E6: 11181 | F6: DC | H6: Bourret
A7: Jouef | B7: 8869 | C7: Re 4/4 II | D7: rot/crème | E7: 11181 | F7: DC
A8: Jouef | B8: 8856 | C8: Re 4/4 II | D8: grün | E8: 11166 | F8: DC
A9: Jouef | C9: Re 4/4 II | D9: grün | E9: 11160 | F9: DC
A11: Loki Spengler | C11: Re 4/4 II | D11: rot/crème | E11: 11158 | F11: AC | H11: 1-motorig, Messingschild der BN
B14: ANZAHL: | C14: =COUNTA(C4:C13) -> 6
B16: = verifiziert
A18: Auflistungen sind nach bestem Wissen und Gewissen erstellt. Falls Fehler gefunden werden, bitte melden: | H18: Mail an Roland Hausin
A20: © 2025 Roland Hausin
