Workbook

Sheet TOTAL
A1: Anzahl bekannte Re 4/4 IV / Re 446 / Re 456 in Spur H0 | G1: =TODAY() -> 46078
B4: Total | D4: Original | E4: Custom painted
A6: HAG | B6: =HAG!C118 -> 99 | D6: =HAG!D120 -> 69 | E6: =HAG!D121 -> 30
A7: Märklin | B7: =Märklin!C47 -> 29 | D7: =Märklin!D49 -> 19 | E7: =Märklin!D50 -> 10
A8: Messing | B8: =Messing!C8 -> 0
A9: PIKO | B9: =PIKO!C10 -> 0
A10: Roco | B10: =ROCO!C70 -> 56 | D10: =ROCO!D72 -> 49 | E10: =ROCO!D73 -> 7
A11: Trix | B11: =Trix!C7 -> 0
A12: Andere | B12: =Andere!C14 -> 5 | E12: 1
A14: TOTAL | B14: =SUM(B5:B13) -> 189
A19: Auflistungen sind nach bestem Wissen und Gewissen erstellt. Falls Fehler gefunden werden, bitte melden: | I19: Mail an Roland Hausin
A21: © 2026 Roland Hausin
A24: Typen | B24: Re 4/4 IV
B25: Re 446
B26: Re 456

Sheet HAG
A1: HAG Re 4/4 IV / Re 456 | H1: =TODAY() -> 46078
A3: Hersteller | B3: Art.Nr.1 | C3: Art.Nr.2 | D3: Typ | E3: Betriebsnr. | F3: Farbe | G3: AC/DC | H3: Decoder | I3: Bemerkungen
A5: HAG | B5: 78.01 | C5: 27001 | D5: Re 456 | E5: 93 | F5: bunt | G5: AC | I5: SOB Voralpen-Express, schneller in den Süden
A6: HAG | B6: 92.01 | C6: 26040 | D6: Re 456 | E6: 93 | F6: bunt | G6: AC | I6: SOB Voralpen-Express, 50 Jahre HAG
A7: HAG | B7: 98.01 | D7: Re 456 | E7: 93 | F7: bunt | G7: AC | I7: SOB Voralpen-Express, ohne 50 Jahre HAG
A8: HAG | B8: 98.02 | D8: Re 456 | E8: 93 | F8: bunt | G8: AC | I8: SOB Voralpen-Express, ohne 50 Jahre HAG, schneller in den Süden
A9: HAG | B9: 98.99 | D9: Re 456 | E9: 93 | F9: bunt | G9: AC | I9: SOB Voralpen-Express, dunkles Dach, x/1
A10: HAG | B10: 186.01 | C10: 26002 | D10: Re 456 | E10: 92 | F10: grün/crème | G10: AC | I10: BT Wittenbach
A11: HAG | B11: 186.02 | C11: 26005 | D11: Re 456 | E11: 95 | F11: grün/crème | G11: AC | I11: BT Degersheim
A12: HAG | B12: 186.03 | C12: 26001 | D12: Re 456 | E12: 91 | F12: grün/crème | G12: AC | I12: BT Romanshorn
A13: HAG | B13: 186.04 | C13: 26006 | D13: Re 456 | E13: 96 | F13: grün/crème | G13: AC | I13: BT Wattwil
A14: HAG | B14: 186.05 | C14: 26003 | D14: Re 456 | E14: 93 | F14: grün/crème | G14: AC | I14: BT St. Gallen
A15: HAG | B15: 186.06 | C15: 26004 | D15: Re 456 | E15: 94 | F15: grün/crème | G15: AC | I15: BT Herisau
A16: HAG | B16: 186.07 | C16: 26011 | D16: Re 456 | E16: 456 095-6 | F16: weiss | G16: AC | I16: BT Lista
A17: HAG | B17: 186.08 | C17: 26009 | D17: Re 456 | E17: 91 | F17: grün/crème | G17: AC | I17: BT Romanshorn, HCB-Concreta, xx/100
A18: HAG | B18: 186.09 | C18: 26010 | D18: Re 456 | E18: 96 | F18: grün/crème | G18: AC | I18: BT Wattwil, Agrola
A19: HAG | B19: 186.1 | C19: 26008 | D19: Re 456 | E19: 91 | F19: grün/crème | G19: AC | I19: BT Romanshorn, Schützengarten
A20: HAG | B20: 186.11 | C20: 26007 | D20: Re 456 | E20: 94 | F20: grün/crème | G20: AC | I20: BT Herisau, HCB-Concreta
A21: HAG | B21: 186.12 | C21: 26014 | D21: Re 456 | E21: 456 094-2 | F21: schwarz/weiss | G21: AC | I21: BT Vögele I
A22: HAG | B22: 186.13 | C22: 26012 | D22: Re 456 | E22: 456 092-6 | F22: gelb/schwarz | G22: AC | I22: BT Tele Top
A23: HAG | B23: 186.14 | C23: 26013 | D23: Re 456 | E23: 456 093-4 | F23: bunt | G23: AC | I23: BT Ski-WM 2001 St. Anton
A24: HAG | B24: 186.15 | D24: Re 456 | E24: 456 093-4 | F24: bunt | G24: AC | I24: BT Ski-WM 2001 St. Anton, mit Gratulation
A25: HAG | B25: 186.16 | D25: Re 456 | E25: 456 093-4 | F25: bunt | G25: AC | I25: BT Chäserrugg
A26: HAG | B26: 186.17 | C26: 26016 | D26: Re 456 | E26: 456 091-8 | F26: weiss | G26: AC | I26: BT Radio Aktuell
A27: HAG | B27: 186.18 | C27: 26022 | D27: Re 456 | E27: 456 096-7 | F27: blau | G27: AC | I27: BT Molat
A28: HAG | B28: 186.19 | D28: Re 456 | E28: 456 092-6 | F28: weiss/blau/rot | G28: AC | I28: BT BZ Bank, x/20
A29: HAG | B29: 186.2 | C29: 26015 | D29: Re 456 | E29: 456 093-4 | F29: bunt | G29: AC | I29: Sersa
A30: HAG | B30: 186.21 | C30: 26018 | D30: Re 456 | E30: 456 094-2 | F30: weiss/schwarz/rot | G30: AC | I30: BT Vöegele 2
A31: HAG | B31: 186.22 | C31: 26017 | D31: Re 456 | E31: 456 091-8 | F31: bunt | G31: AC | I31: BT Ski-Wm 2003
A32: HAG | B32: 187.23 | D32: Re 456 | F32: blau | G32: DC | I32: Schienenreiniger für HAG Anlage, x/1
A33: HAG | B33: 188.01 | D33: Re 456 | E33: 47 | F33: orange-rot | G33: AC | I33: SZU
A34: HAG | B34: 188.02 | C34: 26023 | D34: Re 456 | E34: 46 | F34: orange-rot | G34: AC | I34: SZU
A35: HAG | B35: 188.03 | C35: 26024 | D35: Re 456 | E35: 456 547-9 | F35: orange-rot | G35: AC | I35: SZU
A36: HAG | B36: 188.04 | C36: 26037 | D36: Re 456 | E36: 43 | F36: orange-rot | G36: AC | I36: SZU
A37: HAG | B37: 262.01 | C37: 26020 | D37: Re 456 | E37: 456 143-7 | F37: bunt | G37: AC | I37: SOB Ostwind
A38: HAG | B38: 262.02 | C38: 26021 | D38: Re 456 | E38: 456 091-8 | F38: bunt | G38: AC | I38: SOB, VAE, Rigi
A39: HAG | B39: 262.03 | C39: 26019 | D39: Re 456 | E39: 456 142-9 | F39: weiss/rot | G39: AC | I39: SOB, neues Design (Bezeichnung ist eigentlich nicht richtig)
A40: HAG | B40: 262.04 | C40: 26032 | D40: Re 456 | E40: 456 091-8 | F40: weiss/hellblau | G40: AC | I40: SOB, VAE, Rigi
A41: HAG | B41: 262.05 | C41: 26033 | D41: Re 456 | E41: 456 096-7 | F41: weiss/hellblau | G41: AC | I41: SOB Voralpen-Express 2, Ostschweiz
A42: HAG | B42: 262.06 | C42: 26037 | D42: Re 456 | E42: 456 095-9 | F42: weiss/hellblau | G42: AC | I42: SOB Lista Office
...

Sheet Märklin
A1: Märklin Re 4/4 IV / Re 446 (Spur H0) | I1: =TODAY() -> 46078
A3: Hersteller | B3: Art.Nr.1 | C3: Typ | D3: Farbe | E3: Betriebsnr. | F3: AC/DC | G3: Motor | H3: Decoder | I3: Bemerkungen | J3: Bemerkungen 2
A5: Märklin | B5: 3323 | C5: Re 4/4IV | D5: zinnoberrot/grau | E5: 10102 | F5: AC | G5: Trommelkollektor | I5: kleiner weisser Pleitegeier
A6: Märklin | B6: 3328 | C6: Re 4/4IV | D6: rot | E6: 10103 | F6: AC | G6: Trommelkollektor | I6: weisser Pleitegeier
A7: Märklin | B7: 3330 | C7: Re 4/4IV | D7: rot | E7: 10104 | F7: AC | G7: Trommelkollektor | H7: Delta | I7: Bahn 2000
A8: Märklin | B8: 3430 | C8: Re 4/4IV | D8: rot | E8: 10101 | F8: AC | H8: Delta
A9: Märklin | B9: 3530 | C9: Re 4/4IV | D9: rot | E9: 10104 | F9: AC | G9: 5-Stern | I9: Bahn 2000
A10: Märklin | B10: 3623 | C10: Re 4/4IV | D10: rot | E10: 10104 | F10: AC
A11: Märklin | B11: 3630 | C11: Re 4/4IV | D11: rot | E11: 10104 | F11: AC | G11: MM | I11: Bahn 2000
A12: Märklin | B12: 26567 | C12: Re 4/4IV | D12: rot | E12: 10102 | F12: AC | H12: mfx | I12: Zugpackung
A13: Märklin | B13: 34301 | C13: Re 446 | D13: rot | E13: 446 448-3 | F13: AC | I13: Südostbahn
A14: Märklin | B14: 34302 | C14: Re 446 | D14: bunt | F14: AC | H14: Delta | I14: Baukasten
A15: Märklin | B15: 34303 | C15: Re 446 | D15: weiss/bunt | E15: 446 446-5 | F15: AC | I15: 150 Jahre Schweizer Bahnen
A16: Märklin | B16: 34304 | C16: Re 446 | D16: bunt | E16: 446 445-9 | F16: AC | I16: SOB Alno
A17: Märklin | B17: 34305 | C17: Re 446 | D17: weiss/violett | E17: 446 448-3 | F17: AC | I17: SOB Swisscom Horizonten
A18: Märklin | B18: 37301 | C18: Re 446 | D18: grau | E18: 446 017-6 | F18: AC | G18: HLA | H18: mfx | I18: Fernweh/Sehnsucht
A19: Märklin | B19: 37302 | C19: Re 446 | D19: bunt | E19: 446 447-5 | F19: AC | G19: HLA | H19: mfx | I19: Baukasten
A20: Märklin | B20: 37303 | C20: Re 446 | D20: weiss/bunt | E20: 446 447-5 | F20: AC | G20: HLA | H20: mfx | I20: SOB, 150 Jahre
A21: Märklin | B21: 83328 | C21: Re 446 | D21: rot | E21: 10102 | F21: AC | G21: Trommelkollektor | I21: Grafitti
A24: Märklin/HAMO | B24: 3323 | C24: Re 446 | D24: rot/silber | E24: 10102 | F24: DC | G24: Trommelkollektor | I24: kleiner weisser Pleitegeier
A25: Märklin/HAMO | B25: 1998.5 | C25: Re 446 | D25: weiss/bunt | F25: DC | G25: ESU LoPi 4 | I25: 150 Jahre Schweizer Bahnen
A28: Custom painted
A31: Märklin/Claessen | B31: 3323 | C31: Re 446 | D31: grau/rot | E31: 10101
A33: Märklin/Hillig | B33: 3323 | C33: Re 446 | D33: rot/bunt | E33: 10102 | I33: Reisezug
A35: Märklin/Klancnik | B35: 34301 | C35: Re 446 | D35: weiss/rot | E35: 446 448-3 | I35: Knie
A36: Märklin/Klancnik | B36: 3323 | C36: Re 446 | D36: gelb | I36: Die Post
A38: Märklin/ozo | C38: Re 446 | D38: blau | E38: 456 104-9 | I38: P&O Ferrymaster, x/5
A39: Märklin/ozo | C39: Re 446 | D39: grün | E39: 10104 | I39: Hangartner
A41: HAG/Schäfer | C41: Re 446 | D41: goldfarbig | E41: 10103 | I41: Toblerone
A42: HAG/Schäfer | C42: Re 446 | D42: schwarz | E42: 446 101-8 | I42: Toblerone
A43: HAG/Schäfer | C43: Re 446 | D43: rot/grau | E43: 446 | I43: Südostbahn
A44: HAG/Schäfer | C44: Re 446 | D44: gelb | E44: 446 | I44: Akademie St. Gallen
B47: TOTAL: | C47: =COUNTA(C4:C46) -> 29
B49: original | D49: =COUNTA(C4:C27) -> 19
B50: custom painted | D50: =COUNTA(C28:C46) -> 10
B52: = verifiziert
A54: Auflistungen sind nach bestem Wissen und Gewissen erstellt. Falls Fehler gefunden werden, bitte melden: | J54: Mail an Roland Hausin
A56: =TOTAL!A21 -> © 2026 Roland Hausin

Sheet Messing
A1: Messing Re 4/4 IV / Re 456 (Spur H0) | G1: =TODAY() -> 46078
A3: Hersteller | B3: Art.Nr.1 | C3: Typ | D3: Farbe | E3: Betriebsnr. | F3: AC/DC | G3: Decoder | H3: Bemerkungen
B8: TOTAL: | C8: =COUNTA(C5:C6) -> 0
B13: = verifiziert
A15: Auflistungen sind nach bestem Wissen und Gewissen erstellt. Falls Fehler gefunden werden, bitte melden: | G15: Mail an Roland Hausin
A17: =TOTAL!A21 -> © 2026 Roland Hausin

Sheet PIKO
A1: PIKO Re 4/4 IV / Re 456 | G1: =TODAY() -> 46078
A3: Hersteller | B3: Art.Nr.1 | C3: Typ | D3: Farbe | E3: Betriebsnr. | F3: AC/DC | G3: Decoder | H3: Bemerkungen
A5: Piko
A6: Piko
A7: Piko
B10: ANZAHL: | C10: =SUM(C4:C9) -> 0
B14: = verifiziert
A16: Auflistungen sind nach bestem Wissen und Gewissen erstellt. Falls Fehler gefunden werden, bitte melden: | I16: Mail an Roland Hausin
A18: =TOTAL!A21 -> © 2026 Roland Hausin

Sheet ROCO
A1: Roco Re 4/4 IV / Re 446 (Spur H0) | G1: =TODAY() -> 46078
A3: Hersteller | B3: Art.Nr.1 | C3: Typ | D3: Farbe | E3: Betriebsnr. | F3: AC/DC | G3: Decoder | H3: Bemerkungen
A5: Roco | B5: 41061 | C5: Re 446 | D5: rot | E5: 10101 | F5: DC
A6: Roco | B6: 43491 | C6: Re 446 | D6: rot | E6: 10101 | F6: DC | H6: SBB Beschriftung
A7: Roco | B7: 43492 | C7: Re 446 | D7: rot | E7: 10103 | F7: DC | H7: SBB Beschriftung
A8: Roco | B8: 43493 | C8: Re 446 | D8: rot | E8: 10101 | F8: DC | H8: SBB Beschriftung
A9: Roco | B9: 43493.1 | C9: Re 446 | D9: rot | E9: 10102 | F9: DC | H9: SBB Beschriftung
A10: Roco | B10: 43493.2 | C10: Re 446 | D10: rot | E10: 10103 | F10: DC | H10: SBB Beschriftung
A11: Roco | B11: 43493.3 | C11: Re 446 | D11: rot | E11: 10104 | F11: DC | H11: SBB Beschriftung
A12: Roco | B12: 43494 | C12: Re 446 | D12: rot | E12: 10104 | F12: AC | H12: SBB Beschriftung
A13: Roco | B13: 43512 | C13: Re 446 | D13: rot | F13: DC | H13: Bahn 2000
A14: Roco | B14: 43541 | C14: Re 446 | D14: blau | E14: 446 446-7 | F14: DC | H14: Seedam Center
A15: Roco | B15: 43542 | C15: Re 446 | D15: rot | E15: 446 448-3 | F15: DC | H15: SOB
A16: Roco | B16: 43869 | C16: Re 446 | D16: blau | E16: 446 446-7 | F16: AC | H16: Seedam Center
A17: Roco | B17: 43871 | C17: Re 446 | D17: rot | E17: 446 448-3 | F17: AC | H17: SOB
A18: Roco | B18: 63525 | C18: Re 446 | D18: bunt | E18: 446 447-5 | F18: DC | H18: SOB Tesa
A19: Roco | B19: 69525 | C19: Re 446 | D19: bunt | E19: 446 447-5 | F19: AC | H19: SOB Tesa
A20: Roco | B20: 73852 | C20: Re 446 | D20: rot/weiss/grau | E20: 446 016-8 | F20: DC
A21: Roco | B21: 73852 | C21: Re 446 | D21: hellgrau/rot/dunkelgrau | E21: 446 015-0 | F21: DC
A22: Roco | B22: 04178A | C22: Re 446 | D22: rot/grau | E22: 10101 | F22: DC | H22: SBB Beschriftung
A23: Roco | B23: 04178B | C23: Re 446 | D23: rot | E23: 10103 | F23: DC | H23: Pleitegeier
A24: Roco | B24: 04178C | C24: Re 446 | D24: rot/hellgrau | E24: 10102 | F24: DC | H24: SBB Beschriftung
A25: Roco | B25: 04178D | C25: Re 446 | D25: rot | E25: 10104 | F25: DC | H25: SBB Beschriftung
A26: Roco | B26: 14178A | C26: Re 446 | D26: rot/grau | E26: 10101 | F26: AC | H26: SBB Beschriftung
A27: Roco | B27: 14178B | C27: Re 446 | D27: rot | E27: 10103 | F27: AC | H27: Pleitegeier
A28: Roco | B28: 14178C | C28: Re 446 | D28: rot/hellgrau | E28: 10102 | F28: AC | H28: SBB Beschriftung
A29: Roco | B29: 14178D | C29: Re 446 | D29: rot | E29: 10104 | F29: AC | H29: SBB Beschriftung
A30: Roco | C30: Re 446 | D30: weiss | E30: 446 448-3 | H30: Telecom
A32: Roco/Alpnacher | B32: 73852 | C32: Re 446 | D32: rot/grau | E32: 446 016-8 | F32: DC | H32: SOB Elipse
A33: Roco/Alpnacher | B33: 73853 | C33: Re 446 | D33: rot/grau | E33: 446 015-0 | F33: DC | H33: Neues Design Flirt-Look
A34: Roco/Alpnacher | B34: 73854 | C34: Re 446 | D34: weiss | F34: DC | H34: unlackiert | I34: Re 446 weiss unlackiert - Alpnacher Modellbahnen (alpnacher-modellbahnen.ch)
A35: Roco/Alpnacher | B35: 79852 | C35: Re 446 | D35: rot/grau | E35: 446 016-8 | F35: AC | H35: SOB Elipse
A36: Roco/Alpnacher | B36: 79853 | C36: Re 446 | D36: rot/grau | E36: 446 015-0 | F36: AC | H36: Neues Design Flirt-Look
A37: Roco/Alpnacher | B37: 79854 | C37: Re 446 | D37: weiss | F37: AC | H37: unlackiert | I37: Re 446 weiss unlackiert - Alpnacher Modellbahnen (alpnacher-modellbahnen.ch)
A38: Roco/Alpnacher | B38: 446119 | C38: Re 446 | D38: gelb | E38: 446 018-4 | F38: AC | H38: Akademie St. Gallen, x/25 (AC + DC)
A39: Roco/Alpnacher | B39: 446119 | C39: Re 446 | D39: gelb | E39: 446 018-4 | F39: DC | H39: Akademie St. Gallen, x/25 (AC + DC)
A40: Roco/Alpnacher | C40: Re 446 | D40: bunt | E40: 446 015-0 | F40: DC | H40: VHS / Neat | I40: SOB Re 446 015-0 - Alpnacher Modellbahnen (alpnacher-modellbahnen.ch)
A41: Roco/Alpnacher | C41: Re 446 | D41: bunt | E41: 446 015-0 | F41: AC | H41: VHS / Neat | I41: SOB Re 446 015-0 - Alpnacher Modellbahnen (alpnacher-modellbahnen.ch)
A42: Roco/Alpnacher | C42: Re 446 | D42: bunt | E42: 446 016-8 | F42: DC | H42: Ab in den Süden/25 Jahre VAE, x/10 | I42: https://www.alpnacher-modellbahnen.ch/sob-werbeloks/sob-re-446-016/
A43: Roco/Alpnacher | C43: Re 446 | D43: bunt | E43: 446 016-8 | F43: AC | H43: Ab in den Süden/25 Jahre VAE, x/10 | I43: https://www.alpnacher-modellbahnen.ch/sob-werbeloks/sob-re-446-016/ (zusätzliche Ätzteile)
...

Sheet Trix
A1: TrixRe 4/4 IV / Re 446 (Spur H0) | G1: =TODAY() -> 46078
A3: Hersteller | B3: Art.Nr.1 | C3: Typ | D3: Farbe | E3: Betriebsnr. | F3: AC/DC | G3: Decoder | H3: Bemerkungen
B7: ANZAHL: | C7: =COUNTA(C4:C6) -> 0
B11: = verifiziert
A13: Auflistungen sind nach bestem Wissen und Gewissen erstellt. Falls Fehler gefunden werden, bitte melden: | H13: Mail an Roland Hausin
A15: =TOTAL!A21 -> © 2026 Roland Hausin

Sheet Andere
A1: Re 4/4 IV / Re 446 / Re 456 anderer Hersteller | G1: =TODAY() -> 46078
A3: Hersteller | B3: Art.Nr.1 | C3: Typ | D3: Farbe | E3: Betriebsnr. | F3: AC/DC | G3: Decoder | H3: Bemerkungen
A5: ESU | B5: 31660 | C5: Re 4/4 IV | D5: rot | E5: 10103 | F5: AC | H5: SOB
A6: ESU | B6: 31660 | C6: Re 4/4 IV | D6: rot | E6: 10103 | F6: DC | H6: SOB
A7: ESU | B7: 31661 | C7: Re 446 | D7: rot | E7: 446 448-3 | F7: AC | H7: SOB
A8: ESU | B8: 31661 | C8: Re 446 | D8: rot | E8: 446 448-3 | F8: DC | H8: SOB
A10: Custom Painted
A12: Lima/Rosetti | C12: Abe 4/4 | D12: gtrün/créme | E12: 131 | F12: DC | H12: SOB
B14: ANZAHL: | C14: =COUNTA(C4:C13) -> 5
B18: = verifiziert
A20: Auflistungen sind nach bestem Wissen und Gewissen erstellt. Falls Fehler gefunden werden, bitte melden: | H20: Mail an Roland Hausin
A22: =TOTAL!A21 -> © 2026 Roland Hausin
