Workbook

Sheet TOTAL
A1: Anzahl bekannte Re 6/6 in Spur H0 | G1: =TODAY() -> 46287
B4: Total | D4: Original | E4: Custom painted
A6: HAG | B6: =HAG!D247 -> 229 | D6: =HAG!E249 -> 196 | E6: =HAG!E250 -> 33
A7: LIMA | B7: =Lima!C20 -> 12
A8: Märklin | B8: =Märklin!C25 -> 14 | D8: =Märklin!D27 -> 13 | E8: =Märklin!D28 -> 1
A9: Messing | B9: =Messing!C12 -> 3
A10: PIKO | B10: =PIKO!C14 -> 6
A11: Roco | B11: =ROCO!C66 -> 55
A12: Trix | B12: =Trix!D10 -> 3
A13: Andere | B13: =Andere!C8 -> 0
A15: TOTAL | B15: =SUM(B5:B14) -> 322 | E15: =SUM(E5:E14) -> 34
A18: Auflistungen sind nach bestem Wissen und Gewissen erstellt. Falls Fehler gefunden werden, bitte melden: | J18: Mail an Roland Hausin
A20: © 2026 Roland Hausin

Sheet HAG
A1: HAG Re 6/6 | H1: =TODAY() -> 46287 | I1: Artinkel-Nr. +1 = DC-Version
A3: Hersteller | B3: Art.Nr.1 | C3: Art.Nr.2 | D3: Typ | E3: Betriebsnr. | F3: Farbe | G3: AC/DC | H3: Decoder | I3: Bemerkungen
A5: HAG | B5: 96.01 | D5: Re 6/6 | E5: 11648 | F5: grün | G5: AC | I5: Jubi-Set, Aigle
A6: HAG | B6: 96.02 | D6: Re 6/6 | E6: 11640 | F6: grün | G6: AC | I6: Jubi-Set, Münchenstein
A7: HAG | B7: 96.03 | D7: Re 6/6 | E7: 11619 | F7: grün | G7: AC | I7: Jubi-Set, Arbon
A8: HAG | B8: 96.04 | D8: Re 6/6 | E8: 11636 | F8: rot | G8: AC | I8: Jubi-Set, Vernier-Meyrin
A9: HAG | B9: 96.05 | D9: Re 6/6 | E9: 11668 | F9: grün | G9: AC | I9: Jubi-Set, Stein-Säckingen
A10: HAG | B10: 96.06 | D10: Re 6/6 | E10: 11660 | F10: grün | G10: AC | I10: Jubi-Set, Tavannes
A11: HAG | B11: 96.07 | D11: Re 6/6 | E11: 11672 | F11: rot | G11: AC | I11: Jubi-Set, Balerna
A12: HAG | B12: 174.01 | D12: Re 6/6 | F12: rot/weiss | G12: AC | I12: Jubilok 700 Jahre Schweize Fronten, x/17
A13: HAG | B13: 174.02 | D13: Re 6/6 | F13: weiss/rot | G13: AC | I13: Jubilok 700 Jahre Schweiz, weisse Fronten
A14: HAG | B14: 174.03 | D14: Re 6/6 | F14: weiss/rot | G14: AC | I14: Jubilok 700 Jahre Schweiz, weisse Fronten, x/1600
A15: HAG | B15: 196.01 | D15: Re 6/6 | E15: 11660 | F15: grün | G15: AC | I15: Tavannes
A16: HAG | B16: 196.02 | D16: Re 6/6 | E16: 11611 | F16: grün | G16: AC | H16: digital LoPi 3 | I16: Rüti
A17: HAG | B17: 196.03 | D17: Re 6/6 | E17: 11668 | F17: grün | G17: AC | I17: Stein-Säckingen
A18: HAG | B18: 196.04 | D18: Re 6/6 | E18: 11658 | F18: grün | G18: AC | H18: digital LoPi 3 | I18: Auvernier
A19: HAG | B19: 196.05 | D19: Re 6/6 | E19: 11677 | F19: grün | G19: AC | H19: digital LoPi 3 | I19: Neuhausen,
A20: HAG | B20: 196.06 | D20: Re 6/6 | E20: 11610 | F20: grün | G20: AC | H20: digital LoPi 3 | I20: Spreitenbach
A21: HAG | B21: 196.07 | D21: Re 6/6 | E21: 11652 | F21: grün | G21: AC | I21: Kerzers
A22: HAG | B22: 196.08 | D22: Ref 6/6 | E22: 11683 | F22: grün | G22: AC | H22: digital LoPi 3 | I22: Amsteg-Silenen
A23: HAG | B23: 196.09 | C23: 20015 | D23: Re 6/6 | E23: 11649 | F23: grün | G23: AC | I23: Aarberg
A24: HAG | B24: 196.1 | C24: 20018 | D24: Re 6/6 | E24: 11639 | F24: grün | G24: AC | H24: digital LoPi 3 | I24: Murten
A25: HAG | B25: 196.11 | C25: 20030 | D25: Re 6/6 | E25: 11662 | F25: grün | G25: AC | H25: digital LoPi 3 | I25: Reuchenette-Péry
A26: HAG | B26: 196.12 | C26: 20072 | D26: Re 6/6 | E26: 11633 | F26: grün | G26: AC | H26: digital LoPi 3 | I26: Muri, Unikat
A27: HAG | B27: 196.12 | C27: 20073 | D27: Re 6/6 | E27: 11633 | F27: grün | G27: AC | I27: Muri AG
A28: HAG | B28: 196.13 | C28: 20517 | D28: Re 6/6 | E28: 11676 | F28: grün | G28: AC | H28: digital LoPi 3 | I28: Zurzach
A29: HAG | B29: 198.01 | D29: Re 6/6 | E29: 11602 | F29: rot | G29: AC | I29: geteilt, Wolhusen, Prototyp mit runden Lampen
A30: HAG | B30: 198.02 | D30: Re 6/6 | E30: 11601 | F30: rot | G30: AC | I30: geteilt, Wolhusen
A31: HAG | B31: 198.03 | D31: Re 6/6 | E31: 11602 | F31: rot | G31: AC | H31: digital LoPi 3 | I31: geteilt, Morges
A32: HAG | B32: 198.99 | D32: Re 6/6 | E32: 11602 | F32: rot | G32: AC | H32: digital LoPi 3 | I32: geteilt, Morges, Unikat, x/1
A33: HAG | B33: 200.01 | D33: Re 6/6 | F33: grün | G33: AC | I33: Einzelanfertigung, x/1
A34: HAG | B34: 200.02 | D34: Re 6/6 | E34: 11107 | F34: grün | G34: AC | I34: geteilt,
A35: HAG | B35: 200.03 | D35: Re 6/6 | E35: 11602 | F35: grün | G35: AC | I35: geteilt, Morges
A36: HAG | B36: 200.04 | D36: Re 6/6 | E36: 11602 | F36: grün | G36: AC | I36: geteilt, Morges oder Wolhusen
A37: HAG | B37: 200.05 | D37: Re 6/6 | E37: 11601 | F37: grün | G37: AC | I37: geteilt, Wolhusen, x/1
A38: HAG | B38: 203.01 | D38: Re 6/6 | E38: 11615 | F38: rot | G38: AC | I38: Kloten
A39: HAG | B39: 203.02 | D39: Re 6/6 | E39: 11611 | F39: rot | G39: AC | I39: Rüti
A40: HAG | B40: 203.03 | D40: Re 6/6 | E40: 11630 | F40: rot | G40: AC | I40: Herzogenbuchsee
A41: HAG | B41: 203.04 | D41: Re 6/6 | F41: rot/crème | G41: AC | I41: TEE, x/10
A42: HAG | B42: 203.05 | C42: 20523 | D42: Re 6/6 | E42: 11610 | F42: rot | G42: AC | I42: Spreitenbach
A43: HAG | B43: 203.06 | C43: 20056 | D43: Re 6/6 | E43: 11618 | F43: rot | G43: AC | I43: Dübendorf
A44: HAG | B44: 203.06 | C44: 20066 | D44: Re 6/6 | E44: 11618 | F44: rot | G44: AC | I44: Dübendorf
A45: HAG | B45: 203.07 | D45: Ref 6/6 | E45: 11666 | F45: rot | G45: AC | I45: Stein am Rhein
A46: HAG | B46: 203.08 | D46: Ref 6/6 | E46: 11683 | F46: rot | G46: AC | I46: Amsteg-Silenen
A47: HAG | B47: 203.09 | D47: Ref 6/6 | E47: 11621 | F47: rot | G47: AC | I47: Taverne-Torricella
A48: HAG | B48: 203.1 | D48: Ref 6/6 | E48: 11661 | F48: rot | G48: AC | I48: Gampel-Steg
A49: HAG | B49: 203.11 | C49: 20017 | D49: Re 6/6 | E49: 11639 | F49: rot | G49: AC | I49: Murten
A50: HAG | B50: 203.12 | D50: Re 6/6 | E50: 11649 | F50: rot | G50: AC | I50: Aarberg
A51: HAG | B51: 203.13 | D51: Re 620 | E51: 620 042-2 | F51: rot/blau | G51: AC | I51: Cargo, Monthey
A52: HAG | B52: 203.14 | D52: Re 620 | E52: 620 042-2 | F52: rot/türkis | G52: AC | I52: Cargo, x/10
A53: HAG | B53: 203.15 | D53: Re 620 | E53: 620 042-2 | F53: türkis/blau | G53: AC | I53: Cargo, x/1
A54: HAG | B54: 203.16 | D54: Ref 6/6 | E54: 11667 | F54: rot | G54: AC | I54: Bodio, x/100
A55: HAG | B55: 203.17 | C55: 20024 | D55: Re 6/6 | E55: 11613 | F55: rot | G55: AC | I55: Rapperswil
A56: HAG | B56: 203.18 | C56: 20025 | D56: Re 6/6 | E56: 11614 | F56: rot | G56: AC | I56: Meilen
A57: HAG | B57: 203.19 | D57: Re 620 | E57: 620 087-7 | F57: rot/blau | G57: AC | I57: Cargo, Bischofszell, x/50
A58: HAG | B58: 203.2 | D58: Re 620 | E58: 620 069-5 | F58: rot/blau | G58: AC | I58: Cargo, Hägendorf, Prototyp, x/1
A59: HAG | B59: 203.21 | C59: 20029 | D59: Re 6/6 | E59: 11608 | F59: rot | G59: AC | I59: Wetzikon
A60: HAG | B60: 203.22 | C60: 20028 | D60: Re 620 | E60: 620 086-9 | F60: rot/blau | G60: AC | I60: Cargo, Hochdorf
A61: HAG | B61: 203.23 | C61: 20031 | D61: Re 620 | E61: 620 033-1 | F61: rot/blau | G61: AC | I61: Cargo, Muri AG
A62: HAG | B62: 203.24 | C62: 20043 | D62: Ref 6/6 | E62: 11677 | F62: rot | G62: AC | I62: Neuhausen am Rheinfall, Sondermodell Benz
A63: HAG | B63: 203.25 | C63: 20033 | D63: Re 6/6 | E63: 11609 | F63: rot | G63: AC | I63: Uzwil
A64: HAG | B64: 203.26 | C64: 20034 | D64: Re 6/6 | E64: 11607 | F64: rot | G64: AC | I64: Wattwil
A65: HAG | B65: 203.27 | C65: 20035 | D65: Re 6/6 | E65: 11616 | F65: rot | G65: AC | I65: Illnau-Effretikon
A66: HAG | B66: 203.28 | C66: 20036 | D66: Re 620 | E66: 620 012-5 | F66: rot/blau | G66: AC | I66: Cargo, Regensdorf
A67: HAG | B67: 203.29 | C67: 20044 | D67: Re 620 | E67: 620 061-2 | F67: Silbergrau/blau/hellgrün | G67: AC | I67: Nina, Sondermodell Zubatech xx/30
A68: HAG | B68: 203.3 | C68: 20004 | D68: Re 6/6 | E68: 11666 | F68: TEE | G68: AC | H68: digital LoPi 3 | I68: TEE, SoSe Zollibolli I, 6/15
A69: HAG | B69: 203.31 | C69: 20046 | D69: Re 6/6 | E69: 11664 | F69: rot | G69: AC | I69: Köniz
A70: HAG | B70: 203.31 | C70: 20046 20098 | D70: Re 6/6 | E70: 11664 | F70: rot | G70: AC | I70: Köniz
A71: HAG | B71: 203.32 | C71: 20045 | D71: Re 6/6 | E71: 11620 | F71: rot | G71: AC | I71: Wangen bei Olten
A72: HAG | B72: 203.33 | C72: 20049 | D72: Re 6/6 | E72: 11611 | F72: rot | G72: AC | I72: Rüti, teilweisew mit Schnauz
A73: HAG | B73: 203.34 | C73: 20050 | D73: Re 6/6 | E73: 11673 | F73: rot | G73: AC | I73: Cham
A74: HAG | B74: 203.35 | C74: 20059 | D74: Re 6/6 | E74: 11654 | F74: rot | G74: AC | I74: Villeneuve, Sondermodell Margaudtrains, xx/11, Wiederauflage 2017
A75: HAG | B75: 203.36 | D75: Re 6/6 | E75: 11654 | F75: rot | G75: AC | I75: Villeneuve, Sondermodell Margaudtrains, x/4
A76: HAG | B76: 203.37 | C76: 20054 | D76: Re 620 | E76: 620 058-8 | F76: rot/blau | G76: AC | I76: Cargo, Auvernier
A77: HAG | B77: 203.38 | C77: 20051 | D77: Re 6/6 | E77: 11640 | F77: rot | G77: AC | I77: Münchenstein, Sondermodell Keusen, x/3
A78: HAG | B78: 203.39 | C78: 20057 | D78: Re 6/6 | E78: 11642 | F78: schwarz | G78: AC | H78: digital LoPi 3 | I78: Monthey, glanzschwarz, Sondermodell Germanier, xx/20
A79: HAG | B79: 203.4 | C79: 20060 | D79: Re 620 | E79: 620 613-0 | F79: gelb/blau | G79: AC | H79: digital LoPi 3 | I79: Dispo, Rapperswil-Jona, Sondermodell Zollibolli, xx/20
A80: HAG | B80: 203.41 | C80: 20062 | D80: Re 620 | E80: 620 086-9 | F80: rot/blau | G80: AC | H80: digital LoPi 3 | I80: Cargo, Hochdorf
A81: HAG | B81: 203.42 | C81: 20069 | D81: Re 6/6 | E81: 11625 | F81: rot | G81: AC | H81: digital LoPi 3 | I81: Oensingen, Sondermodell Zuber/Böglii/Schreier, x/9, Wiederauflage
A82: HAG | B82: 203.43 | C82: 20058 | D82: Re 6/6 | E82: 11624 | F82: rot | G82: AC | H82: digital LoPi 3 | I82: Rothrist, Sondermodell Degi-Toys, xx/14, Wiederauflage
A83: HAG | B83: 203.44 | C83: 20067 | D83: Re 6/6 | E83: 11681 | F83: rot | G83: AC | H83: digital LoPi 3 | I83: Immensee, Sondermodell Keusen, x/3, Wiederauflage
A84: HAG | B84: 203.45 | C84: 20068 | D84: Re 6/6 | E84: 11635 | F84: rot | G84: AC | H84: digital LoPi 3 | I84: Muttenz, Sondermodell Keusen x/3, Wiederauflage
A85: HAG | B85: 203.46 | C85: 20052 | D85: Re 6/6 | E85: 11653 | F85: rot | G85: AC | H85: digital LoPi 3 | I85: Gümligen, Nachserie Zugkraft Stucki,
A86: HAG | B86: 203.47 | C86: 20065 | D86: Re 620 | E86: 620 074-5 | F86: blau/rot | G86: AC | H86: digital LoPi 3 | I86: Cargo, Murgenthal
A87: HAG | B87: 203.48 | C87: 20066 | D87: Re 6/6 | E87: 11605 | F87: rot | G87: AC | H87: digital LoPi 3 | I87: Uster
A88: HAG | B88: 203.49 | C88: 20070 | D88: Re 6/6 | E88: 11629 | F88: rot | G88: AC | H88: digital LoPi 3 | I88: Interlaken
A89: HAG | B89: 203.5 | C89: 20072 | D89: Re 620 | E89: 620 051-3 | F89: blau/rot | G89: AC | H89: digital LoPi 3 | I89: Cargo, Dornach-Arlesheim
A90: HAG | B90: 203.52 | C90: 20063 | D90: Re 6/6 | E90: 11627 | F90: rot | G90: AC | H90: digital LoPi 3 | I90: Luterbach-Attisholz
A91: HAG | B91: 203.53 | C91: 20530 | D91: Re 6/6 | E91: 11628 | F91: rot | G91: AC | H91: digital LoPi 3 | I91: Konolfingen, Sondermodell Gehri, x/40
A92: HAG | B92: 203.92 | D92: Re 6/6 | E92: 11638 | F92: goldfarbig | G92: AC | I92: St.Triphon, x/1
A93: HAG | B93: 203.93 | D93: Re 620 | E93: 620 042-5 | F93: blau/rot | G93: AC | I93: Cargo, Monthey, Prototyp, x/1
A94: HAG | B94: 203.94 | C94: 20002-2 | D94: Re 6/6 | E94: 11621 | F94: grün | G94: AC | H94: digital LoPi 3 | I94: Taverne-Torricella, x/*1
A95: HAG | B95: 203.95 | D95: Re 620 | E95: 620 069-5 | F95: braun/blau | G95: AC | I95: Cargo, Hägendorf, Prototyp, x/1
A96: HAG | B96: 203.96 | C96: 20004 | D96: Ref 6/6 | E96: 11667 | F96: rot | G96: AC | I96: Bodio, Prototyp, x/1
A97: HAG | B97: 203.97 | C97: 20029-2 | D97: Re 6/6 | E97: 11608 | F97: rot | G97: AC | I97: Wetzikon, 2-motorig, Prototyp, x/1
A98: HAG | B98: 203.98 | D98: Re 6/6 | E98: 11613 | F98: schwarz | G98: AC | I98: Unikat, x/1
A99: HAG | B99: 203.99 | D99: Re 6/6 | E99: 11621 | F99: anthrazit | G99: AC | I99: Rapperswil, x/1
A100: HAG | B100: 205.01 | D100: Re 6/6 | E100: 11687 | F100: grün | G100: AC | I100: Bischofszell
A101: HAG | B101: 205.02 | D101: Re 6/6 | E101: 11646 | F101: grün | G101: AC | I101: Bussigny
A102: HAG | B102: 205.03 | D102: Re 6/6 | E102: 11689 | F102: grün | G102: AC | I102: Gerra-Gambarogno
...

Sheet Lima
A1: LIMA Re 6/6 (Spur H0, DC) | G1: =TODAY() -> 46287
A3: Hersteller | B3: Art.Nr.1 | C3: Typ | D3: Betriebsnr. | E3: Farbe | F3: AC/DC | G3: Decoder | H3: Bemerkungen
A5: Lima | B5: 8051L | C5: Re 6/6 | D5: 11603 | E5: grün | F5: DC | H5: Wädenswil
A6: Lima | B6: 28051LG | C6: Re 6/6 | D6: 11604 | E6: grün | F6: DC | H6: Faido
A7: Lima | B7: 208046 | C7: Re 6/6 | D7: 11656 | E7: grün | F7: DC | H7: Travers
A8: Lima | B8: 208179 | C8: Re 6/6 | D8: 11635 | E8: grün | F8: DC | H8: Muttenz
A9: Lima | B9: 208183 | C9: Re 6/6 | D9: 11605 | E9: grün | F9: DC | H9: Uster
A10: Lima | B10: 208184 | C10: Re 6/6 | D10: 11637 | E10: rot | F10: DC | H10: Sonceboz-Sombeval
A11: Lima | B11: 208184S01 | C11: Re 6/6 | D11: 11629 | E11: grün | F11: DC | H11: Interlaken
A12: Lima | B12: 208199 | C12: Re 6/6 | D12: 11629 | E12: grün | F12: DC | H12: Interlaken
A13: Lima | B13: 208379LP | C13: Re 6/6 | D13: 11611 | E13: rot | F13: DC | H13: Rüti
A14: Lima | B14: 208409 | C14: Re 6/6 | D14: 11672 | E14: rot | F14: DC | H14: Balerna
A15: Lima | B15: 208602 | C15: Re 6/6 | D15: 11614 | E15: rot | F15: DC | H15: Meilen
A16: Lima | B16: 308602-1L | C16: Re 6/6 | D16: 11655 | E16: türkis | F16: DC | H16: Cargo
A17: Lima | B17: 208693 | C17: Re 6/6 | D17: 11610 | E17: rot | F17: DC | H17: Spreitenbach
B20: ANZAHL: | C20: =COUNTA(C4:C16) -> 12
A23: * = Betriebsnummern sind relativ, es wurden meistens mehrere Original-Loks umgemalt
A27: Auflistungen sind nach bestem Wissen und Gewissen erstellt. Falls Fehler gefunden werden, bitte melden: | I27: Mail an Roland Hausin
A29: =TOTAL!A20 -> © 2026 Roland Hausin

Sheet Märklin
A1: Märklin Re 6/6 (Spur H0) | H1: =TODAY() -> 46287
A3: Hersteller | B3: Art.Nr.1 | C3: Typ | D3: Betriebsnr. | E3: Farbe | F3: AC/DC | G3: Decoder | H3: Bemerkungen | I3: Bemerkungen 2
A5: Märklin | B5: 29485 | C5: Re 620 | D5: 11672 | E5: rot | F5: AC | G5: mfx+ | H5: aus Startset
A6: Märklin | B6: 29488 | C6: Re 620 | E6: rot | F6: AC | G6: mfx | H6: aus Startset
A7: Märklin | B7: 37320 | C7: Re 10/10 | E7: grün | F7: AC | G7: mfx+ | H7: Bischofszell
A8: Märklin | B8: 37321 | C8: Re 620 | E8: blau/rot | F8: AC | G8: mfx+ | H8: Rüti, Cargo
A9: Märklin | B9: 37321 | C9: Re 620 | E9: blau/rot | F9: AC | G9: mfx+ | H9: Rüti, Cargo
A10: Märklin | B10: 37322 | C10: Re 620 | D10: 11666 | E10: rot | F10: AC | G10: mfx+ | H10: Stein am Rhein
A11: Märklin | B11: 37323 | C11: Re 10/10 | E11: grün | F11: AC | G11: mfx+ | H11: Bischofszell
A12: Märklin | B12: 37324 | C12: Re 620 | D12: 11675 | E12: grün | F12: AC | G12: mfx+ | H12: Gelterkinden | I12: gealtert
A13: Märklin | B13: 37325 | C13: Re 620 | D13: 620 063-8 | E13: grün | F13: AC | G13: mfx+ | H13: Eglisau
A14: Märklin | B14: 37325 | C14: Re 620 | D14: 11672 | E14: rot | F14: AC | G14: mfx+ | H14: Balerna
A15: Märklin | B15: 37326 | C15: Re 620 | E15: blau/rot | F15: AC | G15: mfx+ | H15: Xrail (Linthal)
A16: Märklin | B16: 37327 | C16: Re 620 | E16: blau/rot | F16: AC | G16: mfx+ | H16: Rüti, Cargo
A17: Märklin | B17: 37328 | C17: Re 620 | E17: grün | F17: AC | G17: mfx+
A20: Custom painted:
A22: Märklin/Unbekannt | C22: Ae 6/6 | D22: 11448 | E22: grün | F22: AC | G22: mfx | H22: Kantonslok Wallis | I22: ohne Schnauz, x/2
B25: TOTAL: | C25: =COUNTA(C4:C24) -> 14
B27: original | D27: =COUNTA(C4:C19) -> 13
B28: custom painted | D28: =COUNTA(C20:C24) -> 1
B31: = verifiziert
A33: Auflistungen sind nach bestem Wissen und Gewissen erstellt. Falls Fehler gefunden werden, bitte melden: | I33: Mail an Roland Hausin
A35: =TOTAL!A20 -> © 2026 Roland Hausin

Sheet Messing
A1: Messing Re 6/6 H0 | G1: =TODAY() -> 46287
A3: Hersteller | B3: Art.Nr.1 | C3: Typ | D3: Betriebsnr. | E3: Farbe | F3: AC/DC | G3: Decoder | H3: Bemerkungen
A5: Fulgurex | B5: 2082/1 | C5: Re 6/6 | D5: 11639 | E5: grün | F5: DC | H5: Wappen Murten
A7: Fulgurex/Tenshodo | B7: 2082 | C7: Re 6/6 | D7: 11655 | E7: grün | F7: DC | H7: Wappen Cossonay, x/250
A9: Lemaco | B9: H0-017 | C9: Re 6/6 | D9: 11674 | E9: rot | F9: DC | H9: Wappen Murgenthal
B12: TOTAL: | C12: =COUNTA(C4:C11) -> 3
A18: Auflistungen sind nach bestem Wissen und Gewissen erstellt. Falls Fehler gefunden werden, bitte melden: | G18: Mail an Roland Hausin
A20: © 2025 Roland Hausin

Sheet PIKO
A1: PIKO Re 6/6 | G1: =TODAY() -> 46287
A3: Hersteller | B3: Art.Nr.1 | C3: Typ | D3: Betriebsnr. | E3: Farbe | F3: AC/DC | G3: Decoder | H3: Bemerkungen
A5: Piko | B5: 97490 | C5: Re 6/6 | D5: 11601 | E5: grün | F5: DC | H5: geteilt, Wolhusen
A6: Piko | B6: 97492 | C6: Re 6/6 | D6: 11601 | E6: grün | F6: DC Sond | H6: geteilt, Wolhusen
A7: Piko | B7: 97493 | C7: Re 6/6 | D7: 11601 | E7: grün | F7: AC Sound | H7: geteilt, Wolhusen
A8: Piko | B8: 97494 | C8: Re 6/6 | D8: 11602 | E8: rot | F8: DC | H8: geteilt, Morges
A9: Piko | B9: 97495 | C9: Re 6/6 | D9: 11602 | E9: rot | F9: DC Sond | H9: geteilt, Morges
A10: Piko | B10: 97496 | C10: Re 6/6 | D10: 11602 | E10: rot | F10: AC Sound | H10: geteilt, Morges
B14: ANZAHL: | C14: =COUNTA(C4:C13) -> 6
B18: = verifiziert
A20: * = Betriebsnummern sind relativ, es wurden meistens mehrere Original-Loks umgemalt
A23: Auflistungen sind nach bestem Wissen und Gewissen erstellt. Falls Fehler gefunden werden, bitte melden: | H23: Mail an Roland Hausin
A25: =TOTAL!A20 -> © 2026 Roland Hausin

Sheet ROCO
A1: Roco Re 6/6 Re 10/10 | G1: =TODAY() -> 46287
A3: Hersteller | B3: Art.Nr.1 | C3: Typ | D3: Betriebsnr. | E3: Farbe | F3: AC/DC | G3: Decoder | H3: Bemerkungen
A5: Roco | B5: 63730 | C5: Re 6/6 | D5: 11621 | E5: grün | F5: DC | H5: Taverne-Torricella
A6: Roco | B6: 63730.1 | C6: Re 6/6 | D6: 11644 | E6: grün | F6: DC | H6: Conaux
A7: Roco | B7: 63730.2 | C7: Re 6/6 | D7: 11665 | E7: grün | F7: DC | H7: Ziegelbrücke
A8: Roco | B8: 63731 | C8: Re 6/6 | D8: 11674 | E8: rot | F8: DC | H8: Murgenthal
A9: Roco | B9: 63731.1 | C9: Re 6/6 | D9: 11636 | E9: rot | F9: DC | H9: Vernier-Meyrin
A10: Roco | B10: 63732 | C10: Re 6/6 | D10: 11689 | E10: grün/weiss | F10: DC | H10: VSLF
A11: Roco | B11: 63733 | C11: Re 6/6 | D11: 11681 | E11: grün | F11: DC | H11: Immensee
A12: Roco | B12: 63734 | C12: Re 6/6 | D12: 11655 | E12: Türkis | F12: DC | H12: Cossonay
A13: Roco | B13: 63734.1 | C13: Re 620 | D13: 620 061-2 | E13: blau/rot | F13: DC | H13: Cargo Gampel-Steg
A14: Roco | B14: 63734.2 | C14: Re 620 | D14: 620 065-3 | E14: blau/rot | F14: DC | H14: Cargo Ziegelbrücke
A15: Roco | B15: 63735 | C15: Re 6/6 | D15: 11609 | E15: grün | F15: DC | H15: Uzwil
A16: Roco | B16: 63735.1 | C16: Re 6/6 | D16: 11688 | E16: grün | F16: DC | H16: Lithal
A17: Roco | B17: 63736 | C17: Re 6/6 | D17: 11670 | E17: rot | F17: DC | H17: Affoltern am Albis
A18: Roco | B18: 63794 | C18: Re 6/6 Cargo | D18: 11655 | E18: mintgrün | F18: DC | H18: SBB Cargo
A19: Roco | B19: 63847 | C19: Re 10/10 | D19: 11634 / 11350 | E19: rot | F19: DC
A20: Roco | B20: 69730 | C20: Re 6/6 | D20: 11621 | E20: grün | F20: AC | H20: Taverne-Torricella
A21: Roco | B21: 71409 | C21: Re 10/10 | D21: 11672 / 11361 | E21: rot | F21: DC | H21: Balerna
A22: Roco | B22: 71410 | C22: Re 10/10 | D22: 11672 / 11361 | E22: rot | F22: DCC | G22: Sound | H22: Balerna
A23: Roco | B23: 71414 | C23: Re 10/10 | D23: 11626 / 11323 | E23: grün | F23: DC | H23: 100 Jahre Gotthardbahn
A24: Roco | B24: 71415 | C24: Re 10/10 | D24: 11626 / 11323 | E24: grün | F24: DCC | G24: Sound | H24: 100 Jahre Gotthardbahn
A25: Roco | B25: 71416 | C25: Re 10/10 | D25: 11626 / 11323 | E25: grün/bunt | F25: AC | G25: Sound | H25: mit Wappen
A26: Roco | B26: 72580 | C26: Re 6/6 | D26: 11663 | E26: grün | F26: DC | H26: Eglisau
A27: Roco | B27: 72581 | C27: Re 6/6 | D27: 11653 | E27: grün | F27: DCC | G27: Sound | H27: Eglisau
A28: Roco | B28: 72582 | C28: Re 10/10 | D28: 620 051-3 / 420 169-5 | E28: blau/rot | F28: DC | H28: Dornach-Arlesheim
A29: Roco | B29: 72583 | C29: Re 10/10 | D29: 620 051-3 / 420 169-5 | E29: blau/rot | F29: DC | G29: Sound | H29: Dornach-Arlesheim
A30: Roco | B30: 72584 | C30: Re 6/6 | D30: 11653 | E30: grün | F30: DC | H30: Gümligen
A31: Roco | B31: 72585 | C31: Re 6/6 | D31: 11653 | E31: grün | F31: DCC | G31: Sound | H31: Gümligen
A32: Roco | B32: 72588 | C32: Re 6/6 | D32: 11662 | E32: grün | F32: DC | H32: Reuchenette-Pery
A33: Roco | B33: 72589 | C33: Re 6/6 | D33: 11662 | E33: grün | F33: DCC | G33: Sound | H33: Reuchenette-Pery
A34: Roco | B34: 72592 | C34: Re 620 | D34: 620 088-5 | E34: blau/rot | F34: DC | H34: Xrail
A35: Roco | B35: 72593 | C35: Re 620 | D35: 620 088-5 | E35: blau/rot | F35: DCC | G35: Sound | H35: Xrail
A36: Roco | B36: 72598 | C36: Re 6/6 | D36: 11677 | E36: rot | F36: DC | H36: Neuhausen am Rheinfall
A37: Roco | B37: 72599 | C37: Re 6/6 | D37: 11677 | E37: rot | F37: DCC | G37: Sound | H37: Neuhausen am Rheinfall
A38: Roco | B38: 72600 | C38: Re 6/6 | D38: 11626 | E38: rot | F38: DC | H38: Zollikofen
A39: Roco | B39: 72601 | C39: Re 6/6 | D39: 11626 | E39: rot | F39: DCC | G39: Sound | H39: Zollikofen
A40: Roco | B40: 72602 | C40: Re 620 | D40: 620 018-2 | E40: rot | F40: DC | H40: Dübendorf
A41: Roco | B41: 72603 | C41: Re 620 | D41: 620 018-2 | E41: rot | F41: DCC | G41: Sound | H41: Dübendorf
A42: Roco | B42: 73988 | C42: Re 620 | D42: 620 051-3 | E42: blau/rot | F42: DC | H42: Dornach
A43: Roco | B43: 78581 | C43: Re 6/6 | D43: 11663 | E43: grün | F43: AC | G43: Sound | H43: Eglisau
A44: Roco | B44: 78582 | C44: Re 10/10 | D44: 620 051-3 / 420 169-5 | E44: blau/rot | F44: AC | H44: Cargo
A45: Roco | B45: 78583 | C45: Re 10/10 | D45: 620 051-3 / 420 169-5 | E45: blau/rot | F45: AC | G45: Sound | H45: Cargo
A46: Roco | B46: 78585 | C46: Re 6/6 | D46: 11653 | E46: grün | F46: AC | G46: Sound | H46: Gümligen
A47: Roco | B47: 78589 | C47: Re 6/6 | D47: 11662 | E47: grün | F47: AC | G47: Sound | H47: Reuchenette-Pery
A48: Roco | B48: 78593 | C48: Re 620 | D48: 620 088-5 | E48: blau/rot | F48: AC | G48: Sound | H48: Xrail
A49: Roco | B49: 78599 | C49: Re 6/6 | D49: 11677 | E49: rot | F49: AC | G49: Sound | H49: Neuhausen am Rheinfall
A50: Roco | B50: 78601 | C50: Re 6/6 | D50: 11626 | E50: rot | F50: AC | G50: Sound | H50: Zollikofen
A51: Roco | B51: 78603 | C51: Re 620 | D51: 620 018-2 | E51: rot | F51: AC | G51: Sound | H51: Dübendorf
A52: Roco | B52: 79410 | C52: Re 10/10 | D52: 11672 / 11361 | E52: rot | F52: AC | G52: Sound
A53: Roco | B53: 79415 | C53: Re 10/10 | D53: 11626 / 11323 | E53: grün | F53: AC | G53: Sound | H53: 100 Jahre Gotthardbahn
A54: Roco | B54: 7500033 | C54: Re 620 | D54: 620 086-9 | E54: blau/rot | F54: DC | H54: SBB Cargo
A55: Roco | B55: 7510033 | C55: Re 620 | D55: 620 086-9 | E55: blau/rot | F55: DCC | G55: Sound | H55: SBB Cargo
A56: Roco | B56: 7520033 | C56: Re 620 | D56: 620 086-9 | E56: blau/rot | F56: AC | G56: Sound | H56: SBB Cargo
A57: Roco | B57: 7500105 | C57: Ref 6/6 | D57: 11673 | E57: rot | F57: DC | H57: Cham
A58: Roco | B58: 7510105 | C58: Ref 6/6 | D58: 11673 | E58: rot | F58: DCC | G58: Sound | H58: Cham
A59: Roco | B59: 7520105 | C59: Ref 6/6 | D59: 11673 | E59: rot | F59: AC | G59: Sound | H59: Cham
B66: ANZAHL: | C66: =COUNTA(C4:C65) -> 55
B70: = verifiziert
A72: * = Betriebsnummern sind relativ, es wurden meistens mehrere Original-Loks umgemalt
A75: Auflistungen sind nach bestem Wissen und Gewissen erstellt. Falls Fehler gefunden werden, bitte melden: | G75: Mail an Roland Hausin
A77: =TOTAL!A20 -> © 2026 Roland Hausin

Sheet Trix
A1: Trix Re 6/6 | H1: =TODAY() -> 46287
A3: Hersteller | B3: Art.Nr.1 | C3: Art.Nr.2 | D3: Typ | E3: Betriebsnr. | F3: Farbe | G3: AC/DC | H3: Decoder | I3: Bemerkungen
A5: Trix | B5: 22773 | D5: Re 6/6 | E5: 11663 | F5: grün | G5: DC | H5: mfx+ | I5: Eglisau
A6: Trix | B6: 22883 | D6: Re 620 | E6: 620 011-7 | F6: blau/rot | G6: DC | H6: mfx+ | I6: Cargo Rüti
A7: Trix | B7: 22944 | D7: Re 620 | E7: 620 058-8 | F7: grün | G7: DC | H7: mfx+ | I7: Cargo Auvernier
C10: ANZAHL: | D10: =COUNTA(D4:D9) -> 3
A13: * = Betriebsnummern sind relativ, es wurden meistens mehrere Original-Loks umgemalt
A17: Auflistungen sind nach bestem Wissen und Gewissen erstellt. Falls Fehler gefunden werden, bitte melden: | I17: Mail an Roland Hausin
A19: =TOTAL!A20 -> © 2026 Roland Hausin

Sheet Andere
A1: Re 6/6 andere Hersteller | G1: =TODAY() -> 46287
A3: Hersteller | B3: Art.Nr.1 | C3: Typ | D3: Betriebsnr. | E3: Farbe | F3: AC/DC | G3: Decoder | H3: Bemerkungen
B8: ANZAHL: | C8: =COUNTA(C4:C7) -> 0
A12: Auflistungen sind nach bestem Wissen und Gewissen erstellt. Falls Fehler gefunden werden, bitte melden: | H12: Mail an Roland Hausin
A14: =TOTAL!A20 -> © 2026 Roland Hausin
