Workbook

Sheet TOTAL
A1: Anzahl bekannte Traktoren & Rangierloks in Spur H0 | I1: =TODAY() -> 46285
B3: TOTAL | D3: original | E3: custom painted
A5: Brawa | B5: =Brawa!C27 -> 20 | D5: =B5 -> 20
A6: Fleischmann | B6: =Fleischmann!C9 -> 3 | D6: =B6 -> 3
A7: HAG | B7: =HAG!D83 -> 73 | D7: =HAG!E85 -> 51 | E7: =HAG!E86 -> 22
A8: Lima | B8: =Lima!C13 -> 7 | D8: =B8 -> 7
A9: Märklin | B9: =Märklin!C43 -> 32 | D9: =Märklin!D45 -> 28 | E9: =Märklin!D46 -> 4
A10: Messing | B10: =Messing!C88 -> 68 | D10: =B10 -> 68
A11: Piko | B11: =Piko!C18 -> 11 | D11: =B11 -> 11
A12: Rivarossi | B12: =Rivarossi!D44 -> 34 | D12: =Rivarossi!D45 -> 33 | E12: =Rivarossi!D46 -> 1
A13: Roco | B13: =Roco!D27 -> 16 | D13: =Roco!E28 -> 15 | E13: =Roco!E29 -> 1
A14: Trix | B14: =Trix!C12 -> 6 | D14: =B14 -> 6
A15: Weinert | B15: =Weinert!C62 -> 56 | D15: =B15 -> 56
A16: Andere | B16: =Andere!C118 -> 89 | D16: =Andere!E120 -> 88 | E16: =Andere!E121 -> 1 | G16: =B16+B15+B5 -> 165
A18: TOTAL | B18: =SUM(B4:B17) -> 415 | D18: =SUM(D4:D17) -> 386 | E18: =SUM(E4:E17) -> 29 | G18: =E18+D18 -> 415 | I18: =D5+D15+D16+E16 -> 165 | J18: (andere)
A21: Auflistungen sind nach bestem Wissen und Gewissen erstellt. Falls Fehler gefunden werden, bitte melden: | I21: Mail an Roland Hausin
A23: © 2026 Roland Hausin
A29: Typen: | B29: Ta | C29: Ta 200
B30: Te I | C30: Te 210
B31: Te II | C31: Te 211
B32: Te III | C32: Te 212
B33: Te IV | C33: Te 214
B34: Te 2/3 | C34: Tem 220
B35: Tem I | C35: Tem 221
B36: Tem II | C36: Tem 222
B37: Tem III | C37: Tm 230
B38: Tm | C38: Tm 230
B39: Tm I | C39: Tm 230
B40: Tm II | C40: Tm 231
B41: Tm III | C41: Tm 232
B42: Tm IV | C42: Tm 233
C43: Tm 232
C44: Tm 234
C45: Tm 236
C46: Tm 235 | D46: Robel
C47: Tm 283 | D47: Scheuchzer
B49: Bm 4/4
B50: Ee 3/3
B51: Ee 922
B52: Eem 923
B53: Em 846
B54: Am 4/4
B55: Am 840
B56: Am 842
B57: Am 843
B58: Am 845
B59: Am 847

Sheet Brawa
A1: Brawa Traktoren | G1: =TODAY() -> 46285
A3: Hersteller | B3: Art.Nr.1 | C3: Typ | D3: Betriebsnr. | E3: Farbe | F3: AC/DC | G3: Decoder | H3: Bemerkungen
A5: Brawa | B5: 560 | C5: Te III | D5: 138 | E5: braun | F5: DC | G5: digital | H5: SBB
A6: Brawa | B6: 561 | C6: Te III | D6: 123 | E6: rot | F6: DC | G6: digital | H6: SBB
A7: Brawa | B7: 562 | C7: Te III | D7: 31 | E7: grün | F7: AC | G7: digital | H7: SOB
A8: Brawa | B8: 565 | C8: Te III | D8: 138 | E8: braun | F8: AC | G8: digital | H8: SBB
A9: Brawa | B9: 566 | C9: Te III | D9: 123 | E9: rot | F9: AC | G9: digital | H9: SBB
A10: Brawa | B10: 567 | C10: Te III | D10: 31 | E10: grün | F10: AC | G10: digital | H10: SOB
A11: Brawa | B11: 570 | C11: Te 2/3 | D11: 31 | E11: rot | F11: DC | G11: digital | H11: BLS
A12: Brawa | B12: 571 | C12: Te 2/3 | D12: 31 | E12: orange | F12: DC | G12: digital | H12: BLS
A13: Brawa | B13: 572 | C13: Te 2/3 | D13: 32 | E13: braun | F13: DC | G13: digital | H13: BLS
A14: Brawa | B14: 573 | C14: Te 2/3 | D14: 32 | E14: braun | F14: AC | G14: digital | H14: BLS
A15: Brawa | B15: 42768 | C15: Am 847 | D15: 847 002-3 | E15: blau/grau | F15: DC | G15: Sound | H15: Panlog
A16: Brawa | B16: 42828 | C16: Am 847 | D16: 847 952-8 | E16: rotbraun | F16: AC | H16: Sersa, Erika
A17: Brawa | B17: 42829 | C17: Am 847 | D17: 847 952-8 | E17: rotbraun | F17: AC | G17: Sound | H17: Sersa, Erika
A18: Brawa | B18: 42831 | C18: Am 847 | D18: 847 952-8 | E18: rotbraun | F18: DC | G18: Sound | H18: Sersa, Erika
A19: Brawa | B19: 42872 | C19: Am 847 | D19: 847 951-1 | E19: weiss | F19: DC | G19: Sound | H19: Sersa, Gretli
A20: Brawa | B20: 42873 | C20: Am 847 | D20: 847 951-1 | E20: weiss | F20: AC | G20: Sound | H20: Sersa, Gretli
A21: Brawa | B21: 42874 | C21: Am 847 | D21: 847 951-1 | E21: weiss | F21: DC | G21: Sound | H21: Sersa, Gretli
A22: Brawa | B22: 42875 | C22: Am 847 | D22: 847 951-1 | E22: weiss | F22: AC | G22: Sound | H22: Sersa, Gretli
A23: Brawa | B23: 484.2 | C23: Tm 134 | E23: orange | F23: DC | H23: Kummler + Matter Köf
A24: Brawa | B24: 504 | C24: Tm 81 | D24: 53 | E24: orange | F24: DC | H24: Rottenkraftwagen
B27: ANZAHL: | C27: =COUNTA(C4:C26) -> 20
B31: = verifiziert
A33: Auflistungen sind nach bestem Wissen und Gewissen erstellt. Falls Fehler gefunden werden, bitte melden: | I33: Mail an Roland Hausin
A35: =TOTAL!A23 -> © 2026 Roland Hausin

Sheet Fleischmann
A1: Fleischmann Traktoren & Rangierloks | H1: =TODAY() -> 46285
A3: Hersteller | B3: Art.Nr.1 | C3: Typ | D3: Betriebsnr. | E3: Farbe | F3: AC/DC | G3: Decoder | H3: Bemerkungen
A5: Fleischmann | C5: Ee 3/3 | D5: 1330 | E5: grün | F5: DC | H5: SBB
A6: Fleischmann | C6: Ee 3/3 | D6: 1330 | E6: braun | F6: DC | H6: SBB
A7: Fleischmann | B7: 721212 | C7: Am 847 | D7: 847 957-8 | E7: weiss | F7: DC | H7: Sersa, Lotti
B9: ANZAHL: | C9: =COUNTA(C4:C8) -> 3
B13: = verifiziert
A15: Auflistungen sind nach bestem Wissen und Gewissen erstellt. Falls Fehler gefunden werden, bitte melden: | I15: Mail an Roland Hausin
A17: =TOTAL!A23 -> © 2026 Roland Hausin

Sheet HAG
A1: HAG Traktoren | H1: =TODAY() -> 46285
A3: Hersteller | B3: Art.Nr.1 | C3: Art.Nr.2 | D3: Typ | E3: Betriebsnr. | F3: Farbe | G3: AC/DC | H3: Decoder | I3: Bemerkungen
A5: HAG | B5: 130.01 | D5: Te 2/2 | E5: 101 | F5: braun | G5: DC | I5: 3-Leiter DC
A6: HAG/MOREP | C6: 130W | D6: Te 2/2 | E6: 102 | F6: grün | G6: AC | I6: OeBB, Faulhaber Motor
A7: HAG/Swimo | B7: 131 | C7: 5.101.1 | D7: Te 2/2 | E7: 101 | F7: braun | G7: AC | I7: mit Umschalter im Anhänger
A8: HAG/Swimo | B8: 131 | C8: 6.101.1 | D8: Te 2/2 | E8: 101 | F8: braun | G8: AC | I8: Morep-Umbau, mit Faulhaber-Motor
A9: HAG | B9: 131 | D9: Te 2/2 | E9: 101 | G9: AC | I9: mit Motor im Anhänger
A10: HAG | B10: 131.01 | D10: Te 2/2 | E10: 101 | F10: braun | G10: DC | I10: ohne Fenster und Haltestangen
A11: HAG | B11: 131.02 | D11: Te 2/2 | E11: 101 | F11: braun | G11: AC
A12: HAG/Iten/Hausin | B12: 131.02 | D12: Te 2/2 | F12: chrom | G12: DC | I12: Chrom-Lok
A13: HAG/Iten/Hausin | B13: 131.02 | D13: Te 2/2 | F13: gold | G13: DC | I13: Gold-Lok
A14: HAG/MOREP | B14: 131.03 | C14: 130N | D14: Te 2/2 | F14: braun | G14: DC
A15: HAG/MOREP | B15: 131.03 | D15: Te 2/2 | E15: 101 | F15: braun | G15: DC
A16: HAG/Kobler | B16: 131.04 | D16: Te 2/2 | E16: 101 | F16: grün | G16: DC
A17: HAG/Kobler | B17: 131.04 | D17: Te 2/2 | E17: 101 | F17: grün | G17: AC | I17: Morep-Umbau
A18: HAG/MOREP | B18: 131.05 | C18: 131N | D18: Te 2/2 | E18: 124 | F18: braun | G18: DC
A19: HAG | B19: 132.01 | D19: Te 2/2 | E19: 101 | F19: braun | G19: DC
A20: HAG/MOREP | B20: 132.02 | C20: 132N | D20: Te 2/2 | E20: 127 / 138 | F20: rot | G20: DC
A21: HAG/MOREP | B21: 133.01 | C21: 133N | D21: Te 2/2 / Ce 2/2 | E21: 102 / 103 | F21: grün | G21: DC | I21: OeBB
A22: HAG/MOREP | B22: 134.01 | C22: 134N | D22: Te 2/2 | E22: 161 | F22: braun | G22: DC | I22: VHB
A23: HAG/MOREP | B23: 135.01 | C23: 135N | D23: Ce 2/2 | E23: 123 | F23: orange | G23: DC | I23: EBT
A24: HAG/MOREP | B24: 135.02 | D24: Ce 2/2 | E24: 123 | F24: grün | G24: AC / DC | I24: EBT, Faulhaber Motor
A25: HAG/MOREP | B25: 136.01 | C25: 136N | D25: Te 2/2 | E25: 31 | F25: grün | G25: DC | I25: SOB | J25: https://trains.wipertech.ch/Trains/Details/1194?setRefferrerUrl=False
A26: HAG/MOREP | B26: 137.01 | C26: 137N | D26: Te 2/2 | E26: 1 | F26: rot | G26: DC | I26: CJ | J26: https://trains.wipertech.ch/Trains/Details/3510?setRefferrerUrl=False
A27: HAG/MOREP | B27: 138.01 | C27: 138N | D27: Te 2/2 | E27: 3 | F27: braun/gelb | G27: DC | I27: PTT
A28: HAG/MOREP | C28: 130G | D28: Te 2/2 | E28: 101 | F28: braun | G28: DC | I28: Faulhaber Motor
A29: HAG/MOREP | C29: 130W | D29: Te 2/2 | E29: 101 | F29: braun | G29: AC | I29: Faulhaber Motor | J29: https://trains.wipertech.ch/Trains/Details/1184?setRefferrerUrl=False
A30: HAG/MOREP | C30: 131G | D30: Te 2/2 | E30: 124 | F30: braun | G30: DC | I30: Faulhaber Motor
A31: HAG/MOREP | C31: 131N | D31: Te 2/2 | E31: 138 | F31: rot | G31: AC / DC
A32: HAG/MOREP | C32: 131W | D32: Te 2/2 | E32: 124 | F32: braun | G32: AC | I32: Faulhaber Motor
A33: HAG/MOREP | C33: 132G | D33: Te 2/2 | E33: 125 | F33: braun | G33: DC | I33: Faulhaber Motor
A34: HAG/MOREP | C34: 132W | D34: Te 2/2 | E34: 125 | F34: braun | G34: AC | I34: Faulhaber Motor
A35: HAG/MOREP | C35: 132W | D35: Te 2/2 | E35: 136 | F35: rot | G35: AC | I35: Faulhaber Motor
A36: HAG/MOREP | C36: 133G | D36: Te 2/2 | E36: 103 | F36: grün | G36: DC | I36: OeBB, Faulhaber Motor
A37: HAG/MOREP | C37: 133W | D37: Te 2/2 | E37: 103 | F37: grün | G37: AC | I37: OeBB, Faulhaber Motor
A38: HAG/MOREP | C38: 134G | D38: Te 2/2 | E38: 161 | F38: braun | G38: DC | I38: VHB, Faulhaber Motor
A39: HAG/MOREP | C39: 134W | D39: Te 2/2 | E39: 161 | F39: braun | G39: DC | I39: VHB, Faulhaber Motor
A40: HAG/MOREP | C40: 135G | D40: Ce 2/2 | E40: 123 | F40: orangerot oder braun | G40: DC | I40: EBT, Faulhaber Motor
A41: HAG/MOREP | C41: 135G | D41: Ce 2/2 | E41: 123 | F41: orange | G41: DC | I41: EBT, Faulhaber Motor
A42: HAG/MOREP | C42: 135W | D42: Ce 2/2 | E42: 123 | F42: orange | G42: AC | I42: EBT, Faulhaber Motor
A43: HAG/MOREP | C43: 136G | D43: Te 2/2 | E43: 31 | F43: grün | G43: DC | I43: SOB, Faulhaber Motor | J43: https://trains.wipertech.ch/Trains/Details/1194?setRefferrerUrl=False
A44: HAG/MOREP | C44: 136W | D44: Te 2/2 | E44: 31 | F44: grün | G44: AC | I44: SOB, Faulhaber Motor | J44: https://trains.wipertech.ch/Trains/Details/1194?setRefferrerUrl=False
A45: HAG/MOREP | C45: 137G | D45: Ce 2/2 | E45: 1 | F45: rot | G45: DC | I45: CJ, Faulhaber Motor | J45: https://trains.wipertech.ch/Trains/Details/3510?setRefferrerUrl=False
A46: HAG/MOREP | C46: 137W | D46: Ce 2/2 | E46: 1 | F46: rot | G46: AC | I46: CJ, Faulhaber Motor | J46: https://trains.wipertech.ch/Trains/Details/3510?setRefferrerUrl=False
A47: HAG/MOREP | C47: 138G | D47: Te 2/2 | E47: 3 | F47: braun/gelb | G47: DC | I47: PTT, Faulhaber Motor | J47: https://trains.wipertech.ch/Trains/Details/1196?setRefferrerUrl=False
A48: HAG/MOREP | C48: 138N | D48: Te 2/2 | E48: 3 | F48: braun/gelb | G48: DC | I48: PTT | J48: https://trains.wipertech.ch/Trains/Details/1196?setRefferrerUrl=False
A49: HAG/MOREP | C49: 138W | D49: Te 2/2 | E49: 3 | F49: braun/gelb | G49: AC | I49: PTT, Faulhaber Motor | J49: https://trains.wipertech.ch/Trains/Details/1196?setRefferrerUrl=False
A50: HAG/MOREP | C50: 139G | D50: Te 2/2 | E50: 123 | F50: metallic | G50: DC | I50: Faulhaber Motor | J50: https://trains.wipertech.ch/Trains/Details/1202?setRefferrerUrl=False
A51: HAG/MOREP | C51: 139N | D51: Te 2/2 | E51: 123 | F51: metallic | G51: DC | I51: x/10 | J51: https://trains.wipertech.ch/Trains/Details/1202?setRefferrerUrl=False
A52: HAG/MOREP | C52: 139W | D52: Te 2/2 | E52: 123 | F52: metallic | G52: AC | I52: Faulhaber Motor | J52: https://trains.wipertech.ch/Trains/Details/1202?setRefferrerUrl=False
A53: HAG/MOREP | C53: 140G | D53: Te 2/2 / Ce 2/2 | F53: TEE | G53: DC | I53: TEE, Faulhaber Motor | J53: https://trains.wipertech.ch/Trains/Details/1210?setRefferrerUrl=False
A54: HAG/MOREP | C54: 140N | D54: Te 2/2 / Ce 2/2 | F54: TEE | G54: DC | I54: TEE | J54: https://trains.wipertech.ch/Trains/Details/1210?setRefferrerUrl=False
A55: HAG/MOREP | C55: 140W | D55: Te 2/2 / Ce 2/2 | F55: TEE | G55: AC | I55: TEE, Faulhaber Motor | J55: https://trains.wipertech.ch/Trains/Details/1210?setRefferrerUrl=False
A58: Custom Painted
A60: HAG/SOBA | D60: Te 2/2 | F60: blau metallisé | G60: DC | I60: Switzerland
A61: HAG/SOBA | D61: Te 2/2 | F61: blau/beige | G61: DC | I61: Rheingold
A62: HAG/SOBA | D62: Te 2/2 | F62: blau/beige | G62: AC | I62: Rheingold, mit Wagen
A63: HAG/SOBA | D63: Te 2/2 | F63: blau/beige | G63: DC | I63: BLS
A64: HAG/SOBA | D64: Te 2/2 | E64: 182 | F64: crème/grün | G64: DC | I64: SOB
A65: HAG/SOBA | D65: Te 2/2 | E65: 187 | F65: crème/grün | G65: DC | I65: SOB
A66: HAG/SOBA | D66: Te 2/2 | F66: gelb | G66: DC | I66: Käse
A67: HAG/SOBA | D67: Te 2/2 | F67: gelb/blau | G67: DC | I67: Dispo
A68: HAG/SOBA | D68: Te 2/2 | F68: gold/schwarz | G68: DC | I68: GoldenPass
A69: HAG/SOBA | D69: Te 2/2 | F69: grün | G69: DC | I69: Makies
A70: HAG/SOBA | D70: Te 2/2 | F70: hellgrün | G70: DC | I70: BLS
A71: HAG/SOBA | D71: Te 2/2 | E71: 101 | F71: orange/crème/orange | G71: DC | I71: Swiss Express
A72: HAG/SOBA | D72: Te 2/2 | E72: 61 | F72: orange/crème/orange | G72: DC | I72: RhB
A73: HAG/SOBA | D73: Te 2/2 | F73: rot/blau | G73: DC | I73: Cargo
A74: HAG/SOBA | D74: Te 2/2 | F74: schwarz/weiss | G74: DC | I74: Reisslack
A75: HAG/SOBA | D75: Te 2/2 | F75: schwarz | G75: DC
A76: HAG/SOBA | D76: Te 2/2 | F76: schwarz | G76: DC | I76: Reisslack
A77: HAG/SOBA | D77: Te 2/2 | F77: silber/hellgrün | G77: DC | I77: Nina
A78: HAG/SOBA | D78: Te 2/2 | F78: silber/hellgrün/blau | G78: DC | I78: Nina-Bemalung
A79: HAG/SOBA | D79: Te 2/2 | F79: tarnfarbig | G79: DC | I79: Camouflage
A80: HAG/SOBA | D80: Te 2/2 | F80: weiss | G80: DC | I80: Xrail
A81: HAG/SOBA | D81: Eem 923 | E81: 923 007-9 | F81: schwarz | G81: AC | I81: Kaiser+Kraft
B83: Total | D83: =COUNTA(D4:D82) -> 73
B85: Anzahl Originale | E85: =COUNTA(D4:D57) -> 51
B86: Anzahl Custom painted | E86: =COUNTA(D58:D82) -> 22
A88: HAG/MOREP Produkt, auch in WS und mit Faulhaber-Motor angeboten, N = Originalmotor, W = Wechselstromumbau mit Faulhaber Motor, G = Gleichstromumbau mit Faulhaber-Motor
A90: HAG Produkte-Datenbank
B92: = verifiziert
A94: Auflistungen sind nach bestem Wissen und Gewissen erstellt. Falls Fehler gefunden werden, bitte melden: | H94: Mail an Roland Hausin
A96: =TOTAL!A23 -> © 2026 Roland Hausin

Sheet Lima
A1: Lima Traktoren & Rangierloks | H1: =TODAY() -> 46285
A3: Hersteller | B3: Art.Nr.1 | C3: Typ | D3: Betriebsnr. | E3: Farbe | F3: AC/DC | G3: Decoder | H3: Bemerkungen
A5: Lima | B5: 208144G | C5: Bm 4/4 | D5: 18414 | E5: rot/braun | F5: DC
A6: Lima | B6: 208144 | C6: Bm 4/4 | D6: 18414 | E6: rot/braun | F6: AC
A7: Lima | B7: 208145 | C7: Bm 4/4 | D7: 18440 | E7: rot/braun | F7: DC
A8: Lima | C8: Tm 2/2 | E8: rot/blau | F8: DC | H8: Cargo
A9: Lima | B9: 201639 | C9: Am 4/4 | D9: 18463 | E9: rot | F9: DC
A10: Lima | B10: 208047 | C10: Am 841 | D10: 841 001-1 | E10: rot | F10: DC
A11: Lima | B11: 1661 | C11: E 169 | D11: 2 | E11: braun | F11: DC | H11: BBC Werkslok
B13: ANZAHL: | C13: =COUNTA(C4:C12) -> 7
B15: = verifiziert
A17: Auflistungen sind nach bestem Wissen und Gewissen erstellt. Falls Fehler gefunden werden, bitte melden: | H17: Mail an Roland Hausin
A19: =TOTAL!A23 -> © 2026 Roland Hausin

Sheet Märklin
A1: MärklinTraktoren & Rangierloks | G1: =TODAY() -> 46285
A3: Hersteller | B3: Art.Nr.1 | C3: Typ | D3: Betriebsnr. | E3: Farbe | F3: AC/DC | G3: Decoder | H3: Bemerkungen
A5: Märklin | B5: 2647 | C5: DHG 700 | D5: 3 | E5: orange | F5: AC | G5: mfx | H5: Nebenbahn Zug, Em 3/3
A6: Märklin | B6: 3078 | C6: DHG 599 | E6: rot | F6: AC | H6: Diesel SBB
A7: Märklin | B7: 3078 | C7: DHG 500 | E7: rotbraun | F7: AC | G7: mfx | H7: SBB, Set
A8: Märklin | B8: 3184 | C8: Am 4/4 | D8: 18462 | E8: rot | F8: AC | H8: Diesel SBB
A9: Märklin | B9: 28462 | C9: Am 847 | D9: 847 951-1 | E9: weiss | F9: AC | G9: mfx | H9: Sersa Bauzug
A10: Märklin | B10: 28722 | C10: Ee 3/3 | D10: 16332 | E10: braun | F10: AC | G10: mfx | H10: Zugpackung Schweiz
A11: Märklin | B11: 29215 | C11: Ee 3/3 | D11: 16371 | E11: rot | F11: AC | G11: mfx
A12: Märklin | B12: 29216 | C12: Ee 3/3 | E12: rot | F12: AC | G12: mfx
A13: Märklin | B13: 33642 | C13: Am 842 | D13: 842 000-2 | E13: rot/weiss | F13: AC | G13: mfx | H13: SBB
A14: Märklin | B14: 33723 | C14: Am 847 | D14: 847 951-1 | E14: weiss | F14: AC | G14: mfx | H14: Sersa
A15: Märklin | B15: 36330 | C15: Ee 3/3 | D15: 16370 | E15: rotbraun | F15: AC | G15: mfx
A16: Märklin | B16: 36331 | C16: Ee 3/3 | E16: braun | F16: AC | G16: mfx
A17: Märklin | B17: 36333 | C17: Ee 3/3 | D17: 16356 | E17: grün | F17: AC | G17: mfx
A18: Märklin | B18: 36353 | C18: Ee 3/3 | D18: 16356 | E18: braun/gelb | F18: AC | G18: mfx | H18: PTT
A19: Märklin | B19: 36354 | C19: Ee 3/3 | D19: 16352 | E19: rot | F19: AC | G19: mfx
A20: Märklin | B20: 37295 | C20: Am 840 | D20: 840 002-0 | E20: blau/rot | F20: AC | G20: mfx | H20: SBB Cargo
A21: Märklin | B21: 37463 | C21: Am 842 | D21: 842 101-8 | E21: blau/rot | F21: AC | G21: mfx | H21: SBB Cargo
A22: Märklin | B22: 37627 | C22: Am 842 | D22: 842 001-0 | E22: rot | F22: AC | G22: mfx
A23: Märklin | B23: 37641 | C23: Am 843 | D23: 843 | E23: weiss | F23: AC | G23: mfx | H23: Sersa
A24: Märklin | B24: 37642 | C24: Am 843 | D24: 843 101-8 | E24: rot | F24: AC | G24: mfx
A25: Märklin | B25: 37643 | C25: Am 843 | D25: 843 101-8 | E25: rot | F25: AC | G25: mfx
A26: Märklin | B26: 39801 | C26: Am 4/4 | D26: 18467 | E26: rot | F26: AC | G26: mfx | H26: SBB
A27: Märklin | B27: 39545 | C27: Am 847 | D27: 847 971-7 | E27: weiss | F27: AC | G27: mfx | H27: Sersa Robel
A28: Märklin | B28: 83688 | C28: DHG 700C | E28: orange | F28: AC | G28: mfx
A29: Märklin | B29: 36332-01 | C29: Ee 3/3 | D29: 16314 | E29: grün | F29: AC | G29: mfx
A30: Märklin | B30: 36332-02 | C30: Ee 3/3 | D30: 16321 | E30: braun | F30: AC | G30: mfx
A31: Märklin | B31: 37346-02 | C31: Em 846 | D31: 846 350-7 | E31: rot | F31: AC | G31: mfx | H31: Crossrail
A32: Märklin | C32: Am 840 | D32: 840 003-8 | E32: rot/blau | F32: AC | G32: mfx | H32: Cargo
A34: Custom Painted:
A36: Märklin/SOBA | C36: Am 843 | D36: 18 | E36: hellgrün | F36: AC | H36: BLS,
A37: Märklin/SOBA | C37: Am 843 | D37: 843 502-6 | E37: grün | F37: AC | H37: Makies,
A39: Märklin/unbekannt | B39: 3021 | C39: Am 4/4 | E39: rot | F39: AC | H39: Mittel-Thurgau-Bahn
A40: Märklin/unbekannt | B40: 3021 | C40: Am 4/4 | E40: gelb | F40: AC | H40: Scheuchzer
B43: ANZAHL: | C43: =COUNTA(C4:C42) -> 32
B45: Anzahl Originale | D45: =COUNTA(C4:C33) -> 28
B46: Anzahl Custom painted | D46: =COUNTA(C34:C42) -> 4
B50: = verifiziert
A52: Auflistungen sind nach bestem Wissen und Gewissen erstellt. Falls Fehler gefunden werden, bitte melden: | H52: Mail an Roland Hausin
A54: =TOTAL!A23 -> © 2026 Roland Hausin

Sheet Messing
A1: Messing Traktoren & Rangierloks | G1: =TODAY() -> 46285
A3: Hersteller | B3: Art.Nr.1 | C3: Typ | D3: Betriebsnr. | E3: Farbe | F3: AC/DC | G3: Decoder | H3: Bemerkungen
A5: ESU | B5: 31083 | C5: Am 4/4 | D5: 18462 | E5: rot | F5: AC/DC | H5: SBB
A6: ESU | B6: 31305 | C6: Am 842 | D6: 842 102-6 | E6: rot/blau | F6: AC/DC | G6: Sound | H6: SBB Cargo
A7: ESU | B7: 31155 | C7: Am 847 | D7: 98 85 5847 004-9 | E7: rot/braun | F7: DC | G7: Sound | H7: Gravita Stahl Gerlafingen
A8: ESU | B8: 31381 | C8: Am 842 | D8: 842 101 | E8: blau/rot | F8: AC/DC | G8: Sound | H8: SBB Cargo
A10: Fulgurex | B10: 2016 | C10: Bm 6/6 | D10: 15302 | E10: braun | F10: DC | H10: SBB
A11: Fulgurex | B11: 2016 | C11: Bm 6/6 | D11: 18505 | E11: braun | F11: DC | H11: SBB
A12: Fulgurex | B12: 2016 | C12: Bm 6/6 | D12: 18510 | E12: braun | F12: DC | H12: SBB
A13: Fulgurex | B13: 2034 | C13: Bm 4/4 | E13: braun | F13: DC | H13: SBB
A14: Fulgurex | B14: 2052 | C14: Ee 6/6 | D14: 16801-2 | E14: rotbraun | F14: DC | H14: SBB
A15: Fulgurex | B15: 2060 | C15: Ee 3/3 | D15: 16405 | E15: braun | F15: DC | H15: SBB
A16: Fulgurex | B16: 2064 | C16: Am 6/6 | D16: 18526 | E16: braun | F16: DC | H16: SBB
A17: Fulgurex | B17: 2069 | C17: Ee 3/4 | D17: 16301 | E17: braun | F17: DC | H17: SBB
A18: Fulgurex | B18: 2069 | C18: Ee 3/4 | D18: 16302 | E18: braun | F18: DC | H18: SBB
A19: Fulgurex | B19: 2070 | C19: Ee 3/3 | D19: 16551-60 | E19: braun | F19: DC | H19: SBB
A20: Fulgurex | C20: Ee 3/3 | D20: 16323 | E20: braun | F20: DC | H20: SBB, Bügeleisen
A21: Fulgurex | B21: 2081 | C21: Ee 6/6 II | E21: braun | F21: DC | H21: SBB
A22: Fulgurex | B22: 2100 | C22: Te III | D22: 133 | E22: braun | F22: DC | H22: SBB
A23: Fulgurex | B23: 2100 | C23: Te III | D23: 127 | E23: braun | F23: DC | H23: SBB
A24: Fulgurex | B24: 2104 | C24: Te 2/3 | E24: rotbraun | F24: DC | H24: BLS
A25: Fulgurex | B25: 2016/3 | C25: Bm 6/6 | D25: 18510 | E25: braun | F25: AC | H25: SBB
A26: Fulgurex | B26: 2100/01 | C26: Te III | D26: 103 | E26: grün | F26: DC | H26: OeBB
A27: Fulgurex | C27: Em 3/3 | D27: 18823 | E27: rotbraun | F27: DC | H27: SBB
A28: Fulgurex | C28: Eem 6/6 | D28: 17004 | E28: rotbraun | F28: DC | H28: SBB
A30: HRF | C30: Tm I | D30: 647 | E30: braun | F30: DC | H30: SBB
A31: HRF | C31: Tm II | D31: 847 | E31: braun | F31: DC | H31: SBB
A32: HRF | B32: 1602-1 | C32: Tm 2/2 | D32: 422 | E32: braun | F32: DC | H32: SBB
A33: HRF | B33: 1602-2 | C33: Tm I | D33: 484 | E33: braun | F33: DC | H33: SBB
A34: HRF | B34: 1603-3 | C34: Tm IV | D34: 8979 | E34: braun | F34: DC | H34: SBB
A35: HRF | C35: Tm IV | D35: 9663 | E35: braun | F35: DC | H35: SBB
A36: HRF | B36: 1606-3 | C36: Tm II | D36: 719 | E36: braun | F36: DC | H36: FL-Dienst
A37: HRF | B37: 1651-0 | C37: Tm II | D37: 72 | E37: braun | F37: DC | H37: BLS
A39: HRM | C39: Tm II | E39: messing | F39: DC | H39: Messing-Bausatz
A40: HRM | B40: 74122 | C40: Te 2/3 | D40: 31 | E40: rot/braun | F40: DC | H40: Halbesel BLS
A41: HRM | C41: Te 2/3 | D41: 32 | E41: orange | F41: DC | H41: Halbesel BLS
A43: Intermodel | C43: Te | D43: 17 | E43: braun | F43: DC
A44: Intermodel | C44: Te I | D44: 55 | E44: braun | F44: DC
A45: Intermodel | C45: Te I | D45: 178 | E45: braun | F45: DC
A47: Lemaco | B47: 210/6 | C47: Bm 6/6 | D47: 18509 | E47: braun | F47: DC | H47: SBB
A49: Lematec | B49: 210/6 | C49: Bm 4/4 | D49: 18428 | E49: braun | F49: DC | H49: SBB
A50: Lematec | B50: 210/8 | C50: Bm 4/4 | D50: 18432 | E50: rot | F50: DC | H50: SBB
A51: Lematec | B51: 210/9 | C51: Bm 4/4 | D51: 18446 | E51: rot | F51: DC | H51: SBB
A53: M+F | C53: Te 2/3 | D53: 31 | F53: DC | H53: Bausatz
A55: Meier Baar | C55: Te I | D55: 46 | E55: rot | F55: DC
A56: Meier Baar | C56: Tm III | D56: 16376 | E56: rot | F56: DC
A58: Metropolitan | B58: 519 | C58: Ee 3/3 | D58: 401 | E58: 2541 | F58: DC | H58: BLS
A59: Metropolitan | B59: 521 | C59: Ee 3/3 | D59: 16359 | E59: braun | F59: DC | H59: SBB
A60: Metropolitan | B60: 521 | C60: Ee 3/3 | D60: 16351 | E60: rotbraun | F60: DC | H60: SBB
A61: Metropolitan | B61: 521 | C61: Ee 3/3 | D61: 16364 | E61: rotbraun | F61: DC | H61: SBB
A62: Metropolitan | B62: 662 | C62: Tm | D62: 97 | E62: rot | F62: DC | H62: BN
A63: Metropolitan | B63: 663 | C63: Tm 2/2 | D63: 95 | E63: braun | F63: DC | H63: GBS
A64: Metropolitan | B64: 678 | C64: Ee 3/3 | D64: 401 | E64: rotbraun | F64: DC | H64: BLS
A65: Metropolitan | B65: 688 | C65: Te 2/2 | D65: 11 | E65: braun | F65: DC | H65: BLS, mit Langdach
A66: Metropolitan | B66: 706 A | C66: Tem 2/2 | D66: 71 | E66: rotbraun | F66: DC | H66: BLS
A67: Metropolitan | B67: 706 B | C67: Tem 2/2 | D67: 72 | E67: rotbraun | F67: DC | H67: BLS
A68: Metropolitan | B68: 706 C | C68: Tem 2/2 | D68: 75 | E68: rotbraun | F68: DC | H68: BLS, mit Hebebühne
A69: Metropolitan | B69: 706 D | C69: Tem 2/2 | D69: 56 | E69: rotbraun | F69: DC | H69: BLS, mit Hebebühne
A70: Metropolitan | B70: 708 | C70: Te 2/3 | D70: 32 | E70: braun | F70: DC | H70: BLS
A71: Metropolitan | B71: 716 | C71: Tem II | D71: 285 | E71: braun | F71: DC | H71: SBB
A72: Metropolitan | B72: 737 | C72: Ee 3/3 | D72: 16312 | E72: rotbraun | F72: DC | H72: Bügeleisen
A73: Metropolitan | B73: 737 B | C73: Ee 3/3 | D73: 16323 | E73: rotbraun | F73: DC | H73: Bügeleisen
A74: Metropolitan | B74: 745 | C74: Ee 3/3 | D74: 16421 | E74: 3 | F74: DC | H74: SBB
A75: Metropolitan | B75: 753 | C75: Ee 3/3 | D75: 16331 | E75: braun | F75: DC | H75: SBB
A76: Metropolitan | B76: 765 | C76: Te I | D76: 951 | E76: 5 | F76: DC | H76: SBB, mit Langdach
A77: Metropolitan | C77: Tem II | D77: 276 | E77: braun | F77: DC | H77: SBB
A78: Metropolitan | C78: Te 2/3 | E78: rot | F78: DC | H78: BLS
A80: Tenshodo | C80: Te 7 | E80: braun | F80: DC
A82: Unbekannt | C82: TAe | D82: 5 | E82: braun/crème | F82: DC | H82: Salon Train Speciale
A83: Unbekannt | C83: Te I | D83: 17 | E83: braun | F83: DC | H83: kurzes Dach
A84: Unbekannt | C84: Te I | D84: 178 | E84: braun | F84: DC | H84: kurzes Dach
B88: TOTAL: | C88: =COUNTA(E4:E87) -> 68
B92: = verifiziert
A94: Auflistungen sind nach bestem Wissen und Gewissen erstellt. Falls Fehler gefunden werden, bitte melden: | H94: Mail an Roland Hausin
A96: =TOTAL!A23 -> © 2026 Roland Hausin

Sheet Piko
A1: Piko Traktoren & Rangierloks | H1: =TODAY() -> 46285
A3: Hersteller | B3: Art.Nr.1 | C3: Typ | D3: Betriebsnr. | E3: Farbe | F3: AC/DC | G3: Decoder | H3: Bemerkungen
A5: PIKO | B5: 59200 | C5: Am 843 | D5: 843 093-6 | E5: blau/rot | F5: AC | H5: Cargo
A6: PIKO | B6: 59201 | C6: Am 843 | D6: 843 042-3 | E6: rot | F6: DC | G6: Sound | H6: SBB Infra
A7: PIKO | B7: 52333 | C7: Am 487 | D7: 847 950-3 | E7: weiss | F7: DC | H7: Sersa, Gretli
A8: PIKO | B8: 52334 | C8: Am 487 | D8: 847 950-3 | E8: weiss | F8: DCC | G8: Sound | H8: Sersa, Gretli
A9: PIKO | B9: 52335 | C9: Am 487 | D9: 847 950-3 | E9: weiss | F9: AC | G9: Sound | H9: Sersa, Gretli
A10: PIKO | B10: 59211 | C10: Am 843 | D10: 843 502-6 | E10: silber/hellgrün | F10: AC | G10: digital | H10: BLS
A11: PIKO | B11: 59400 | C11: Am 843 | D11: 843 033-8 | E11: blau/rot | F11: DC | G11: digital | H11: Cargo
A12: PIKO | B12: 59401 | C12: Am 843 | D12: 843 042-3 | E12: rot | F12: AC | H12: SBB Infra
A13: PIKO | B13: 97580 | C13: Ee 3/3 II | D13: 16515 | E13: braun | F13: DC
A14: PIKO | B14: 97582 | C14: Ee 3/3 II | D14: 16515 | E14: braun | F14: DC | G14: Sound
A15: PIKO | B15: 97583 | C15: Ee 3/3 II | D15: 16515 | E15: braun | F15: AC
B18: ANZAHL: | C18: =COUNTA(C4:C17) -> 11
B20: = verifiziert
A22: Auflistungen sind nach bestem Wissen und Gewissen erstellt. Falls Fehler gefunden werden, bitte melden: | H22: Mail an Roland Hausin
A24: =TOTAL!A23 -> © 2026 Roland Hausin

Sheet Rivarossi
A1: Rivarossi Traktoren | H1: =TODAY() -> 46285
A3: Hersteller | B3: Art.Nr.1 | C3: Typ | D3: Betriebsnr. | E3: Farbe | F3: AC/DC | G3: Decoder | H3: Bemerkungen
A5: Rivarossi | B5: 1062 | C5: Em 3/3 | E5: rot | F5: DC | H5: SZU Leu
A6: Rivarossi | B6: 1073 | C6: Ee 3/3 | D6: 18821 | E6: rot | F6: AC | H6: SBB
A7: Rivarossi | B7: 1079 | C7: Ee 3/3 | D7: 934 553-9 | E7: rot | F7: AC | H7: SBB
A8: Rivarossi | B8: 1080 | C8: Ee 3/3 | D8: 16558 | E8: rot | F8: AC | H8: SBB
A9: Rivarossi | B9: 1081 | C9: Ee 3/3 | D9: 16557 | E9: braun | F9: AC | H9: SBB
A10: Rivarossi | B10: 1082 | C10: Em 3/3 | D10: 6 | E10: rot | F10: AC | H10: SZU Leu
A11: Rivarossi | B11: 1083 | C11: Em 3/3 | D11: 18821 | E11: rot | F11: AC | H11: SBB
A12: Rivarossi | B12: 1084 | C12: Em 3/3 | D12: 18820 | E12: braun | F12: AC | H12: SBB
A13: Rivarossi | B13: 1658 | C13: Ee 3/3 | D13: 934 553-9 | E13: rot | F13: DC | H13: SBB
A14: Rivarossi | B14: 1659 | C14: Ee 3/3 | D14: 16558 | E14: braun | F14: DC | H14: SBB
A15: Rivarossi | B15: 1660 | C15: Em 3/3 | D15: 18820 | E15: braun | F15: DC | H15: SBB
A16: Rivarossi | B16: 1661 | C16: Em 3/3 | D16: 18821 | E16: rot | F16: DC | H16: SBB
A17: Rivarossi | B17: 1662 | C17: Em 3/3 | D17: 6 | E17: rot | F17: DC | H17: SZU Leu
A18: Rivarossi | B18: 1663 | C18: Ee 3/3 | D18: 16557 | E18: braun | F18: DC | H18: SBB
A19: Rivarossi | B19: H 324 C | C19: Tm | D19: 519 | E19: braun | F19: DC | H19: Breuer Traktor, BT
A20: Rivarossi | B20: HR2038 | C20: Tm | D20: 519 | E20: graublau | F20: DC | H20: Breuer Traktor, Serie 208
A21: Rivarossi | B21: HR2072 | C21: Tm | E21: beige | F21: DC | H21: Breuer Traktor, ABL
A22: Rivarossi | B22: HR2072 | C22: Tm | E22: grün | F22: DC | H22: Breuer Traktor, Serie 208
A23: Rivarossi | B23: HR2080 | C23: Tm | E23: grün | F23: DC | H23: Breuer Traktor, Serie 208
A24: Rivarossi | B24: HR2125 | C24: Tm | E24: grün | F24: DC | H24: Breuer Traktor, ÖBB
A25: Rivarossi | B25: HR2204 | C25: Tm 414 | E25: rotbraun | F25: DC | H25: Breuer Traktor SBB
A26: Rivarossi | B26: HR2208 | C26: Tm | E26: rot | F26: DC | H26: Breuer Traktor
A27: Rivarossi | B27: HR2217 | C27: Tm | E27: crème/blau | F27: DC | H27: Breuer Traktor, BP
A28: Rivarossi | B28: HR2308 | C28: Tm | E28: braun | F28: DC | H28: Breuer Traktor, VEB Bitterfeld
A29: Rivarossi | B29: HR2722 | C29: Tm | E29: hellgrün | F29: DC | H29: Breuer Traktor, Aluminium Rheinfelden
A30: Rivarossi | B30: HR2723 | C30: Tm | E30: dunkelgrün | F30: DC | H30: Breuer Traktor, Seegmuller
A31: Rivarossi | B31: HR2784 | C31: Tm | E31: Flecktarn | F31: DC | H31: Breuer Traktor
A32: Rivarossi | B32: HRS2806 | C32: Tm | D32: 405 | E32: braun | F32: DC | H32: Breuer Traktor
A33: Rivarossi | B33: HRS2808 | C33: Tm | E33: braun | F33: DC | H33: Breuer Traktor
A34: Rivarossi | B34: HR2877 | C34: Tm | E34: gelb | F34: DC | H34: Breuer Traktor, Agip
A35: Rivarossi | B35: HR2878 | C35: Tm | D35: 206 009 | E35: grün | F35: DC | H35: Breuer Traktor
A36: Rivarossi | C36: Tm | D36: 414 | E36: braun | F36: DC | H36: Breuer Traktor
A37: Rivarossi | B37: HR1079 | C37: Te 3/3 IV | E37: braun | F37: WS
A40: Custom Painted
A42: Rivarossi/SOBA | C42: Bm 4/4 | D42: 18114 | E42: olivgrün | F42: DC | H42: Switzerland
B44: ANZAHL: | D44: =COUNTA(C4:C43) -> 34
C45: Original | D45: =COUNTA(C4:C39) -> 33
C46: Custom painted | D46: =COUNTA(C40:C43) -> 1
B48: = verifiziert
A50: Auflistungen sind nach bestem Wissen und Gewissen erstellt. Falls Fehler gefunden werden, bitte melden: | H50: Mail an Roland Hausin
A52: =TOTAL!A23 -> © 2026 Roland Hausin

Sheet Roco
A1: Roco Traktoren & Rangierloks | H1: =TODAY() -> 46285
A3: Hersteller | B3: Art.Nr.1 | C3: Typ | D3: Betriebsnr. | E3: Farbe | F3: AC/DC | G3: Decoder | H3: Bemerkungen
A5: Roco | B5: 41405 | C5: Ee 3/3 | D5: 16390 | E5: rot | F5: DC | G5: digital
A6: Roco | B6: 43529 | C6: Ee 3/3 | D6: 16382 | E6: braun | F6: DC
A7: Roco | B7: 43580 | C7: Am 4/4 | D7: 18463 | E7: rot | F7: DC | H7: SBB
A8: Roco | B8: 43929 | C8: Am 4/4 | D8: 18463 | E8: rot | F8: AC | H8: SBB
A9: Roco | B9: 43936 | C9: Ee 3/3 | D9: 16382 | E9: braun | F9: DC
A10: Roco | B10: 43936 | C10: Ee 3/3 | D10: 16382 | E10: braun | F10: AC | G10: digital
A11: Roco | B11: 68667 | C11: Ee 3/3 | D11: 16411 | E11: braun | F11: AC | G11: digital
A12: Roco | B12: 51225 | C12: BR 294 | D12: 294 999-8 | E12: rot/blau | F12: DC | H12: SBB Cargo
A13: Roco | B13: 52565 | C13: Am 847 | D13: 847 957-8 | E13: weiss | F13: DC | H13: Sersa, Lotti
A14: Roco | B14: 52566 | C14: Am 847 | D14: 847 957-8 | E14: weiss | F14: DCC | G14: Sound | H14: Sersa, Lotti
A15: Roco | B15: 58566 | C15: Am 847 | D15: 847 957-8 | E15: weiss | F15: AC | G15: digital | H15: Sersa, Lotti
A16: Roco | B16: 63496 | C16: Am 851 | D16: 851 001-8 | E16: blau/rot | F16: DC | H16: SBB Cargo
A17: Roco | B17: 69496 | C17: Am 851 | D17: 851 001-8 | E17: blau/rot | F17: AC | H17: SBB Cargo
A18: Roco | B18: 43964.1 | C18: V100 | E18: gelb | F18: AC | H18: Vanoli Airolo
A20: Roco/APC | B20: 4501 GL | C20: Ee 3/3 | D20: 16313 | E20: braun | F20: DC | H20: 40 Exemplare
A23: Custom Painted
A25: Roco/SOBA | C25: Am 841 | D25: 841 905-8 | E25: blau | F25: AC | H25: Widmer Rail System
B27: ANZAHL: | D27: =COUNTA(C4:C26) -> 16
C28: Original | E28: =COUNTA(C4:C22) -> 15
C29: Custom painted | E29: =COUNTA(C23:C26) -> 1
B31: = verifiziert
A33: Auflistungen sind nach bestem Wissen und Gewissen erstellt. Falls Fehler gefunden werden, bitte melden: | H33: Mail an Roland Hausin
A35: =TOTAL!A23 -> © 2026 Roland Hausin

Sheet Trix
A1: Trix Traktoren | H1: =TODAY() -> 46285
A3: Hersteller | B3: Art.Nr.1 | C3: Typ | D3: Betriebsnr. | E3: Farbe | F3: AC/DC | G3: Decoder | H3: Bemerkungen
A5: Trix | B5: 22335 | C5: Ee 3/3 | D5: 16367 | E5: rotbraun | F5: DC
A6: Trix | B6: 22316 | C6: Ee 3/3 | D6: 16370 | E6: rotbraun | F6: DC
A7: Trix | B7: 22335 | C7: Te 3/3 IV | E7: braun | F7: DC
A8: Trix | B8: 22588 | C8: Am 842 | D8: 842 000-2 | E8: rot/weiss | F8: DC | H8: SBB
A9: Trix | B9: 25330 | C9: Ee 3/3 | D9: 16352 | E9: rot | F9: DC | G9: mfx
A10: Trix | B10: 22881 | C10: Am 840 | D10: 840 002-0 | E10: blau/rot | F10: DC | G10: mfx | H10: SBB Cargo
B12: ANZAHL: | C12: =COUNTA(C4:C11) -> 6
B14: = verifiziert
A16: Auflistungen sind nach bestem Wissen und Gewissen erstellt. Falls Fehler gefunden werden, bitte melden: | H16: Mail an Roland Hausin
A18: =TOTAL!A23 -> © 2026 Roland Hausin

Sheet Weinert
A1: Weinert Traktoren | G1: =TODAY() -> 46285
A3: Hersteller | B3: Art.Nr.1 | C3: Typ | D3: Betriebsnr. | E3: Farbe | F3: AC/DC | G3: Bemerkungen
A5: Weinert | B5: 4067 | C5: Te I | D5: 44 | E5: verkehrsrot | F5: DC | G5: Traktor mit langem Dach
A6: Weinert | B6: 4068 | C6: Te I | D6: 46 | E6: rotbraun | F6: DC | G6: Traktor mit langem Dach
A7: Weinert | B7: 4069 | C7: Te I | D7: 40 | E7: rot | F7: DC | G7: Traktor mit kurzem Dach
A8: Weinert | B8: 4070 | C8: Te I | D8: 40 | E8: braun | F8: DC | G8: Traktor mit kurzem Dach
A9: Weinert | B9: 4067-3 | C9: Te I | D9: 46 | E9: rot | F9: AC | G9: Traktor mit langem Dach
A10: Weinert | B10: 4067-3 | C10: Te I | D10: 44 | E10: verkehrsrot | F10: AC | G10: Traktor mit langem Dach
A11: Weinert | B11: 4068-3 | C11: Te I | D11: 46 | E11: braun | F11: AC | G11: Traktor mit langem Dach
A12: Weinert | B12: 4069-3 | C12: Te I | D12: 40 | E12: rot | F12: AC | G12: Traktor mit kurzem Dach
A13: Weinert | B13: 4070-3 | C13: Te I | D13: 40 | E13: braun | F13: AC | G13: Traktor mit kurzem Dach
A14: Weinert | B14: 4070D-3 | C14: Te I | D14: 40 | E14: braun | F14: AC | G14: Traktor mit kurzem Dach
A15: Weinert | B15: 4024 | C15: Tm | D15: 55 | E15: braun | F15: DC | G15: Schienentraktor VHB
A16: Weinert | B16: 4024-3 | C16: Tm | D16: 55 | E16: braun | F16: AC | G16: Schienentraktor VHB
A17: Weinert | C17: Tm | D17: 1 | E17: braun | F17: DC | G17: Schienentraktor BT mit 2 Schneepflügen
A18: Weinert | B18: 4020 | C18: Tm II | D18: 735 | E18: braun | F18: DC | G18: Schienentraktor
A19: Weinert | B19: 4022 | C19: Tm II | D19: 774 | E19: rot | F19: DC | G19: Schienentraktor
A20: Weinert | B20: 4022 | C20: Tm II | D20: 744 | E20: rotbraun | F20: DC | G20: Schienentraktor
A21: Weinert | B21: 4023 | C21: Tm II | D21: 1 | E21: rotbraun | F21: DC | G21: Schienentraktor BT
A22: Weinert | B22: 4038 | C22: Tm II | D22: 774 | E22: braun | F22: DC | G22: Schienentraktor SBB
A23: Weinert | B23: 4039 | C23: Tm II | D23: 640 | E23: braun | F23: DC | G23: Schienentraktor mit 2 Schneepflügen
A24: Weinert | B24: 40201 | C24: Tm II | D24: 82 | E24: braun | F24: DC | G24: Schienentraktor
A25: Weinert | B25: 40211 | C25: Tm II | E25: braun | F25: DC | G25: Schienentraktor
A26: Weinert | B26: 40212 | C26: Tm II | E26: rot | F26: DC | G26: Schienentraktor
A27: Weinert | B27: 40381 | C27: Tm II | D27: 774 | E27: braun | F27: AC | G27: Schienentraktor
A28: Weinert | B28: 40382 | C28: Tm II | D28: 774 | E28: rot | F28: AC | G28: Schienentraktor
A29: Weinert | B29: 40391 | C29: Tm II | D29: 640 | E29: braun | F29: DC | G29: Schienentraktor mit 2 Schneepflügen
A30: Weinert | B30: 40393 | C30: Tm II | D30: 640 | E30: braun | F30: AC | G30: Schienentraktor mit 2 Schneepflügen
A31: Weinert | B31: 4020-3 | C31: Tm II | D31: 735 | E31: rotbraun | F31: AC | G31: Schienentraktor
A32: Weinert | B32: 4021-3 | C32: Tm II | D32: 826 | E32: rotbraun | F32: AC | G32: Schienentraktor
A33: Weinert | B33: 4022-3 | C33: Tm II | D33: 774 | E33: rot | F33: AC | G33: Schienentraktor
A34: Weinert | B34: 4022-3 | C34: Tm II | D34: 744 | E34: rotbraun | F34: AC | G34: Schienentraktor
A35: Weinert | B35: 4023-3 | C35: Tm II | D35: 1 | E35: rotbraun | F35: AC | G35: Schienentraktor BT
A36: Weinert | B36: 4039-3 | C36: Tm II | D36: 640 | E36: rotbraun | F36: AC | G36: Schienentraktor mit 2 Schneepflügen
A37: Weinert | B37: 4055-3 | C37: Tm II | D37: 9455 | E37: rot | F37: AC | G37: Traktor mit beweglicher Hebebühne
A38: Weinert | B38: 4042 | C38: Tm III | D38: 9513 | E38: braun | F38: DC | G38: Traktor mit beweglichem Ladekran
A39: Weinert | B39: 4044 | C39: Tm III | D39: 8773 | E39: braun | F39: DC | G39: Traktor mit beweglichem Ladekran
A40: Weinert | B40: 4055 | C40: Tm III | D40: 9455 | E40: rot | F40: DC | G40: Traktor mit beweglicher Hebebühne
A41: Weinert | B41: 4042-3 | C41: Tm III | D41: 9513 | E41: braun | F41: AC | G41: Traktor mit beweglichem Ladekran
A42: Weinert | B42: 4042D-3 | C42: Tm III | D42: 8773 | E42: braun | F42: AC | G42: Traktor mit beweglichem Ladekran
A43: Weinert | B43: 4043-3 | C43: Tm III | D43: 8773 | E43: rot | F43: AC | G43: Traktor mit beweglichem Ladekran
A44: Weinert | B44: 4043D-3 | C44: Tm III | D44: 8773 | E44: rot | F44: AC | G44: Traktor mit beweglichem Ladekran
A45: Weinert | B45: 4054-3 | C45: Tm III | D45: 9455 | E45: rot | F45: AC | G45: Traktor mit beweglicher Hebebühne
A46: Weinert | B46: 4055D | C46: Tm III | D46: 9455 | E46: rot | F46: DC | G46: Traktor mit beweglicher Hebebühne
A47: Weinert | B47: 4055D-3 | C47: Tm III | D47: 9455 | E47: rot | F47: AC | G47: Traktor mit beweglicher Hebebühne
A48: Weinert | B48: 4048 | C48: Tm IV | D48: 8772 | E48: rotbraun | F48: DC | G48: Traktor
A49: Weinert | B49: 4056 | C49: Tm IV | D49: 8772 | E49: rot | F49: DC | G49: Traktor
A50: Weinert | B50: 4057 | C50: Tm IV | D50: 8752 | E50: rot | F50: DC | G50: Traktor
A51: Weinert | B51: 4058 | C51: Tm IV | D51: 8779 | E51: braun | F51: DC | G51: Traktor
A52: Weinert | B52: 4058 | C52: Tm IV | D52: 8772 | E52: rotbraun | F52: DC | G52: Traktor
A53: Weinert | B53: 4048-3 | C53: Tm IV | D53: 8772 03-1 | E53: braun | F53: AC | G53: Traktor
A54: Weinert | B54: 4048-3 | C54: Tm IV | D54: 8772 | E54: rotbraun | F54: AC | G54: Traktor
A55: Weinert | B55: 4056-3 | C55: Tm IV | D55: 8752 | E55: rot | F55: AC | G55: Traktor
A56: Weinert | B56: 4057-3 | C56: Tm IV | D56: 8752 | E56: rot | F56: AC | G56: Traktor
A57: Weinert | B57: 4057D-3 | C57: Tm IV | D57: 8752 | E57: rot | F57: AC | G57: Traktor
A58: Weinert | B58: 4058-3 | C58: Tm IV | D58: 8779 | E58: braun | F58: AC | G58: Traktor
A59: Weinert | B59: 4058-3 | C59: Tm IV | D59: 8772 | E59: rotbraun | F59: AC | G59: Traktor
A60: Weinert | B60: 4058D-3 | C60: Tm IV | D60: 8779 | E60: braun | F60: AC | G60: Traktor
B62: ANZAHL: | C62: =COUNTA(C4:C61) -> 56
B64: = verifiziert
A66: Auflistungen sind nach bestem Wissen und Gewissen erstellt. Falls Fehler gefunden werden, bitte melden: | G66: Mail an Roland Hausin
A68: =TOTAL!A23 -> © 2026 Roland Hausin

Sheet Andere
A1: Traktoren & Rangierloks andere Hersteller | H1: =TODAY() -> 46285
A3: Hersteller | B3: Art.Nr.1 | C3: Typ | D3: Betriebsnr. | E3: Farbe | F3: AC/DC | G3: Decoder | H3: Bemerkungen
A5: Ade | B5: 155002 | C5: DH 500 Ca | D5: 837 814-3 | E5: gelb/rot | F5: DC | H5: Post
A6: Ade | B6: 155007 | C6: DH 500 Ca | D6: 837 909-1 | E6: grün | F6: DC | H6: Gotthard Schnyder AG
A7: Ade | B7: 155008 | C7: DH 440 Ca | D7: 836 362-4 | E7: orange | F7: DC | H7: BLS
A8: Ade | B8: 255002 | C8: DH 500 Ca | D8: 837 814-3 | E8: gelb/rot | F8: AC | G8: digital | H8: Post
A9: Ade | B9: 255007 | C9: DH 500 Ca | D9: 837 909-1 | E9: grün | F9: AC | G9: digital | H9: Gotthard Schnyder AG
A10: Ade | B10: 255008 | C10: DH 440 Ca | D10: 836 362-4 | E10: orange | F10: AC | G10: digital | H10: BLS
A12: BEMO | B12: 1676 412 | C12: Tm II | D12: 662 | E12: rot | F12: DC
A13: BEMO | C13: Tm II | D13: 706 | E13: braun | F13: DC
A15: Burmester | C15: Tm | E15: gelb | F15: DC
A17: ESU | B17: 31083 | C17: Am 4/4 | D17: 18462 | E17: rot | F17: AC/DC | G17: Sound | H17: SBB
A18: ESU | B18: 31155 | C18: BR 261 | E18: rot/weiss | F18: AC/DC | G18: Sound | H18: Stahl Gerlafingen
A19: ESU | B19: 31305 | C19: Am 842 | D19: 842 102-6 | E19: blau/rot | F19: AC/DC | G19: Sound | H19: SBB Cargo
A20: ESU | B20: 31332 | C20: Am 4/4 | D20: 18463 | E20: rot | F20: AC/DC | G20: Sound | H20: SBB
A21: ESU | B21: 31380 | C21: Am 845 | D21: 845 002-5 | E21: weiss | F21: AC/DC | G21: Sound | H21: Sersa
A22: ESU | B22: 31381 | C22: Am 842 | D22: 842 101-8 | E22: blau/rot | F22: AC/DC | G22: Sound | H22: SBB Cargo
A24: Günther | C24: TAe | D24: 5 | E24: braun/beige | F24: AC | H24: OeBB
A26: HAG classic | B26: 010 001-21 | C26: Ee 922 | D26: 922 001-3 | E26: rot/schwarz | F26: DC
A27: HAG classic | B27: 010 001-31 | C27: Ee 922 | D27: 922 001-3 | E27: rot/schwarz | F27: AC
A28: HAG classic | B28: 010 008-21 | C28: Ee 922 | D28: 922 008-8 | E28: rot/schwarz | F28: DC
A29: HAG classic | B29: 010 008-31 | C29: Ee 922 | D29: 922 008-8 | E29: rot/schwarz | F29: AC
A30: HAG classic | B30: 010 010-21 | C30: Ee 922 | D30: 922 010-4 | E30: rot/schwarz | F30: DC
A31: HAG classic | B31: 010 010-21 | C31: Ee 922 | D31: 922 077-3 | E31: silbergrau/blau | F31: DC | H31: BLS Fantasiemodell
A32: HAG classic | B32: 010 010-31 | C32: Ee 922 | D32: 922 010-4 | E32: rot/schwarz | F32: AC
A33: HAG classic | B33: 010 014-21 | C33: Ee 922 | D33: 922 014-6 | E33: rot/schwarz | F33: DC
A34: HAG classic | B34: 010 014-31 | C34: Ee 922 | D34: 922 014-6 | E34: rot/schwarz | F34: AC
A35: HAG classic | B35: 010 015-21 | C35: Ee 922 | D35: 922 015-3 | E35: rot/schwarz | F35: DC
A36: HAG classic | B36: 010 015-31 | C36: Ee 922 | D36: 922 015-3 | E36: rot/schwarz | F36: AC
A37: HAG classic | B37: 010 019 | C37: Ee 922 | D37: 922 019-5 | E37: rot/schwarz | H37: Vorserienmodell, teilweise Dummy, x/12
A38: HAG classic | B38: 010 019-21 | C38: Ee 922 | D38: 922 019-5 | E38: rot/schwarz | F38: DC
A39: HAG classic | B39: 010 019-21 | C39: Ee 922 | D39: 922 019-5 | E39: rot/schwarz | F39: DC | H39: HAG-Reise 2015
A40: HAG classic | B40: 010 019-31 | C40: Ee 922 | D40: 922 019-5 | E40: rot/schwarz | F40: AC
A41: HAG classic | B41: 010 019-31 | C41: Ee 922 | D41: 922 019-5 | E41: rot/schwarz | F41: AC | H41: HAG-Reise 2015
A42: HAG classic | B42: 010 023-21 | C42: Ee 922 | D42: 922 023-7 | E42: rot/schwarz | F42: DC
A43: HAG classic | B43: 010 023-31 | C43: Ee 922 | D43: 922 023-7 | E43: rot/schwarz | F43: AC
A44: HAG classic | B44: 010 025-21 | C44: Ee 922 | D44: 922 025-2 | E44: rot/schwarz | F44: DC
A45: HAG classic | B45: 010 025-31 | C45: Ee 922 | D45: 922 025-2 | E45: rot/schwarz | F45: AC
A46: HAG classic | B46: 010 077-21 | C46: Ee 922 | D46: 922 077-3 | E46: silbergrau/blau | F46: DC | H46: BLS Fantasiemodell für HAG-Reise 2016
A47: HAG classic | B47: 010 077-31 | C47: Ee 922 | D47: 922 077-3 | E47: silbergrau/blau | F47: AC | H47: BLS Fantasiemodell
A48: HAG classic | B48: 010 077-31 | C48: Ee 922 | D48: 922 077-3 | E48: silbergrau/blau | F48: AC | H48: BLS Fantasiemodell für HAG-Reise 2016
A49: HAG classic | B49: 020 007-21 | C49: Eem 923 | D49: 923 007-9 | E49: blau/rot | F49: DC | H49: Name „Schoren“
A50: HAG classic | B50: 020 007-31 | C50: Eem 923 | D50: 923 007-9 | E50: blau/rot | F50: AC | H50: Name „Schoren“
A51: HAG classic | B51: 020 009-21 | C51: Eem 923 | D51: 923 009-5 | E51: blau/rot | F51: DC | H51: Name „Alvier“
A52: HAG classic | B52: 020 009-31 | C52: Eem 923 | D52: 923 009-5 | E52: blau/rot | F52: AC | H52: Name „Alvier“
A53: HAG classic | B53: 020 016-21 | C53: Eem 923 | D53: 923 016-0 | E53: blau/rot | F53: DC | H53: Name „Le Jorat“
A54: HAG classic | B54: 020 016-31 | C54: Eem 923 | D54: 923 016-0 | E54: blau/rot | F54: AC | H54: Name „Le Jorat“
A55: HAG classic | B55: 020 020-21 | C55: Eem 923 | D55: 923 020-2 | E55: blau/rot | F55: DC | H55: Name „Stockhorn“
A56: HAG classic | B56: 020 020-31 | C56: Eem 923 | D56: 923 020-2 | E56: blau/rot | F56: AC | H56: Name „Stockhorn“
A57: HAG classic | B57: 020 021-21 | C57: Eem 923 | D57: 923 021-0 | E57: blau/rot | F57: DC | H57: Name „Tourbillon“
A58: HAG classic | B58: 020 021-31 | C58: Eem 923 | D58: 923 021-0 | E58: blau/rot | F58: AC | H58: Name „Tourbillon“
A60: Hobbytrain | B60: 61660 | C60: Ee 6/6 II | D60: 16814 | E60: braun | F60: DC | H60: SBB
A61: Hobbytrain | B61: 62660 | C61: Am 6/6 | E61: braun | F61: DC | H61: SBB
A62: Hobbytrain | B62: 62661 | C62: Am 6/6 | D62: 16522 | E62: braun | F62: DC | H62: SBB
A64: Kato | C64: Ee 6/6 | D64: 16820 | E64: braun | F64: DC | H64: SBB
A66: Liliput | B66: L112404 | C66: Am 842 | D66: 842 000-2 | E66: rot/braun | F66: DC | H66: MAK
A67: Liliput | B67: L112434 | C67: Am 842 | D67: 842 000-2 | E67: rot/braun | F67: DC | H67: Sersa
A69: Loki-Spengler | C69: Te 2/3 | D69: 31 | E69: rot/braun | F69: DC | H69: Halbesel BLS
A71: LS Models | B71: 17006 | C71: Bm 6/6 | D71: 18510 | E71: braun | F71: DC
A72: LS Models | B72: 17010 | C72: Bm 6/6 | D72: 18508 | E72: rot | F72: DC | G72: Sound
A73: LS Models | B73: 17015 | C73: Bm 6/6 | D73: 18501 | E73: braun | F73: DC | G73: Sound
A74: LS Models | B74: 17062 | C74: Bm 4/4 | D74: 840 111-9 | E74: gelb | F74: DC | G74: Sound | H74: Marti, Tunnel, Rösi 1
A75: LS Models | B75: 17066 | C75: Bm 4/4 | D75: 18437 | E75: rot | F75: DC | H75: Stadt Bern
A76: LS Models | B76: 17509 | C76: Bm 6/6 | D76: 18506 | E76: braun | F76: AC
A77: LS Models | B77: 17564 | C77: Bm 4/4 | D77: 18414 | E77: braun | F77: DC | G77: Sound | H77: Stadt Bern
A78: LS Models | B78: 17567 | C78: Bm 4/4 | F78: AC | H78: Marti, Tunnel
A80: Mabar | B80: 81520 | C80: Tm 232 | D80: 9664 | E80: blau/rot | F80: DC | H80: Cargo
A81: Mabar | B81: 81522 | C81: Tm IV | E81: braun | F81: DC | G81: Sound | H81: Schienentraktor SBB
A82: Mabar | B82: 81524 | C82: Tm IV | D82: 9664 | E82: rot | F82: DC | H82: Schienentraktor SBB
A84: Mehano/EYRO | B84: 55310.1 | C84: Am 843 | D84: 843 074-6 | E84: blau/rot | F84: DC | H84: Cargo
A85: Mehano/EYRO | B85: 55312.1 | C85: Am 843 | D85: 843 074-6 | E85: blau/rot | F85: AC | H85: Cargo
A86: Mehano | B86: 90200 | C86: Am 842 | D86: 842 012-7 | E86: türkis/grau | F86: DC | H86: SBB Cargo Italia
A87: Mehano | B87: 90240 | C87: Am 842 | D87: 842 101-8 | E87: blau/rot | F87: DC | H87: Cargo
A88: Mehano | B88: 90256 | C88: Am 842 | D88: 842 | E88: blau/weiss | F88: DC | H88: BLS
A89: Mehano | B89: 90257 | C89: Am 845 | D89: 845 002-5 | E89: blau | F89: DC | H89: BLS
A90: Mehano | B90: 90554 | C90: Am 845 | D90: 845 002-5 | E90: weiss | F90: DC | H90: Sersa
A91: Mehano | B91: 90555 | C91: Am 845 | D91: 845 002-5 | E91: weiss | F91: DCC | G91: Sound | H91: Sersa
A92: Mehano | B92: 90570 | C92: Am 842 | D92: 842 014-3 | E92: grau/hellgrün | F92: DC | H92: SBB Italia
A93: Mehano | C93: Am 840 | D93: 840 001-2 | E93: blau/rot | F93: DC | G93: Sound | H93: Cargo
A94: Mehano | C94: Am 840 | D94: 840 003-8 | E94: blau/rot | F94: DC | H94: Cargo
A96: M+F | C96: Te 2/3 | D96: 32 | E96: rot | F96: DC | H96: BLS Halbesel
A98: Schneider-Railtop | C98: Em 2/2 | E98: rot | F98: DC | H98: ST, Kleinserie
A100: SMF | B100: 301 | C100: Tm 2/2 | E100: braun | F100: DC | H100: Breuer Traktor
A101: SMF | B101: 303C | C101: Tm 2/2 | E101: grün | F101: DC | H101: Breuer Traktor
A102: SMF | B102: 324 | C102: Tm 2/2 | D102: 6 | E102: braun | F102: DC | H102: Breuer Traktor
A104: Swiss Toys | C104: Te 55 | D104: 55010-7 | E104: braun | F104: DC
A105: Swiss Toys | C105: Tm II | D105: 633 | E105: braun | F105: DC | H105: Metall-Gehäuse
A106: Swiss Toys | C106: Tm II | D106: 633 | E106: rot | F106: DC | H106: Kunststoff-Gehäuse
A108: Viessmann | C108: Tm | D108: 235 203 | E108: silber/blau/hellgrün | F108: DCC | G108: Sound | H108: BLS Robel
A109: Viessmann | B109: 2630 | C109: Tm | D109: 235 971-3 | E109: weiss | F109: DCC | G109: Sound | H109: Sersa Robel
A112: Custom Painted
A115: Unbekannt/Lüthi | C115: Bm 4/4 II | D115: 18451 | E115: grün | F115: AC | H115: MThB
B118: ANZAHL: | C118: =COUNTA(C4:C117) -> 89
B120: Anzahl Originale | E120: =COUNTA(C4:C111) -> 88
B121: Anzahl Custom painted | E121: =COUNTA(C112:C117) -> 1
B124: = verifiziert
A126: Auflistungen sind nach bestem Wissen und Gewissen erstellt. Falls Fehler gefunden werden, bitte melden: | H126: Mail an Roland Hausin
A128: =TOTAL!A23 -> © 2026 Roland Hausin
