Workbook

Sheet TOTAL
A1: Anzahl bekannte Traxx in Spur H0 | I1: =TODAY() -> 46285
A3: Anmerkung: Die Bezeichnung Traxx steht stellvertretende für alle Loktypen dieser Bauweise, enthalten sind somit die unten aufgeführten Typen
B6: Total | D6: Original | E6: Custom painted
A8: ACME | B8: =ACME!C164 -> 153 | D8: =ACME!D166 -> 152 | E8: =ACME!D167 -> 1
A9: Brawa | B9: =Brawa!C96 -> 86
A10: Fleischmann | B10: =Fleischmann!C31 -> 12
A11: Märklin | B11: =Märklin!C220 -> 197 | D11: =Märklin!D222 -> 116 | E11: =Märklin!D223 -> 81
A12: PIKO | B12: =PIKO!C524 -> 508 | D12: =PIKO!D527 -> 501 | E12: =PIKO!D528 -> 7
A13: Roco | B13: =ROCO!C338 -> 325 | D13: =ROCO!D340 -> 323 | E13: =ROCO!D341 -> 2
A14: Trix | B14: =Trix!C51 -> 45
A15: Andere | B15: =Andere!C20 -> 10
A17: TOTAL | B17: =SUM(B4:B16) -> 1336 | E17: =SUM(E4:E16) -> 91
A20: Anmerkung RH:
A21: Der Hauptaugenmerk der in allen Tabellen aufgelisteten Modelle wurde auf die in der Schweiz verkehrenden Typen gerichtet.
A22: Dies wurde aber insbesondere bei den Traxxen und den Krokodilen nicht so konsequent ausgeführt, da wurde praktisch alles was gefunden werden konnte, zusammengetragen
A24: Die Auflistungen sind nach bestem Wissen und Gewissen erstellt. Falls Fehler gefunden werden, bitte melden: | J24: mailto:roland@hausin.com?subject=Angaben/Korrekturen zu H0-Loks
A26: © 2026 Roland Hausin
A29: https://de.wikipedia.org/wiki/Bombardier_Traxx#F140_AC1
A31: https://de.wikipedia.org/wiki/Bombardier_Traxx#F140_AC2
A34: Bombardier Traxx
D35: Bezeichnung:
A36: Traxx-Vorläufer
A37: AEG 12x | D37: BR 128
D38: BR 145
D39: BR 146.0
A41: Traxx
A42: F140 AC1 | D42: BR 185
D43: 185-CL
A44: P160 AC1 | D44: BR 146.1
D45: CFL 4000
D46: ME-146
D47: Re 481
A48: F140 AC1 | D48: Re 482
A49: P160 AC1 | D49: Re 485
A51: Traxx 2
A52: F140 MS2 | D52: BR 146.2
A53: P160 AC2 | D53: BR 146.5
A54: F140 AC2 | D54: BR 185.2
D55: BR 185.4
D56: E 484.9
...

Sheet ACME
A1: ACME | H1: =TODAY() -> 46285
A3: Hersteller | B3: Art.Nr.1 | C3: Typ | D3: Betriebsnr. | E3: Farbe | F3: AC/DC | G3: Decoder | H3: Bemerkungen | I3: Bemerkungen 2
A5: ACME | B5: 60050 | C5: Re 484 | D5: 484 007-0 | E5: grau/blau | F5: DC | H5: Cisalpino
A6: ACME | B6: 60051 | C6: BR 185 | D6: 91 80 6185 201-1 | E6: rot | F6: DC | H6: Railion
A7: ACME | B7: 60051 | C7: BR 185 | D7: 91 80 6185 201-1 | E7: rot | F7: AC | H7: Railion
A8: ACME | B8: 60052 | C8: BR 185 | D8: 91 80 6185 244-1 | E8: rot | F8: DC | H8: Railion
A9: ACME | B9: 60052 | C9: BR 185 | D9: 91 80 6185 244-1 | E9: rot | F9: AC | H9: Railion
A10: ACME | B10: 60053 | C10: Re 484 | D10: 484 902-2 | E10: schwarz | F10: DC | H10: MRCE Crossrail
A11: ACME | B11: 60054 | C11: Re 484 | D11: 484 021-1 | E11: blau/rot | F11: DC | H11: SBB Cargo, 125 Jahre Gotthard
A12: ACME | B12: 60055 | C12: BR 185 | D12: 241 001 | E12: rot | F12: DC | H12: Hectorrail
A13: ACME | B13: 60056 | C13: BR 185 | D13: 185 579-0 | F13: DC | H13: CB Rail / Crossrail
A14: ACME | B14: 60057 | C14: BR 185 | D14: 241 002 | E14: grau/orange | F14: DC | H14: Hectorrail
A15: ACME | B15: 60058 | C15: Re 481 | D15: 481 001-0 | E15: rot/grau | F15: DC | H15: Eurocom
A16: ACME | B16: 60059 | C16: BR 185 | D16: 185 566-7 | E16: schwarz/rot/weiss | F16: DC | H16: MRCE Crossrail
A17: ACME | B17: 60070 | C17: E 483 | D17: E 483 001-4 | E17: grün/grau | F17: DC | H17: Angel Trains
A18: ACME | B18: 60072 | C18: E 483 | D18: E 483 004 RT | E18: grün/grau | F18: DC | H18: Angel Trains / Rail Traction Company
A19: ACME | B19: 60073 | C19: E 483 | D19: E 483 008 NC | E19: grün/grau | F19: DC | H19: Angel Trains / Nord Cargo
A20: ACME | B20: 60074 | C20: BR 185 | D20: Rh 1423 | F20: DC | H20: Green Cargo
A21: ACME | B21: 60075 | C21: BR 185 | D21: Rh 1424 | F21: DC | H21: Green Cargo
A22: ACME | B22: 60076 | C22: BR 185 | D22: 119 001 | E22: grau | F22: DC | H22: CargoNet
A23: ACME | B23: 60077 | C23: BR 185 | D23: 91 80 6185 584-0 | E23: rot | F23: DC | H23: HGK
A24: ACME | B24: 60078 | C24: Re 482 | D24: 482 049-4 | E24: blau/rot | F24: DC | H24: SBB Cargo
A25: ACME/EYRO | B25: 60078.1 | C25: Re 482 | D25: 482 049-4 | E25: blau/rot | F25: DC | H25: SBB Cargo … stellt Lokführer ein
A26: ACME | B26: 60079 | C26: BR 185 | D26: 185 577-4 | E26: grün/grau | F26: DC | H26: Angel Trains
A27: ACME/EYRO | B27: 60079.1 | C27: BR 185 | D27: 185 563-4 | E27: schwarz | F27: DC | H27: MRCE Rail4Chem, Sonderserie EYRO
A28: ACME/EYRO | B28: 60079.2 | C28: BR 185 | D28: 185 585-7 | E28: grün/grau | F28: DC | H28: HGK, Sonderserie EYRO, x/20
A29: ACME/EYRO | B29: 60079.4 | C29: BR 185 | D29: 185 595-6 | E29: schwarz | F29: DC | H29: Crossrail, Sonderserie EYRO
A30: ACME | B30: 60091 | C30: BR 146.5 | D30: 146 537-6 | E30: gelb/blau/weiss | F30: DC | H30: Metronom
A31: ACME | B31: 60094 | C31: BR 146 | D31: 146 212-6 | E31: rot | F31: DC | H31: DB
A32: ACME | B32: 60095 | C32: BR 146 | D32: 146 212-6 | E32: rot | F32: DC | G32: ? | H32: DB
A33: ACME | B33: 60095 | C33: BR 186 | D33: E 186 905 XR | E33: rot/schwarz | F33: DC | H33: Crossrail/CB Rail l
A34: ACME | B34: 60096 | C34: Re 486 | D34: 486 510 | E34: grau/hellgrün | F34: DC | H34: BLS Cargo / NordCargo “Alpinisten – Gli Alpinisti"
A35: ACME | B35: 60097 | C35: TRAXX F140 | D35: 91 51 627 584-0 | E35: türkis/grau | F35: DC | G35: ? | H35: PKP Cargo EU43-005
A36: ACME | B36: 60097 | C36: EU43 | D36: EU43-005 | E36: grün/grau | F36: DC | H36: Angel Trains / PKP CARGO Spólka Akcyjna,
A37: ACME | B37: 60098 | C37: Re 486 | D37: E 486 501 SF | E37: grau/hellgrün | F37: DC | H37: BLS Cargo / NordCargo “Alpinisten – Gli Alpinisti"
A38: ACME | B38: 60099 | C38: BR 186 | D38: E 186 908 LI | E38: orange | F38: DC | H38: LINEA Smart Business Ways
A39: ACME | B39: 60220 | C39: E 483 | D39: E 483 008 051 GC | E39: bunt | F39: DC | H39: GTS Rail
A40: ACME | B40: 60221 | C40: Re 484 | D40: 484 901-4 | E40: grau | F40: DC | H40: Veolia
A41: ACME | B41: 60222 | C41: E 483 | D41: E 483 101 NC | E41: blau | F41: DC | H41: Nord Cargo
A42: ACME | B42: 60223 | C42: E 483 | D42: E 483 018 | E42: orange/gelb | F42: DC | H42: Arenaways
...

Sheet Brawa
A1: Brawa Traxx (Spur H0) | G1: =TODAY() -> 46285
A3: Hersteller | B3: Art.Nr.1 | C3: Typ | D3: Betriebsnr. | E3: Farbe | F3: AC/DC | G3: Decoder | H3: Bemerkungen
A5: Brawa | B5: 43800 | C5: BR 186 | D5: 91 80 6186 150-9 | E5: silber/rot | F5: DC | G5: basic | H5: Crossrail
A6: Brawa | B6: 43802 | C6: BR 186 | D6: 91 80 6186 150-9 | E6: silber/rot | F6: DC | H6: Crossrail
A7: Brawa | B7: 43804 | C7: BR 186 | D7: 91 80 6186 150-9 | E7: silber/rot | F7: DCC | G7: Sound | H7: Crossrail
A8: Brawa | B8: 43803 | C8: BR 186 | D8: 91 80 6186 150-9 | E8: silber/rot | F8: DC | H8: Crossrail
A9: Brawa | B9: 43805 | C9: BR 186 | D9: 91 80 6186 150-9 | E9: silber/rot | F9: AC | G9: Sound | H9: Crossrail
A10: Brawa | B10: 43806 | C10: BR 146 | D10: 146 554-1 | E10: rot | F10: DC | H10: DB
A11: Brawa | B11: 43808 | C11: BR 146 | D11: 146 554-1 | E11: weiss/rot | F11: DC | G11: Sound | H11: DB
A12: Brawa | B12: 43809 | C12: BR 146 | D12: 146 554-1 | E12: weiss/rot | F12: AC | G12: Sound | H12: DB
A13: Brawa | B13: 43810 | C13: BR 147 | D13: 147 | E13: rot | F13: DC | H13: DB
A14: Brawa | B14: 43812 | C14: BR 147 | D14: 147 | E14: rot | F14: DC | G14: Sound | H14: DB
A15: Brawa | B15: 43813 | C15: BR 147 | D15: 147 | E15: rot | F15: AC | G15: Sound | H15: DB
A16: Brawa | B16: 43814 | C16: BR 147.5 | D16: 146 | E16: weiss/rot | F16: DC | H16: DB
A17: Brawa | B17: 43816 | C17: BR 147.5 | D17: 146 | E17: weiss/rot | F17: DC | G17: Sound | H17: DB
A18: Brawa | B18: 43817 | C18: BR 147.5 | D18: 146 | E18: weiss/rot | F18: AC | G18: Sound | H18: DB
A19: Brawa | B19: 43818 | C19: BR 147 | D19: 147 | E19: rot | F19: DC | G19: Sound | H19: DB
A20: Brawa | B20: 43820 | C20: BR 147 | D20: 147 | E20: rot | F20: DC | G20: Sound | H20: DB
A21: Brawa | B21: 43821 | C21: BR 147 | D21: 147 | E21: rot | F21: DC | G21: Sound | H21: DB
A22: Brawa | B22: 43828 | C22: BR 147 | D22: 147 | E22: schwarz | F22: AC | H22: MRCE
A23: Brawa | B23: 43830 | C23: BR 147 | D23: 147 | E23: schwarz | F23: DC | G23: Sound | H23: MRCE
A24: Brawa | B24: 43831 | C24: BR 147 | D24: 147 | E24: schwarz | F24: AC | G24: Sound | H24: MRCE
A25: Brawa | B25: 43834 | C25: BR 147.5 | D25: 146 | E25: weiss/rot | F25: DC | H25: DB
A26: Brawa | B26: 43836 | C26: BR 147.5 | D26: 146 | E26: weiss/rot | F26: DC | G26: Sound | H26: DB
A27: Brawa | B27: 43837 | C27: BR 147.5 | D27: 146 | E27: weiss/rot | F27: AC | G27: Sound | H27: DB
A28: Brawa | B28: 43842 | C28: BR 187 | D28: 187 | E28: grau | F28: DC | H28: RheinCargo
A29: Brawa | B29: 43844 | C29: BR 187 | D29: 187 | E29: grau | F29: DC | G29: Sound | H29: RheinCargo
A30: Brawa | B30: 43845 | C30: BR 187 | D30: 187 | E30: grau | F30: AC | G30: Sound | H30: RheinCargo
A31: Brawa | B31: 43848 | C31: BR 185.2 | D31: 185 563-5 | E31: schwarz | F31: DC | G31: Sound | H31: Beacon
A32: Brawa | B32: 43849 | C32: BR 185.2 | D32: 185 563-5 | E32: schwarz | F32: AC | G32: Sound | H32: Beacon
A33: Brawa | B33: 43852 | C33: BR 187 | D33: 187 513-7 | E33: grau | F33: DC | G33: Sound | H33: Metrans
A34: Brawa | B34: 43853 | C34: BR 187 | D34: 187 513-7 | E34: grau | F34: AC | G34: Sound | H34: Metrans
A35: Brawa | B35: 43900 | C35: BR 146. | D35: 91 85 4146 212-6 | E35: rot | F35: DCC | G35: Sound | H35: DB
A36: Brawa | B36: 43901 | C36: BR 146. | D36: 91 85 4482 036-1 | E36: blau/rot | F36: DC | G36: DH22-4 | H36: Cargo
A37: Brawa | B37: 43902 | C37: BR 146. | D37: 91 85 4146 212-6 | E37: rot | F37: DCC | G37: Sound | H37: DB
A38: Brawa | B38: 43903 | C38: BR 146.5 | D38: 91 80 6186 555-8 | E38: weiss | F38: AC | G38: Sound | H38: DB
A39: Brawa | B39: 43904 | C39: BR 146.5 | D39: 91 80 6186 555-8 | E39: weiss | F39: DC | H39: DB
A40: Brawa | B40: 43905 | C40: Re 482 | D40: 482 036-1 | E40: rot/blau | F40: DC | H40: SBB Cargo
A41: Brawa | B41: 43906 | C41: Re 482 | D41: 482 036-1 | E41: rot/blau | F41: DCC | G41: Sound | H41: SBB Cargo
A42: Brawa | B42: 43908 | C42: BR 185.2 | D42: 91 80 6185 571-7 | E42: schwarz | F42: DC | H42: MRCE
...

Sheet Fleischmann
A1: Fleischmann Traxx | G1: =TODAY() -> 46285
A3: Hersteller | B3: Art.Nr.1 | C3: Typ | D3: Betriebsnr. | E3: Farbe | F3: AC/DC | G3: Decoder | H3: Bemerkungen
A5: Fleischmann | B5: 4320 | C5: BR 145 | D5: 145 009-7 | E5: rot | H5: DB
A6: Fleischmann | B6: 4320 (1) | C6: BR 145 | D6: 145 002-2 | E6: rot | H6: DB
A7: Fleischmann | B7: 432001 | C7: BR 145 | D7: 145 037-8 | E7: rot | H7: DB
A8: Fleischmann | B8: 432002 | C8: BR 145 | D8: 145 023-6 | H8: Pressnitztalbahn GmbH “120 Jahre Rasender Roland”
A9: Fleischmann | B9: 4322 | C9: BR 145 | D9: 145 045-1 | E9: rot | H9: ohne Front DB-Logo
A10: Fleischmann | B10: 4323 | C10: Re 481 | D10: 481 005-7 | E10: blau/rot | H10: SBB Cargo
A11: Fleischmann | B11: 432301 | C11: Re 481 | D11: 481 004-0 | H11: NIAG
A12: Fleischmann | B12: 4324 | C12: BR 146 | D12: 146 017-9 | E12: rot | H12: DB Cargo
A13: Fleischmann | B13: 481205 | C13: BR 145 | D13: 145 023-6 (145 083-2) | H13: Pressnitztalbahn GmbH “125 Jahre Fleischmann”
A14: Fleischmann | B14: 482410 | C14: BR 146 | D14: 146 017-9 | E14: rot | H14: DB Regio
A15: Fleischmann | B15: 631305 | D15: 145 002-2 | E15: rot | H15: Start set BR 145 DB Cargo
A16: Fleischmann | B16: 631306 | D16: 145 002-2 | E16: rot | H16: Start set BR 145 DB AG
A17: Fleischmann | B17: 631384 | D17: 145 037-8 | E17: rot | H17: Start set DCC BR 145 DB AG
A18: Fleischmann | B18: 631385 | D18: 145 002-2 | E18: rot | H18: Start set DCC BR 145 DB Cargo
A19: Fleischmann | B19: 631386 | D19: 145 002-2 | E19: rot | H19: Start set DCC BR 145 DB AG rossa + carro pianale + cisterna, multiMAUS, binari
A20: Fleischmann | B20: 631387 | D20: 145 002-2 | E20: rot | H20: Start set DCC BR 145 DB Cargo
A21: Fleischmann | B21: 64320 | D21: 145 002-2 | E21: rot | H21: DB Cargo
A22: Fleischmann | B22: 80 4320 | D22: 145-CL 002 | E22: grün | H22: BASF
A23: Fleischmann | B23: 81 4320 | D23: 145-CL 011 | E23: weiss/blau | H23: HGK
A24: Fleischmann | B24: 82 4321 | D24: 145-CL 031 | E24: grau | H24: TX Logistik
A25: Fleischmann | B25: 85 4320 | D25: 145 063-4 | E25: rot | H25: Railion
A26: Fleischmann | B26: 86 4322 | D26: 145 001 | E26: schwarz/rot | H26: OHE/TCS
A27: Fleischmann | B27: 90 4320CH | C27: Re 486 | D27: 651-3 | E27: weiss | H27: MTB "Thurgauer Motivationspreis 2000”
A28: Fleischmann | B28: 91 4320CH | C28: Re 486 | D28: 652-1 | E28: weiss | H28: MTB Lokoop
B31: ANZAHL: | C31: =COUNTA(C4:C30) -> 12
B33: = verifiziert
A35: Auflistungen sind nach bestem Wissen und Gewissen erstellt. Falls Fehler gefunden werden, bitte melden: | G35: mailto:roland@hausin.com?subject=Angaben/Korrekturen zu H0-Loks
A37: © 2025 Roland Hausin

Sheet Märklin
A1: Märklin Traxx (Spur H0) | I1: =TODAY() -> 46285
A3: Hersteller | B3: Art.Nr.1 | C3: Typ | D3: Betriebsnr. | E3: Farbe | F3: AC/DC | G3: Motor | H3: Decoder | I3: Bemerkungen | J3: Bemerkungen 2
A5: Märklin | B5: 26553 | C5: BR 185 | D5: 185 458-7 | E5: hellgrün/bunt | F5: AC | G5: digital | I5: Set Claas,
A6: Märklin | B6: 26571 | C6: BR 185 | D6: 185 583-2 | F6: AC | G6: digital | I6: Set HVLE,
A7: Märklin | B7: 26580 | C7: BR 185 | D7: 185 020-7 | E7: schwarz | F7: AC | G7: digital | I7: Set Herpa Black Edition | J7: Zugpackung
A8: Märklin | B8: 29130 | C8: BR 185 | D8: 185 156-7 | E8: rot | F8: AC | G8: digital | I8: Set Railion rot,
A9: Märklin | B9: 29153 | C9: BR 185 | D9: 185 010-6 | E9: rot | F9: AC | G9: digital | I9: Set DB, rot,
A10: Märklin | B10: 29350 | C10: BR 186 | F10: AC | G10: digital | I10: Captrain
A11: Märklin | B11: 29351.1 | C11: BR 185.2 | D11: 4012 | F11: AC | G11: digital | I11: CFL Cargo, braun
A12: Märklin | B12: 29450 | C12: BR 186 | D12: 91 80 6186 103-D | E12: silber/blau | F12: AC | G12: digital | I12: Railpool
A13: Märklin | B13: 29470 | C13: BR 146.1 | D13: 146 107-8 | E13: rot | F13: AC | G13: digital | I13: DB, rot, aus 29470
A14: Märklin | B14: 29475 | C14: BR 146 | F14: AC | G14: digital | I14: DB, rot
A15: Märklin | B15: 29478 | C15: BR 146.2 | D15: 146 240-7 | E15: rot | F15: AC | G15: digital | I15: DB, rot
A16: Märklin | B16: 29523 | C16: Re 481 | D16: 481 003-2 | E16: blau/rot | F16: AC | G16: digital | I16: Cargo
A17: Märklin | B17: 29841 | C17: BR 185.1 | D17: 185 070-0 | F17: AC | G17: digital | I17: Startpackung, mfx
A18: Märklin | B18: 29841 | C18: BR 185 | D18: 185 156-7 | F18: AC | G18: digital | I18: Railion, Startpackung, mfx
A19: Märklin | B19: 29861 | C19: Re 474 | D19: 474 003-1 | E19: blau/rot | F19: AC | G19: digital | I19: Cargo
A20: Märklin | B20: 36024 | C20: BR 185.2 | E20: bunt | F20: AC | G20: digital | I20: Europameister 2024
A21: Märklin | B21: 36600 | C21: BR 185 | D21: 185 260-7 | F21: AC | G21: digital | I21: Railion
A22: Märklin | B22: 36600 | C22: BR 185.2 | D22: 185 260-7 | F22: AC | G22: digital | I22: SoMo Auric
A23: Märklin | B23: 36601 | C23: BR 185.5 | F23: AC | G23: digital | I23: BLS
A24: Märklin | B24: 36602 | C24: BR 185 | D24: 185 04-1 | F24: AC | G24: digital | I24: Hectorrail
A25: Märklin | B25: 36603 | C25: BR 185.2 | D25: 185 456-1 | E25: blau/bunt | F25: AC | G25: digital | I25: Haribo, 5000 Expl,
A26: Märklin | B26: 36603 | C26: BR 185.2 | F26: AC | G26: digital | I26: EVG, Sondermodell 2010, 100 Stück
A27: Märklin | B27: 36603 | C27: BR 185.2 | D27: 185 201-2 | F27: AC | G27: digital | I27: EVG, Sondermodell 2012, 200 Stück
A28: Märklin | B28: 36604 | C28: BR 185.6 | F28: AC | G28: digital | I28: Lokomotion
A29: Märklin | B29: 36605 | C29: BR 185.5 | D29: 185 564-2 | E29: schwarz/rot | F29: AC | G29: digital | I29: Crossrail
A30: Märklin | B30: 36607 | C30: BR 186 | D30: 186 181-4 | E30: silber/blau/rot | F30: AC | G30: digital | I30: Railpool Cargo
A31: Märklin | B31: 36608 | C31: BR 186 | D31: 186 125-1 | F31: AC | G31: digital | I31: ATC SNCB
A32: Märklin | B32: 36609 | C32: BR 185.2 | D32: 2803 | F32: AC | G32: digital | I32: Railpool Cargo
A33: Märklin | B33: 36609 | C33: BR 185.2 | D33: 185 461-1 | E33: gelb | F33: AC | G33: digital | I33: Krombacher Weizen, 1000 Expl,
A34: Märklin | B34: 36610 | C34: BR 185 | F34: AC | G34: digital | I34: Green Cargo
A35: Märklin | B35: 36611 | C35: BR 185 | D35: 119 | F35: AC | G35: digital | I35: Angel Trains Litra CargoNet
A36: Märklin | B36: 36612 | C36: BR 146.2 | E36: gelb | F36: AC | G36: digital | I36: Metronom ME 145-18
A37: Märklin | B37: 36613 | C37: BR 185 | D37: 185 415-8 | F37: AC | G37: digital | I37: Sleepy Rush-Rail, 499 Expl,
A38: Märklin | B38: 36614 | C38: BR 146.2 | F38: AC | G38: digital | I38: Technik erfahren Märklin
A39: Märklin | B39: 36615 | C39: BR 185.2 | F39: AC | G39: digital | I39: HLVE
A40: Märklin | B40: 36616 | C40: BR 186 | D40: 6186 179-8 | E40: weiss/gelb | F40: AC | G40: digital | I40: Euro Cargo-Rail
A41: Märklin | B41: 36616.001 | C41: E 186 | D41: 186 325-7 | F41: AC | G41: digital | I41: MMC, SoMo 500 Expl,
A42: Märklin | B42: 36617 | C42: BR 185.2 | D42: 185 401-7 | E42: tot | F42: AC | G42: digital | I42: DB,
...

Sheet Messing
A1: Messing Traxx (Spur H0) | H1: =TODAY() -> 46285
A3: Hersteller | B3: Art.Nr.1 | C3: Art.Nr.2 | D3: Typ | E3: Betriebsnr. | F3: Farbe | G3: AC/DC | H3: Decoder | I3: Bemerkungen
C8: TOTAL: | D8: =COUNTA(D5:D6) -> 0
B12: = verifiziert
A15: Auflistungen sind nach bestem Wissen und Gewissen erstellt. Falls Fehler gefunden werden, bitte melden: | G15: mailto:roland@hausin.com?subject=Angaben/Korrekturen zu H0-Loks
A17: © 2025 Roland Hausin

Sheet PIKO
A1: PIKO Traxx (Spur H0) | G1: =TODAY() -> 46285
A3: Hersteller | B3: Art.Nr.1 | C3: Typ | D3: Betriebsnr. | E3: Farbe | F3: AC/DC | G3: Decoder | H3: Bemerkungen
A5: PIKO | B5: 21617 | C5: BR 186 | D5: 91 80 6186 141-8 | E5: silber/blau | F5: DC | H5: Orlen KolTrans
A6: PIKO | B6: 21618 | C6: BR 186 | D6: 91 80 6186 141-8 | E6: silber/blau | F6: DC | G6: Sound | H6: Orlen KolTrans
A7: PIKO | B7: 21619 | C7: BR 186 | D7: 91 80 6186 141-8 | E7: silber/blau | F7: AC | G7: Sound | H7: Orlen KolTrans
A8: PIKO | B8: 21619 | C8: Re 484 | D8: 91 85 4484 020-3 | E8: blau/rot | F8: DC | H8: SBB Cargo Gut fürs Klima
A9: PIKO | B9: 21620 | C9: Re 484 | D9: 91 85 4484 020-3 | E9: blau/rot | F9: DC | G9: Sound | H9: SBB Cargo Gut fürs Klima
A10: PIKO | B10: 21621 | C10: Re 484 | D10: 91 85 4484 020-3 | E10: blau/rot | F10: AC | G10: Sound | H10: SBB Cargo Gut fürs Klima
A11: PIKO | B11: 21622 | C11: BR 480 | D11: 91 55 0480 023-5 | E11: blau | F11: DC | H11: MAV
A12: PIKO | B12: 21623 | C12: BR 480 | D12: 91 55 0480 023-5 | E12: blau | F12: DC | G12: Sound | H12: MAV
A13: PIKO | B13: 21624 | C13: BR 186 | D13: 91 84 1186 116-7 | E13: rot | F13: DC | H13: Fyra
A14: PIKO | B14: 21624 | C14: BR 480 | D14: 91 55 0480 023-5 | E14: blau | F14: AC | G14: Sound | H14: MAV
A15: PIKO | B15: 21625 | C15: BR 186 | D15: 91 84 1186 116-7 | E15: rot | F15: DC | G15: Sound | H15: Fyra
A16: PIKO | B16: 21626 | C16: BR 186 | D16: 91 84 1186 116-7 | E16: rot | F16: AC | G16: Sound | H16: Fyra
A17: PIKO | B17: 21630 | C17: BR 186 | D17: 91 88 7186 224-2 | E17: gelb | F17: DC | H17: Medway
A18: PIKO | B18: 21631 | C18: BR 186 | D18: 91 88 7186 224-2 | E18: gelb | F18: DC | G18: Sound | H18: Medway
A19: PIKO | B19: 21632 | C19: BR 186 | D19: 91 88 7186 224-2 | E19: gelb | F19: AC | G19: Sound | H19: Medway
A20: PIKO | B20: 21642 | C20: Re 484 | D20: 91 85 4484 012-0 | E20: blau/rot/hellgrün | F20: DC | H20: SBB Cargo Klimafreundlich Schiene + Güter
A21: PIKO | B21: 21643 | C21: Re 484 | D21: 91 85 4484 012-0 | E21: blau/rot/hellgrün | F21: DC | G21: Sound | H21: SBB Cargo Klimafreundlich Schiene + Güter
A22: PIKO | B22: 21644 | C22: Re 484 | D22: 91 85 4484 012-0 | E22: blau/rot/hellgrün | F22: AC | G22: Sound | H22: SBB Cargo Klimafreundlich Schiene + Güter
A23: PIKO | B23: 21648 | C23: E483 | D23: 91 51 5170 022-5 | E23: bunt | F23: DC | H23: Pol-Med-Trans
A24: PIKO | B24: 21649 | C24: E483 | D24: 91 51 5170 022-5 | E24: bunt | F24: DC | G24: Sound | H24: Pol-Med-Trans
A25: PIKO | B25: 21657 | C25: BR 388 | D25: 91 81 1388 217-2 | E25: gelb | F25: DC | H25: RegioJet
A26: PIKO | B26: 21658 | C26: BR 388 | D26: 91 81 1388 217-2 | E26: gelb | F26: DC | G26: Sound | H26: RegioJet
A27: PIKO | B27: 21659 | C27: BR 388 | D27: 91 81 1388 217-2 | E27: gelb | F27: AC | G27: Sound | H27: RegioJet
A28: PIKO | B28: 21660 | C28: BR 186 | D28: E 186 040 | E28: blau/gelb | F28: DC | H28: NS
A29: PIKO | B29: 21661 | C29: BR 186 | D29: E 186 040 | E29: blau/gelb | F29: DC | G29: sound | H29: NS
A30: PIKO | B30: 21662 | C30: BR 186 | D30: E 186 040 | E30: blau/gelb | F30: AC | G30: sound | H30: NS
A31: PIKO | B31: 21669 | C31: BR 186 | D31: 91 84 1186 424-8 | E31: grau/blau | F31: DC | H31: Railpool
A32: PIKO | B32: 21670 | C32: BR 186 | D32: 91 84 1186 424-8 | E32: grau/blau | F32: DC | G32: sound | H32: Railpool
A33: PIKO | B33: 21671 | C33: BR 186 | D33: 91 84 1186 424-8 | E33: grau/blau | F33: AC | G33: sound | H33: Railpool
A34: PIKO | B34: 21678 | C34: E 483 | D34: 91 83 2483 319-6 | E34: weiss/rot | F34: DC | H34: Mercitalia
A35: PIKO | B35: 21679 | C35: E 483 | D35: 91 83 2483 319-6 | E35: weiss/rot | F35: DC | G35: Sound | H35: Mercitalia
A36: PIKO | B36: 21680 | C36: E 483 | D36: 91 83 2483 319-6 | E36: weiss/rot | F36: AC | G36: Sound | H36: Mercitalia
A37: PIKO | B37: 21707 | C37: BR 187 | D37: 187 343-8 | E37: grau/bunt | F37: DC | H37: HSL
A38: PIKO | B38: 21708 | C38: BR 187 | D38: 187 343-8 | E38: grau/bunt | F38: DC | G38: Sound | H38: HSL
A39: PIKO | B39: 21709 | C39: BR 187 | D39: 187 343-8 | E39: grau/bunt | F39: AC | G39: Sound | H39: HSL
A40: PIKO | B40: 21731 | C40: BR 187 | D40: 187 324-9 | E40: blau/weiss | F40: DC | H40: WLC
A41: PIKO | B41: 21732 | C41: BR 187 | D41: 187 324-9 | E41: blau/weiss | F41: DC | G41: Sound | H41: WLC
A42: PIKO | B42: 21733 | C42: BR 187 | D42: 187 324-9 | E42: blau/weiss | F42: AC | G42: Sound | H42: WLC
...

Sheet ROCO
A1: Roco Traxx (Spur H0) | G1: =TODAY() -> 46285
A3: Hersteller | B3: Art.Nr.1 | C3: Typ | D3: Betriebsnr. | E3: Farbe | F3: AC/DC | G3: Decoder | H3: Bemerkungen
A6: Roco | B6: 41269 | C6: BR 189 | D6: 189 066-5 | E6: rot | F6: DC | H6: Railon, aus Startset
A7: Roco | B7: 41316 | C7: Re 482 | D7: 482 039-5 | E7: blau/rot | F7: DCC | H7: Set SBB Cargo
A8: Roco | B8: 41324 | C8: BR 185.5 | D8: 185 577-4 | E8: grau/grün | F8: DCC | H8: Startset BLS Cargo
A9: Roco | B9: 41356 | C9: BR 185 | D9: 185 691-3 | F9: DCC | H9: Startset Railpool
A10: Roco | B10: 41514 | C10: BR 145 | D10: 145 076-6 | E10: rot | F10: DCC | G10: Sound | H10: Startset
A11: Roco | B11: 62327 | C11: BR 189 | D11: 189 027-6 | E11: rot | F11: DC | H11: DB, aus Startset
A12: Roco | B12: 62376 | C12: Re 474 | D12: 474 201-1 | E12: blau/rot | F12: DC | H12: Nord Cargo
A13: Roco | B13: 62377 | C13: BR 189 | D13: 91 80 6189 917-8 | E13: Zebra blau | F13: DC | H13: Lokomotion
A14: Roco | B14: 62388 | C14: BR 185.2 | D14: 185 595-6 | E14: rot | F14: DC | H14: Crossrail
A15: Roco | B15: 62389 | C15: Rh 480 | D15: 91 55 0480 001-1 | E15: blau/gelb | F15: DC | H15: MAV
A16: Roco | B16: 62390 | C16: BR 185.5 | D16: 91 80 6185 663-2 | E16: Zebra blau | F16: DC | H16: Lokomotion
A17: Roco | B17: 62423 | C17: BR 189 | D17: 189 996-1 | E17: orange/blau | F17: DC | H17: HUSA
A18: Roco | B18: 62428 | C18: ES 64 F4-996 | D18: 189 096-1 | E18: schwarz/gelb | F18: DC | H18: ACTS
A19: Roco | B19: 62429 | C19: BR 189 | D19: 189 044-1 | E19: rot | F19: DC | H19: DB
A20: Roco | B20: 62430 | C20: ES 64 F4-095 | D20: E 189 995SR | E20: gelb/blau | F20: DC | H20: Cargo (Dispo)
A21: Roco | B21: 62431 | C21: ES 64 F4-020 | D21: 189 920-2 | E21: gelb/bunt | F21: DC | H21: Siemens Dispo
A22: Roco | B22: 62432 | C22: BR 189 | D22: 189 027-6 | E22: rot | F22: DC | H22: Railion
... A24: Roco | B24: 62434 | C24: BR 189 | D24: 189 932-7 | E24: schwarz | F24: DC | H24: Bosphorus
A25: Roco | B25: 62435 | C25: BR 189 | E25: schwarz | F25: DC | H25: PKP
A26: Roco | B26: 62453 | C26: BR 189 | D26: 189 0961 | E26: blau/orange | F26: DC | H26: HUSA
A27: Roco | B27: 62498 | C27: Re 485 | D27: 91 85 4485 003-8 | E27: grau/hellgrün | F27: DC | H27: Die Alpinisten
A28: Roco | B28: 62499 | C28: 4000 | D28: 4006 | E28: grau/dunkelrot | F28: DC | H28: CFL
A29: Roco | B29: 62500 | C29: BR 146 | D29: 146 233-2 | E29: rot | F29: DC | H29: DB Regio
A30: Roco | B30: 62501 | C30: Re 484 | D30: 484 006-2 | E30: blau/rot | F30: DC | H30: SBB Cargo
A31: Roco | B31: 62502 | C31: BR 185 | D31: 185 222-7 | E31: rot | F31: DC | H31: Railion
A32: Roco | B32: 62503 | C32: BR 185.5 | D32: 185 579-0 | E32: grau/rot | F32: DC | H32: Crossrail
A33: Roco | B33: 62504 | C33: Re 185.5 | D33: 185 577-4 | E33: grau/türkis | F33: DC | H33: BLS Cargo
A34: Roco | B34: 62505 | C34: BR 185 | D34: 185 567-5 | E34: schwarz/rot | F34: DC | H34: Crossrail
A35: Roco | B35: 62506 | C35: Re 482 | D35: 482 039-5 | E35: blau/rot | F35: DC | G35: digital | H35: SBB Cargo
A36: Roco | B36: 62507 | C36: BR 185.5 | D36: 91 74 6241 004-9 | E36: grau/orange | F36: DC | H36: Hectorrail
A37: Roco | B37: 62508 | C37: BR 146.5 | D37: 146 521-0 | E37: blau/gelb | F37: DC | H37: Connex
A38: Roco | B38: 62509 | C38: BR 146.5 | D38: 146 538-4 | E38: gelb(blau/weiss | F38: DC | H38: Metronom
A39: Roco | B39: 62510 | C39: BR 185.5 | D39: 91 80 6185 590-7 | E39: grau/rot | F39: DC | H39: Crossrail
A40: Roco | B40: 62511 | C40: BR 185.5 | D40: 91 80 0185 574-1 | E40: schwarz/grün | F40: DC | H40: RTS RailTraction
A41: Roco | B41: 62512 | C41: BR 185.5 | D41: 91 80 6185 581-6 | E41: grau | F41: DC | H41: Ewals
A42: Roco | B42: 62513 | C42: BR 185.5 | D42: 91 80 6185 583-2 | E42: grau/orange | F42: DC | H42: HVLE
A43: Roco | B43: 62528 | C43: BR 185 | D43: 185 523-8 | E43: grau/blau | F43: DC | H43: CFL Cargo
A44: Roco | B44: 62654 | C44: EL 19 | D44: 16 2209 | E44: grau | F44: DC | H44: Cargo Net
...

Sheet Trix
A1: Trix Traxx (Spur H0) | G1: =TODAY() -> 46285
A3: Hersteller | B3: Art.Nr.1 | C3: Typ | D3: Betriebsnr. | E3: Farbe | F3: AC/DC | G3: Decoder | H3: Bemerkungen
A5: Trix | B5: 21246 | C5: BR 146.1 | D5: ME 146-04 | E5: gelb/blau/weiss | F5: DC | H5: Set Metronom
A6: Trix | B6: 21500 | C6: Re 482 | D6: 482 011-4 | E6: blau/rot | F6: DC | H6: Set SBB Cargo
A7: Trix | B7: 21502 | C7: BR 146 | D7: 146 107-8 | E7: rot | F7: DC | H7: Set DB
A8: Trix | B8: 21503 | C8: BR 185 | D8: 185 052-8 | E8: rot | F8: DC | H8: Set DB
A9: Trix | B9: 21517 | C9: BR 146 | D9: ME 146-18 | E9: gelb/blau/weiss | F9: DC | H9: Startset Metronom
A10: Trix | B10: 21527 | C10: BR 185 | D10: 185 070-0 | E10: rot | F10: DC | H10: Startset DB
A11: Trix | B11: 22073 | C11: BR 185 | D11: 185 545-1 | E11: schwarz | F11: DC | H11: MRCE
A12: Trix | B12: 22076 | C12: BR 185 | D12: 185 CL-002 | E12: schwarz/bunt | F12: DC | H12: Veolia
A13: Trix | B13: 22078 | C13: BR 185 | E13: schwarz/bunt | F13: DC | H13: Superman
A14: Trix | B14: 22083 | C14: BR 185 | D14: 185 CL-003 | E14: blau/gelb | F14: DC | H14: Connex
A15: Trix | B15: 22084 | C15: BR 185 | D15: 185 CL-004 | E15: blau/grau | F15: DC | H15: Hoyer
A16: Trix | B16: 22085 | C16: Re 485 | D16: 485 005-3 | E16: grau/hellgrün | F16: DC | H16: BLS Connecting Europe
A17: Trix | B17: 22086 | C17: BR 185 | D17: 185 CL-004 | E17: blau/grau | F17: DC | H17: Hoyer
A18: Trix | B18: 22089 | C18: BR 185 | D18: 185 542-8 | E18: grün/bunt | F18: DC | H18: R4C European Bulls
A19: Trix | B19: 22090 | C19: BR 185 | D19: 187 108-6 | E19: schwarz | F19: DC | H19: MRCE
A20: Trix | B20: 22091 | C20: BR 185 | D20: 185 538-6 | E20: silber | F20: DC | G20: digital | H20: TX Logistik
A21: Trix | B21: 22093 | C21: BR 185 | D21: 185 528-7 | E21: blau/grau | F21: DC | H21: LTE Angel Trains
A22: Trix | B22: 22164 | C22: BR 186 | D22: 186 009 | E22: gelb/blau | F22: DC | H22: NS Intercity
A23: Trix | B23: 22165 | C23: BR 186 | D23: 186 184-8 | E23: silber | F23: DC | H23: Akiem
A24: Trix | B24: 22279 | C24: BR 187 | D24: 91 60 4187 604-3 | E24: weiss/blau | F24: DC | H24: RailPool BLS Cargo die Alpinisten
A25: Trix | B25: 22378 | C25: BR 189 | D25: 189 05-9 | E25: rot | F25: DC | H25: DB
A26: Trix | B26: 22610 | C26: BR 185 | D26: 91 83 2483 001-1 | E26: blau/gelb | F26: DC | H26: GTX
A27: Trix | B27: 22618 | C27: BR 187 | E27: schwarz | F27: DC | G27: sound | H27: MRCE
A28: Trix | B28: 22610 | C28: E483 | D28: 91 83 2483 001-0 | E28: oliv/bunt | F28: DC | H28: GTS Rail
A29: Trix | B29: 22630 | C29: BR 185.5 | D29: 186 258-1 | E29: rot | F29: DC | H29: DB
A30: Trix | B30: 22632 | C30: BR 146 | D30: 146 245-6 | E30: rot | F30: DC | H30: DB
A31: Trix | B31: 22633 | C31: BR 185.5 | D31: 185 564-2 | E31: schwarz/rot | F31: DC | H31: Crossrail
A32: Trix | B32: 22634 | C32: BR 146 | D32: ME 146-18 | E32: gelb/blau/weiss | F32: DC | H32: Metronom
A33: Trix | B33: 22636 | C33: BR 185.5 | D33: 185 578-2 | E33: grau/rot | F33: DC | G33: digital | H33: Crossrail
A34: Trix | B34: 22639 | C34: BR 185.5 | D34: 185 320-9 | E34: rot | F34: DC | H34: DB
A35: Trix | B35: 22653 | C35: BR 185.2 | D35: 185 578-2 | E35: silber/hellgrün | F35: DC | H35: Captrain
A36: Trix | B36: 22656 | C36: BR 185.2 | D36: 185 327-1 | E36: rot | F36: DC | H36: DB
A37: Trix | B37: 22680 | C37: BR 185.2 | D37: 185 604-6 | E37: rot | F37: DC | H37: HGK
A38: Trix | B38: 22681 | C38: BR 146 | D38: 146 575-6 | E38: rot | F38: DC | H38: DB
A39: Trix | B39: 22761 | C39: BR 185 | D39: 185 099-9 | E39: rot | F39: DC | H39: DB
A40: Trix | B40: 22765 | C40: Re 482 | D40: 482 003-1 | E40: blau/rot | F40: DC | H40: RAG
A41: Trix | B41: 22800 | C41: BR 189 | D41: 189 012-8 | E41: rot | F41: DC | H41: DB
A42: Trix | B42: 22862 | C42: ES 64 F4-213 | D42: E 189-213 | E42: bunt | F42: DC | H42: ERS Linked By Rail
...

Sheet Andere
A1: Traxx (Spur H0) Andere Hersteller | G1: =TODAY() -> 46285
A3: Hersteller | B3: Art.Nr.1 | C3: Typ | D3: Betriebsnr. | E3: Farbe | F3: AC/DC | G3: Decoder | H3: Bemerkungen
A5: Electrotren | B5: 3698 | C5: S253 | D5: 253 004-6 | E5: weiss/grau | F5: DC | H5: RENFE
A6: Electrotren | B6: 3698D | C6: S253 | D6: 253 004-6 | E6: weiss/grau | F6: DC | G6: digital | H6: RENFE
A7: Electrotren | B7: 3700 | C7: S253 | D7: 253 001-2 | E7: weiss/grau | F7: DC | H7: RENFE
A8: Electrotren | B8: 3700D | C8: S253 | D8: 253 001-2 | E8: weiss/grau | F8: DC | G8: digital | H8: RENFE
A10: Fleischmann | B10: 15003 | C10: BR 185 | D10: 185 564-2 | E10: schwarz | F10: DC | H10: Set MRCE
A12: LS Models | B12: 14004 | C12: BR 185 | D12: 185 568-3 | E12: grau | F12: DC | H12: Set NS
A13: LS Models | B13: 15003 | C13: BR 185 | D13: 185 564-2 | E13: schwarz | F13: DC | H13: Set MRCE
A15: Railtop | B15: 11001 | C15: Re 484 | D15: 484 015-3 | E15: blau/rot | F15: DC | H15: SBB Cargo
A16: Railtop | B16: 11002 | C16: BR 185 | D16: 185 567-5 | E16: schwarz/rot | F16: DC | H16: Crossrail
A17: Railtop | B17: 11003 | C17: Re 482 | D17: 482 035-3 | E17: blau/rot | F17: DC | H17: SBB Cargo
B20: ANZAHL: | C20: =COUNTA(C4:C19) -> 10
B22: = verifiziert
A24: Auflistungen sind nach bestem Wissen und Gewissen erstellt. Falls Fehler gefunden werden, bitte melden: | G24: mailto:roland@hausin.com?subject=Angaben/Korrekturen zu H0-Loks
A26: © 2024 Roland Hausin
