Workbook

Sheet TOTAL
A1: Anzahl bekannte Traxx in Spur H0 | I1: =TODAY() -> 46285
A3: Anmerkung: Die Bezeichnung Traxx steht stellvertretende für alle Loktypen dieser Bauweise, enthalten sind somit die unten aufgeführten Typen
B6: Total | D6: Original | E6: Custom painted
A8: ACME | B8: =ACME!C164 -> 153 | D8: =ACME!D166 -> 152 | E8: =ACME!D167 -> 1
A9: Brawa | B9: =Brawa!C96 -> 86
A10: Fleischmann | B10: =Fleischmann!C31 -> 12
A11: Märklin | B11: =Märklin!C220 -> 197 | D11: =Märklin!D222 -> 116 | E11: =Märklin!D223 -> 81
A12: PIKO | B12: =PIKO!C524 -> 508 | D12: =PIKO!D527 -> 501 | E12: =PIKO!D528 -> 7
A13: Roco | B13: =ROCO!C338 -> 325 | D13: =ROCO!D340 -> 323 | E13: =ROCO!D341 -> 2
A14: Trix | B14: =Trix!C51 -> 45
A15: Andere | B15: =Andere!C20 -> 10
A17: TOTAL | B17: =SUM(B4:B16) -> 1336 | E17: =SUM(E4:E16) -> 91
A20: Anmerkung RH:
A21: Der Hauptaugenmerk der in allen Tabellen aufgelisteten Modelle wurde auf die in der Schweiz verkehrenden Typen gerichtet.
A22: Dies wurde aber insbesondere bei den Traxxen und den Krokodilen nicht so konsequent ausgeführt, da wurde praktisch alles was gefunden werden konnte, zusammengetragen
A24: Die Auflistungen sind nach bestem Wissen und Gewissen erstellt. Falls Fehler gefunden werden, bitte melden: | J24: mailto:roland@hausin.com?subject=Angaben/Korrekturen zu H0-Loks
A26: © 2026 Roland Hausin
A29: https://de.wikipedia.org/wiki/Bombardier_Traxx#F140_AC1
A31: https://de.wikipedia.org/wiki/Bombardier_Traxx#F140_AC2
A34: Bombardier Traxx
D35: Bezeichnung:
A36: Traxx-Vorläufer
A37: AEG 12x | D37: BR 128
D38: BR 145
D39: BR 146.0
A41: Traxx
A42: F140 AC1 | D42: BR 185
D43: 185-CL
A44: P160 AC1 | D44: BR 146.1
D45: CFL 4000
D46: ME-146
D47: Re 481
A48: F140 AC1 | D48: Re 482
A49: P160 AC1 | D49: Re 485
A51: Traxx 2
A52: F140 MS2 | D52: BR 146.2
A53: P160 AC2 | D53: BR 146.5
A54: F140 AC2 | D54: BR 185.2
D55: BR 185.4
D56: E 484.9
D57: ME-146-1x
A58: F140 AC2 | D58: Re 482
A59: F140 MS2 | D59: Re 484
A60: F140 AC2 | D60: BR 185.3
D61: BR 185.4
D62: BR 185.5
D63: EU43
D64: Rh 14xx
D65: Rh 241
D66: Rh 481
A67: P160 AC2 | D67: BR 146.2
A68: P160 AC2 | D68: MAV 480
A70: Traxx 2E
A71: F140 MS(2E) | D71: BR 186
A72: P160 DE | D72: BR 246
A73: F140 DE | D73: BR 285
A74: F140 MS(2E) | D74: BR 386
D75: E 186
D76: Re 486
A77: F140 DC | D77: E483
A78: F140 DC (Renfe) | D78: BR 253
A79: P160 DE | D79: BR 246
A80: F140 DE | D80: BR 285
A81: P160 DE ME | D81: BR 245
A83: Traxx 3
A84: Traxx AC3 | D84: BR 147
D85: BR 187
A86: Traxx F160 AC3 LM | D86: Rem 487
A87: Traxx AC3 Israel
A88: Traxx MS3 | D88: BR 188
D89: BR 388
A90: Traxx DC3 | D90: E494
D91: BR 5170
A93: Weitere Traxx-Lokomotiven
D94: 74 xxxx
D95: E.464
D96: BR 102 (RENFE)
D97: BR 130 (RENFE)
D98: Klasse 23E
D99: CE 119 (EL 19)

Sheet ACME
A1: ACME | H1: =TODAY() -> 46285
A3: Hersteller | B3: Art.Nr.1 | C3: Typ | D3: Betriebsnr. | E3: Farbe | F3: AC/DC | G3: Decoder | H3: Bemerkungen | I3: Bemerkungen 2
A5: ACME | B5: 60050 | C5: Re 484 | D5: 484 007-0 | E5: grau/blau | F5: DC | H5: Cisalpino
A6: ACME | B6: 60051 | C6: BR 185 | D6: 91 80 6185 201-1 | E6: rot | F6: DC | H6: Railion
A7: ACME | B7: 60051 | C7: BR 185 | D7: 91 80 6185 201-1 | E7: rot | F7: AC | H7: Railion
A8: ACME | B8: 60052 | C8: BR 185 | D8: 91 80 6185 244-1 | E8: rot | F8: DC | H8: Railion
A9: ACME | B9: 60052 | C9: BR 185 | D9: 91 80 6185 244-1 | E9: rot | F9: AC | H9: Railion
A10: ACME | B10: 60053 | C10: Re 484 | D10: 484 902-2 | E10: schwarz | F10: DC | H10: MRCE Crossrail
A11: ACME | B11: 60054 | C11: Re 484 | D11: 484 021-1 | E11: blau/rot | F11: DC | H11: SBB Cargo, 125 Jahre Gotthard
A12: ACME | B12: 60055 | C12: BR 185 | D12: 241 001 | E12: rot | F12: DC | H12: Hectorrail
A13: ACME | B13: 60056 | C13: BR 185 | D13: 185 579-0 | F13: DC | H13: CB Rail / Crossrail
A14: ACME | B14: 60057 | C14: BR 185 | D14: 241 002 | E14: grau/orange | F14: DC | H14: Hectorrail
A15: ACME | B15: 60058 | C15: Re 481 | D15: 481 001-0 | E15: rot/grau | F15: DC | H15: Eurocom
A16: ACME | B16: 60059 | C16: BR 185 | D16: 185 566-7 | E16: schwarz/rot/weiss | F16: DC | H16: MRCE Crossrail
A17: ACME | B17: 60070 | C17: E 483 | D17: E 483 001-4 | E17: grün/grau | F17: DC | H17: Angel Trains
A18: ACME | B18: 60072 | C18: E 483 | D18: E 483 004 RT | E18: grün/grau | F18: DC | H18: Angel Trains / Rail Traction Company
A19: ACME | B19: 60073 | C19: E 483 | D19: E 483 008 NC | E19: grün/grau | F19: DC | H19: Angel Trains / Nord Cargo
A20: ACME | B20: 60074 | C20: BR 185 | D20: Rh 1423 | F20: DC | H20: Green Cargo
A21: ACME | B21: 60075 | C21: BR 185 | D21: Rh 1424 | F21: DC | H21: Green Cargo
A22: ACME | B22: 60076 | C22: BR 185 | D22: 119 001 | E22: grau | F22: DC | H22: CargoNet
A23: ACME | B23: 60077 | C23: BR 185 | D23: 91 80 6185 584-0 | E23: rot | F23: DC | H23: HGK
A24: ACME | B24: 60078 | C24: Re 482 | D24: 482 049-4 | E24: blau/rot | F24: DC | H24: SBB Cargo
A25: ACME/EYRO | B25: 60078.1 | C25: Re 482 | D25: 482 049-4 | E25: blau/rot | F25: DC | H25: SBB Cargo … stellt Lokführer ein
A26: ACME | B26: 60079 | C26: BR 185 | D26: 185 577-4 | E26: grün/grau | F26: DC | H26: Angel Trains
A27: ACME/EYRO | B27: 60079.1 | C27: BR 185 | D27: 185 563-4 | E27: schwarz | F27: DC | H27: MRCE Rail4Chem, Sonderserie EYRO
A28: ACME/EYRO | B28: 60079.2 | C28: BR 185 | D28: 185 585-7 | E28: grün/grau | F28: DC | H28: HGK, Sonderserie EYRO, x/20
A29: ACME/EYRO | B29: 60079.4 | C29: BR 185 | D29: 185 595-6 | E29: schwarz | F29: DC | H29: Crossrail, Sonderserie EYRO
A30: ACME | B30: 60091 | C30: BR 146.5 | D30: 146 537-6 | E30: gelb/blau/weiss | F30: DC | H30: Metronom
A31: ACME | B31: 60094 | C31: BR 146 | D31: 146 212-6 | E31: rot | F31: DC | H31: DB
A32: ACME | B32: 60095 | C32: BR 146 | D32: 146 212-6 | E32: rot | F32: DC | G32: ? | H32: DB
A33: ACME | B33: 60095 | C33: BR 186 | D33: E 186 905 XR | E33: rot/schwarz | F33: DC | H33: Crossrail/CB Rail l
A34: ACME | B34: 60096 | C34: Re 486 | D34: 486 510 | E34: grau/hellgrün | F34: DC | H34: BLS Cargo / NordCargo “Alpinisten – Gli Alpinisti"
A35: ACME | B35: 60097 | C35: TRAXX F140 | D35: 91 51 627 584-0 | E35: türkis/grau | F35: DC | G35: ? | H35: PKP Cargo EU43-005
A36: ACME | B36: 60097 | C36: EU43 | D36: EU43-005 | E36: grün/grau | F36: DC | H36: Angel Trains / PKP CARGO Spólka Akcyjna,
A37: ACME | B37: 60098 | C37: Re 486 | D37: E 486 501 SF | E37: grau/hellgrün | F37: DC | H37: BLS Cargo / NordCargo “Alpinisten – Gli Alpinisti"
A38: ACME | B38: 60099 | C38: BR 186 | D38: E 186 908 LI | E38: orange | F38: DC | H38: LINEA Smart Business Ways
A39: ACME | B39: 60220 | C39: E 483 | D39: E 483 008 051 GC | E39: bunt | F39: DC | H39: GTS Rail
A40: ACME | B40: 60221 | C40: Re 484 | D40: 484 901-4 | E40: grau | F40: DC | H40: Veolia
A41: ACME | B41: 60222 | C41: E 483 | D41: E 483 101 NC | E41: blau | F41: DC | H41: Nord Cargo
A42: ACME | B42: 60223 | C42: E 483 | D42: E 483 018 | E42: orange/gelb | F42: DC | H42: Arenaways
A43: ACME | B43: 60224 | C43: EU47 | D43: 5 170 011-8 | E43: grün | F43: DC | H43: Koleje Mazowieckie
A44: ACME | B44: 60225 | C44: E 483 | D44: E 483 001 | E44: bunt | F44: DC | H44: GTA Rail / Angel Trains
A45: ACME | B45: 60226 | C45: Re 484 | D45: 484 901-4 | E45: orange/gelb | F45: DC | H45: Arenaways
A46: ACME | B46: 60227 | C46: Re 486 | D46: 91 85 4486 502-8 | E46: grau/hellgrün | F46: DC | H46: BLS Cargo / NordCargo “Alpinisten – Gli Alpinisti"
A47: ACME | B47: 60228 | C47: E 483 | D47: E 483 030 | E47: grau/rot | F47: DC | H47: Sangritana / TUA
A48: ACME | B48: 60229 | C48: E 483 | D48: E 483 041 | E48: grau | F48: DC | H48: Ferrotramviaria
A49: ACME | B49: 60230 | C49: BR 185 | E49: bunt | F49: DC | H49: Kombiverkehr
A50: ACME | B50: 60231 | C50: BR 185 | D50: 91 80 6185 693-9 | E50: silber/blau | F50: DC | H50: Railpool TX Logistik
A51: ACME | B51: 60232 | C51: BR 186 | D51: 91 80 6186 329-9 | E51: rot | F51: DC | H51: DB Schenker
A52: ACME | B52: 60233 | C52: BR 186 | D52: E 186 179-8 | E52: weiss/gelb/schwarz | F52: DC | H52: Euro Cargo Rail l
A53: ACME | B53: 60234 | C53: BR 186 | D53: E 186 162-4 | E53: weiss/gelb/schwarz | F53: DC | H53: Euro Cargo Rail
A54: ACME | B54: 60235 | C54: BR 186 | D54: 186 103 | E54: grau | F54: DC | H54: RAILPOOL
A55: ACME | B55: 60236 | C55: BR 186 | D55: E 186 143 | E55: grau | F55: DC | H55: RAILPOOL / PKP Przewozy Regionalne
A56: ACME | B56: 60237 | C56: BR 186 | D56: 91 80 6186 241-6 | E56: rot | F56: DC | H56: PKP
A57: ACME | B57: 60237 | C57: BR 186 | D57: 186 241-6 | E57: grün/grau | F57: DC | H57: Angel Trains / DB Fernverkehr
A58: ACME | B58: 60238 | C58: BR 186 | D58: E186 324-0 | E58: rot | F58: DC | H58: DB Schenker
A59: ACME | B59: 60239 | C59: EU43 | D59: EU43-001 | E59: blau/grün/gelb | F59: DC | H59: PKP Cargo
A60: ACME | B60: 60271 | C60: BR 480 | D60: 480 001 | E60: blau | F60: DC | H60: MAV
A61: ACME | B61: 60271.1 | C61: BR 480 | D61: 480 002 | E61: blau | F61: DC | H61: MAV
... A97: ACME | B97: 60526 | C97: Re 484 | D97: 484 004 | E97: blau/rot | F97: DC | H97: ChemOil
A98: ACME | B98: 60527 | C98: E 483 | D98: E 483 106 | E98: rot | F98: DC | G98: ? | H98: DB Cargo Italia
A99: ACME | B99: 60527 | C99: E 483 | D99: E 483 318 | E99: gelb/grau | F99: DC | H99: Medway
A100: ACME | B100: 60528 | C100: BR 186 | D100: 186 281 | E100: gelb | F100: DC | H100: MEDWAY
A101: ACME | B101: 60630 | C101: BR 186 | D101: 186 909 | E101: silber/hellgrün/schwarz | F101: DC | H101: Ralpin/SBB/BLS Monte Olimpino
A102: ACME | B102: 60631 | C102: Re 486 | D102: 486 503 | E102: silber/hellgrün/schwarz | F102: DC | H102: BLS Cargo
A103: ACME | B103: 60633 | C103: E483 | D103: 483 014 | E103: silber/gelb | F103: DCC | G103: Sound | H103: Alpha Trains
A104: ACME | B104: 65059 | C104: BR 185 | D104: 185 566-7 | E104: schwarz/rot | F104: AC | H104: Crossrail
A105: ACME | B105: 65404 | C105: BR 186 | D105: 186 110 | E105: silber | F105: DC | H105: BLS Cargo Railpool
A106: ACME | B106: 65413 | C106: BR 186 | D106: 186 109 | E106: silber | F106: DC | H106: BLS Cargo Railpool
A107: ACME | B107: 65522 | C107: BR 186 | D107: 186 903 | E107: weiss | F107: AC | H107: Crossrail
A108: ACME | B108: 65630 | C108: BR 186 | D108: 186 909 | E108: silber/hellgrün/schwarz | F108: AC | H108: Ralpin/SBB/BLS Monte Olimpino
A109: ACME | B109: 65630S | C109: BR 186 | D109: 186 909 | E109: silber/hellgrün/schwarz | F109: AC | G109: Sound | H109: Ralpin/SBB/BLS Monte Olimpino
A110: ACME | B110: 69273 | C110: BR 480 | D110: 480 001 | E110: blau | F110: DCC | G110: Sound | H110: MAV
A111: ACME | B111: 69630 | C111: BR 186 | D111: 186 909 | E111: silber/hellgrün/schwarz | F111: DC | H111: Ralpin/SBB/BLS Monte Olimpino
A112: ACME | B112: 69631 | C112: Re 486 | D112: 486 503 | E112: silber/hellgrün/schwarz | F112: DC | G112: Sound | H112: BLS neues Design
A113: ACME | B113: 69461 | C113: BR 187 | D113: 91 80 6187 002-1 | E113: hellblau/grau | F113: DC | H113: Bomardier BLS Cargo Die Alpinisten
A114: ACME | B114: 69529 | C114: E 483 | D114: E 483 106 | E114: rot | F114: DCC | G114: Sound | H114: DB Cargo Italia
A115: ACME | B115: 69631 | C115: Re 486 | D115: 486 506 486 503 | E115: grau/hellgrün/bunt | F115: DCC | G115: Sound | H115: BLS Alpinisten, neues Design
A116: ACME | B116: 69633 | C116: E483 | D116: 483 014 | E116: silber/gelb | F116: DC | G116: Sound | H116: Alpha Trains
A117: ACME | B117: 69636 | C117: BR 185 | D117: 185 321 | E117: rot | F117: DC | G117: Sound | H117: DB
A118: ACME | B118: 70007 | C118: Re 484 | D118: 484 013-8 | E118: grau | F118: DC | H118: Cisalpino
A119: ACME | B119: 90020 | C119: Re 484 | D119: 484 011 | E119: blau/rot | F119: DC | H119: 20 Jahre SBB Cargo
A120: ACME | B120: 90020AC | C120: Re 484 | D120: 484 011 | E120: blau/rot | F120: AC | H120: 20 Jahre SBB Cargo
A121: ACME | B121: 90020ACS | C121: Re 484 | D121: 484 011 | E121: blau/rot | F121: AC | G121: Sound | H121: 20 Jahre SBB Cargo
A122: ACME | B122: 90020S | C122: Re 484 | D122: 484 011 | E122: blau/rot | F122: DC | H122: 20 Jahre SBB Cargo
A123: ACME | B123: 90023 | C123: BR 186 | D123: E 186 114-2 | E123: orange | F123: DC | H123: NS FYRA
A124: ACME | B124: 90024 | C124: BR 186 | D124: E 186 236 | E124: hellgrau | F124: DC | H124: NS FYRA / CB Rail
A125: ACME | B125: 90027 | C125: E 483 | D125: E 483 202 | E125: bunt | F125: DC | H125: POL-MIEDŹ TRANS
A126: ACME | B126: 90034 | C126: Re 486 | D126: 486 504 486 505 | E126: grau/hellgrün | F126: DC | H126: Set Re 486 BLS Cargo “Alpinisten – Gli Alpinisti” “100 Jahre Lötschbergbahn Jubiläum”
A127: ACME | B127: 90048 | C127: BR 186 | D127: E 186 227 / 2835 | E127: grün/grau | F127: DC | H127: Angel Trains
A128: ACME | B128: 90049 | C128: E 483 | D128: E 483 023 ER | E128: grau | F128: DC | H128: FER Ferrovie Emilia Romagna
A129: ACME | B129: 90054 | C129: BR 186 | D129: 186 135-0 | E129: grün/grau | F129: DC | H129: Angel Trains / DB AG
A130: ACME | B130: 90061 | C130: BR 186 | D130: 186 104 | E130: grau | F130: DC | H130: Railpool/BLS Cargo
A131: ACME | B131: 90062 | C131: BR 186 | D131: 186 105 486 505 | E131: grau/hellgrün | F131: DC | H131: Set Re 486 BLS Cargo “Alpinisten – Gli Alpinisti” “
A132: ACME | B132: 90064 | C132: BR 185 | D132: 91 80 6185 684-8 | F132: DC | H132: Railpool Rurtalbahn
A133: ACME | B133: 90087 | C133: BR 186 | D133: 91 80 6482 108-7 | E133: silber/blau | F133: DC | H133: Railpool BLS Cargo
A134: ACME | B134: 90087DCS | C134: BR 186 | D134: 91 80 6482 108-7 | E134: silber/blau | F134: DC | H134: Railpool BLS Cargo
A135: ACME | B135: 90088 | C135: Re 486 | D135: 486 508 | E135: grau/hellgrün | F135: DC | G135: Sound | H135: BLS Cargo “Alpinisten – Gli Alpinisti”
A136: ACME | B136: 90088AC | C136: Re 486 | D136: 486 508 | E136: grau/hellgrün | F136: AC | H136: BLS Cargo “Alpinisten – Gli Alpinisti”
A137: ACME | B137: 90093 | C137: BR 186 | D137: E 186 001 | E137: blau/gelb | F137: DC | H137: NS Intercity
...

Sheet Brawa
A1: Brawa Traxx (Spur H0) | G1: =TODAY() -> 46285
A3: Hersteller | B3: Art.Nr.1 | C3: Typ | D3: Betriebsnr. | E3: Farbe | F3: AC/DC | G3: Decoder | H3: Bemerkungen
A5: Brawa | B5: 43800 | C5: BR 186 | D5: 91 80 6186 150-9 | E5: silber/rot | F5: DC | G5: basic | H5: Crossrail
A6: Brawa | B6: 43802 | C6: BR 186 | D6: 91 80 6186 150-9 | E6: silber/rot | F6: DC | H6: Crossrail
A7: Brawa | B7: 43804 | C7: BR 186 | D7: 91 80 6186 150-9 | E7: silber/rot | F7: DCC | G7: Sound | H7: Crossrail
A8: Brawa | B8: 43803 | C8: BR 186 | D8: 91 80 6186 150-9 | E8: silber/rot | F8: DC | H8: Crossrail
A9: Brawa | B9: 43805 | C9: BR 186 | D9: 91 80 6186 150-9 | E9: silber/rot | F9: AC | G9: Sound | H9: Crossrail
A10: Brawa | B10: 43806 | C10: BR 146 | D10: 146 554-1 | E10: rot | F10: DC | H10: DB
A11: Brawa | B11: 43808 | C11: BR 146 | D11: 146 554-1 | E11: weiss/rot | F11: DC | G11: Sound | H11: DB
A12: Brawa | B12: 43809 | C12: BR 146 | D12: 146 554-1 | E12: weiss/rot | F12: AC | G12: Sound | H12: DB
A13: Brawa | B13: 43810 | C13: BR 147 | D13: 147 | E13: rot | F13: DC | H13: DB
A14: Brawa | B14: 43812 | C14: BR 147 | D14: 147 | E14: rot | F14: DC | G14: Sound | H14: DB
A15: Brawa | B15: 43813 | C15: BR 147 | D15: 147 | E15: rot | F15: AC | G15: Sound | H15: DB
A16: Brawa | B16: 43814 | C16: BR 147.5 | D16: 146 | E16: weiss/rot | F16: DC | H16: DB
A17: Brawa | B17: 43816 | C17: BR 147.5 | D17: 146 | E17: weiss/rot | F17: DC | G17: Sound | H17: DB
A18: Brawa | B18: 43817 | C18: BR 147.5 | D18: 146 | E18: weiss/rot | F18: AC | G18: Sound | H18: DB
A19: Brawa | B19: 43818 | C19: BR 147 | D19: 147 | E19: rot | F19: DC | G19: Sound | H19: DB
A20: Brawa | B20: 43820 | C20: BR 147 | D20: 147 | E20: rot | F20: DC | G20: Sound | H20: DB
A21: Brawa | B21: 43821 | C21: BR 147 | D21: 147 | E21: rot | F21: DC | G21: Sound | H21: DB
A22: Brawa | B22: 43828 | C22: BR 147 | D22: 147 | E22: schwarz | F22: AC | H22: MRCE
A23: Brawa | B23: 43830 | C23: BR 147 | D23: 147 | E23: schwarz | F23: DC | G23: Sound | H23: MRCE
A24: Brawa | B24: 43831 | C24: BR 147 | D24: 147 | E24: schwarz | F24: AC | G24: Sound | H24: MRCE
A25: Brawa | B25: 43834 | C25: BR 147.5 | D25: 146 | E25: weiss/rot | F25: DC | H25: DB
A26: Brawa | B26: 43836 | C26: BR 147.5 | D26: 146 | E26: weiss/rot | F26: DC | G26: Sound | H26: DB
A27: Brawa | B27: 43837 | C27: BR 147.5 | D27: 146 | E27: weiss/rot | F27: AC | G27: Sound | H27: DB
A28: Brawa | B28: 43842 | C28: BR 187 | D28: 187 | E28: grau | F28: DC | H28: RheinCargo
A29: Brawa | B29: 43844 | C29: BR 187 | D29: 187 | E29: grau | F29: DC | G29: Sound | H29: RheinCargo
A30: Brawa | B30: 43845 | C30: BR 187 | D30: 187 | E30: grau | F30: AC | G30: Sound | H30: RheinCargo
A31: Brawa | B31: 43848 | C31: BR 185.2 | D31: 185 563-5 | E31: schwarz | F31: DC | G31: Sound | H31: Beacon
A32: Brawa | B32: 43849 | C32: BR 185.2 | D32: 185 563-5 | E32: schwarz | F32: AC | G32: Sound | H32: Beacon
A33: Brawa | B33: 43852 | C33: BR 187 | D33: 187 513-7 | E33: grau | F33: DC | G33: Sound | H33: Metrans
A34: Brawa | B34: 43853 | C34: BR 187 | D34: 187 513-7 | E34: grau | F34: AC | G34: Sound | H34: Metrans
A35: Brawa | B35: 43900 | C35: BR 146. | D35: 91 85 4146 212-6 | E35: rot | F35: DCC | G35: Sound | H35: DB
A36: Brawa | B36: 43901 | C36: BR 146. | D36: 91 85 4482 036-1 | E36: blau/rot | F36: DC | G36: DH22-4 | H36: Cargo
A37: Brawa | B37: 43902 | C37: BR 146. | D37: 91 85 4146 212-6 | E37: rot | F37: DCC | G37: Sound | H37: DB
A38: Brawa | B38: 43903 | C38: BR 146.5 | D38: 91 80 6186 555-8 | E38: weiss | F38: AC | G38: Sound | H38: DB
A39: Brawa | B39: 43904 | C39: BR 146.5 | D39: 91 80 6186 555-8 | E39: weiss | F39: DC | H39: DB
A40: Brawa | B40: 43905 | C40: Re 482 | D40: 482 036-1 | E40: rot/blau | F40: DC | H40: SBB Cargo
A41: Brawa | B41: 43906 | C41: Re 482 | D41: 482 036-1 | E41: rot/blau | F41: DCC | G41: Sound | H41: SBB Cargo
A42: Brawa | B42: 43908 | C42: BR 185.2 | D42: 91 80 6185 571-7 | E42: schwarz | F42: DC | H42: MRCE
A43: Brawa | B43: 43909 | C43: BR 185.2 | D43: 91 80 6185 571-7 | E43: schwarz | F43: AC | H43: MRCE
A44: Brawa | B44: 43910 | C44: BR 185.2 | D44: 91 80 6185 571-7 | E44: schwarz | F44: DCC | G44: Sound | H44: MRCE
A45: Brawa | B45: 43911 | C45: BR 185.2 | D45: 91 80 6185 571-7 | E45: schwarz | F45: AC | H45: MRCE
A46: Brawa | B46: 43912 | C46: BR 185.2 | D46: 91 80 6185 508-7 | E46: grau/grün | F46: DC | G46: . | H46: LTE
A47: Brawa | B47: 43913 | C47: BR 185.2 | D47: 91 80 6185 508-7 | E47: grau/grün | F47: AC | H47: LTE
A48: Brawa | B48: 43914 | C48: BR 185.2 | D48: 91 80 6185 508-7 | E48: grau/grün | F48: DCC | G48: Sound | H48: LTE
A49: Brawa | B49: 43916 | C49: BR 146.2 | D49: 91 80 6146 216-7 | E49: rot | F49: DC | H49: DB, basic
A50: Brawa | B50: 43918 | C50: BR 146.2 | D50: 91 80 6146 216-7 | E50: rot | F50: DC | H50: DB
A51: Brawa | B51: 43920 | C51: BR 146.2 | D51: 91 80 6146 216-7 | E51: rot | F51: DCC | G51: Sound | H51: DB
A52: Brawa | B52: 43922 | C52: BR 185.2 | D52: 185 274-8 | E52: rot | F52: DC | H52: Railion
A53: Brawa | B53: 43924 | C53: BR 185.2 | D53: 185 274-8 | E53: rot | F53: DC | H53: Railion
A54: Brawa | B54: 43925 | C54: BR 185.2 | D54: 185 274-8 | E54: rot | F54: AC | H54: Railion
A55: Brawa | B55: 43926 | C55: BR 185.2 | D55: 185 274-8 | E55: rot | F55: DCC | G55: Sound | H55: Railion
A56: Brawa | B56: 43925 | C56: BR 185.2 | D56: 185 274-8 | E56: rot | F56: DC | H56: Railion
A57: Brawa | B57: 43928 | C57: BR 186 | D57: 186 325-7 | E57: rot | F57: DC | H57: DB Schenker
A58: Brawa | B58: 43930 | C58: BR 186 | D58: 186 325-7 | E58: rot | F58: DC | H58: DB Schenker
A59: Brawa | B59: 43931 | C59: BR 186 | D59: 186 325-7 | E59: rot | F59: DC | H59: DB
A60: Brawa | B60: 43932 | C60: BR 186 | D60: 186 325-7 | E60: rot | F60: DCC | G60: Sound | H60: DB
A61: Brawa | B61: 43934 | C61: BR 186 | D61: 386 002-0 | E61: grau | F61: DC | H61: Metrans
A62: Brawa | B62: 43936 | C62: BR 186 | D62: 386 002-0 | E62: grau | F62: DC | H62: Metrans
A63: Brawa | B63: 43938 | C63: BR 186 | D63: 386 002-0 | E63: grau | F63: DCC | G63: Sound | H63: Metrans
A64: Brawa | B64: 43940 | C64: BR 186 | D64: E 186 003 | E64: gelb/blau | F64: DC | H64: NS
A65: Brawa | B65: 43942 | C65: BR 186 | D65: E 186 003 | E65: gelb/blau | F65: DC | H65: NS
A66: Brawa | B66: 43944 | C66: BR 186 | D66: E 186 003 | E66: gelb/blau | F66: DCC | G66: Sound | H66: NS
A67: Brawa | B67: 43952 | C67: BR 186 | D67: 186 184-8 | E67: silber | F67: DC | H67: Akiem FRET SNCF
A68: Brawa | B68: 43954 | C68: BR 186 | D68: 186 184-8 | E68: silber | F68: DC | H68: Akiem FRET SNCF
A69: Brawa | B69: 43956 | C69: BR 186 | D69: 186 184-8 | E69: silber | F69: DCC | G69: Sound | H69: Akiem FRET SNCF
A70: Brawa | B70: 43958 | C70: BR 186 | D70: 186 108 | E70: grau/blau | F70: DC | H70: Railpool / BLS Cargo
A71: Brawa | B71: 43960 | C71: BR 186 | D71: 186 108 | E71: grau/blau | F71: DC | H71: Railpool / BLS Cargo
A72: Brawa | B72: 43962 | C72: BR 186 | D72: 186 108 | E72: grau/blau | F72: DCC | G72: Sound | H72: Railpool / BLS Cargo
A73: Brawa | B73: 43964 | C73: Re 1428 | D73: Re 1428 | E73: grün | F73: DC | H73: Green Cargo, basic
A74: Brawa | B74: 43967 | C74: Re 1428 | D74: Re 1428 | E74: grün | F74: AC | H74: Green Cargo, basic
A75: Brawa | B75: 43966 | C75: Re 1428 | D75: Re 1428 | E75: grün | F75: DC | H75: Green Cargo
A76: Brawa | B76: 43968 | C76: Re 1428 | D76: Re 1428 | E76: grün | F76: DC | G76: Sound | H76: Green Cargo
A77: Brawa | B77: 43976 | C77: BR 146 | D77: 146 572-3 | E77: rot | F77: DC | H77: DB, basic
A78: Brawa | B78: 43978 | C78: BR 146 | D78: 146 572-3 | E78: rot | F78: DC | H78: DB
A79: Brawa | B79: 43980 | C79: BR 146 | D79: 146 572-3 | E79: rot | F79: DCC | G79: Sound | H79: DB
A80: Brawa | B80: 43981 | C80: BR 146.5 | D80: 146 | E80: weiss/rot | F80: AC | G80: Sound | H80: DB
A81: Brawa | B81: 43984 | C81: BR 146.5 | D81: 146 | E81: weiss/rot | F81: DC | G81: Sound | H81: DB
A82: Brawa | B82: 43984 | C82: Re 484 | D82: 484 007-0 | E82: blau/rot | F82: DC | H82: SBB Cargo
A83: Brawa | B83: 43986 | C83: Re 484 | D83: 484 007-0 | E83: blau/rot | F83: DCC | G83: Sound | H83: SBB Cargo
A84: Brawa | B84: 43988 | C84: BR 186 | D84: 91 76 0119 002-3 | E84: grau | F84: DC | H84: Cargo Net
A85: Brawa | B85: 43994 | C85: BR 186 | D85: 91 85 4486 504-4 | E85: silber/hellgrün | F85: DC | H85: BLS Cargo Die Alpinisten
A86: Brawa | B86: 43996 | C86: BR 186 | D86: 91 85 4486 504-4 | E86: silber/hellgrün | F86: DC | H86: BLS Cargo Die Alpinisten
A87: Brawa | B87: 43997 | C87: BR 186 | D87: 91 85 4486 504-4 | E87: silber/hellgrün | F87: AC | H87: BLS Cargo Die Alpinisten
A88: Brawa | B88: 43998 | C88: BR 186 | D88: 91 85 4486 504-4 | E88: silber/hellgrün | F88: DCC | G88: Sound | H88: BLS Cargo Die Alpinisten
A89: Brawa | B89: 43999 | C89: BR 186 | D89: 91 85 4486 504-4 | E89: silber/hellgrün | F89: AC | G89: Sound | H89: BLS Cargo Die Alpinisten
A90: Brawa | C90: BR 146. | D90: 146 216-7 | E90: rot | F90: DC | H90: DB
B96: ANZAHL: | C96: =COUNTA(C4:C95) -> 86
A100: Auflistungen sind nach bestem Wissen und Gewissen erstellt. Falls Fehler gefunden werden, bitte melden: | H100: mailto:roland@hausin.com?subject=Angaben/Korrekturen zu H0-Loks
A102: © 2025 Roland Hausin

Sheet Fleischmann
A1: Fleischmann Traxx | G1: =TODAY() -> 46285
A3: Hersteller | B3: Art.Nr.1 | C3: Typ | D3: Betriebsnr. | E3: Farbe | F3: AC/DC | G3: Decoder | H3: Bemerkungen
A5: Fleischmann | B5: 4320 | C5: BR 145 | D5: 145 009-7 | E5: rot | H5: DB
A6: Fleischmann | B6: 4320 (1) | C6: BR 145 | D6: 145 002-2 | E6: rot | H6: DB
A7: Fleischmann | B7: 432001 | C7: BR 145 | D7: 145 037-8 | E7: rot | H7: DB
A8: Fleischmann | B8: 432002 | C8: BR 145 | D8: 145 023-6 | H8: Pressnitztalbahn GmbH “120 Jahre Rasender Roland”
A9: Fleischmann | B9: 4322 | C9: BR 145 | D9: 145 045-1 | E9: rot | H9: ohne Front DB-Logo
A10: Fleischmann | B10: 4323 | C10: Re 481 | D10: 481 005-7 | E10: blau/rot | H10: SBB Cargo
A11: Fleischmann | B11: 432301 | C11: Re 481 | D11: 481 004-0 | H11: NIAG
A12: Fleischmann | B12: 4324 | C12: BR 146 | D12: 146 017-9 | E12: rot | H12: DB Cargo
A13: Fleischmann | B13: 481205 | C13: BR 145 | D13: 145 023-6 (145 083-2) | H13: Pressnitztalbahn GmbH “125 Jahre Fleischmann”
A14: Fleischmann | B14: 482410 | C14: BR 146 | D14: 146 017-9 | E14: rot | H14: DB Regio
A15: Fleischmann | B15: 631305 | D15: 145 002-2 | E15: rot | H15: Start set BR 145 DB Cargo
A16: Fleischmann | B16: 631306 | D16: 145 002-2 | E16: rot | H16: Start set BR 145 DB AG
A17: Fleischmann | B17: 631384 | D17: 145 037-8 | E17: rot | H17: Start set DCC BR 145 DB AG
A18: Fleischmann | B18: 631385 | D18: 145 002-2 | E18: rot | H18: Start set DCC BR 145 DB Cargo
A19: Fleischmann | B19: 631386 | D19: 145 002-2 | E19: rot | H19: Start set DCC BR 145 DB AG rossa + carro pianale + cisterna, multiMAUS, binari
A20: Fleischmann | B20: 631387 | D20: 145 002-2 | E20: rot | H20: Start set DCC BR 145 DB Cargo
A21: Fleischmann | B21: 64320 | D21: 145 002-2 | E21: rot | H21: DB Cargo
A22: Fleischmann | B22: 80 4320 | D22: 145-CL 002 | E22: grün | H22: BASF
A23: Fleischmann | B23: 81 4320 | D23: 145-CL 011 | E23: weiss/blau | H23: HGK
A24: Fleischmann | B24: 82 4321 | D24: 145-CL 031 | E24: grau | H24: TX Logistik
A25: Fleischmann | B25: 85 4320 | D25: 145 063-4 | E25: rot | H25: Railion
A26: Fleischmann | B26: 86 4322 | D26: 145 001 | E26: schwarz/rot | H26: OHE/TCS
A27: Fleischmann | B27: 90 4320CH | C27: Re 486 | D27: 651-3 | E27: weiss | H27: MTB "Thurgauer Motivationspreis 2000”
A28: Fleischmann | B28: 91 4320CH | C28: Re 486 | D28: 652-1 | E28: weiss | H28: MTB Lokoop
B31: ANZAHL: | C31: =COUNTA(C4:C30) -> 12
B33: = verifiziert
A35: Auflistungen sind nach bestem Wissen und Gewissen erstellt. Falls Fehler gefunden werden, bitte melden: | G35: mailto:roland@hausin.com?subject=Angaben/Korrekturen zu H0-Loks
A37: © 2025 Roland Hausin

Sheet Märklin
A1: Märklin Traxx (Spur H0) | I1: =TODAY() -> 46285
A3: Hersteller | B3: Art.Nr.1 | C3: Typ | D3: Betriebsnr. | E3: Farbe | F3: AC/DC | G3: Motor | H3: Decoder | I3: Bemerkungen | J3: Bemerkungen 2
A5: Märklin | B5: 26553 | C5: BR 185 | D5: 185 458-7 | E5: hellgrün/bunt | F5: AC | G5: digital | I5: Set Claas,
A6: Märklin | B6: 26571 | C6: BR 185 | D6: 185 583-2 | F6: AC | G6: digital | I6: Set HVLE,
A7: Märklin | B7: 26580 | C7: BR 185 | D7: 185 020-7 | E7: schwarz | F7: AC | G7: digital | I7: Set Herpa Black Edition | J7: Zugpackung
A8: Märklin | B8: 29130 | C8: BR 185 | D8: 185 156-7 | E8: rot | F8: AC | G8: digital | I8: Set Railion rot,
A9: Märklin | B9: 29153 | C9: BR 185 | D9: 185 010-6 | E9: rot | F9: AC | G9: digital | I9: Set DB, rot,
A10: Märklin | B10: 29350 | C10: BR 186 | F10: AC | G10: digital | I10: Captrain
A11: Märklin | B11: 29351.1 | C11: BR 185.2 | D11: 4012 | F11: AC | G11: digital | I11: CFL Cargo, braun
A12: Märklin | B12: 29450 | C12: BR 186 | D12: 91 80 6186 103-D | E12: silber/blau | F12: AC | G12: digital | I12: Railpool
A13: Märklin | B13: 29470 | C13: BR 146.1 | D13: 146 107-8 | E13: rot | F13: AC | G13: digital | I13: DB, rot, aus 29470
A14: Märklin | B14: 29475 | C14: BR 146 | F14: AC | G14: digital | I14: DB, rot
A15: Märklin | B15: 29478 | C15: BR 146.2 | D15: 146 240-7 | E15: rot | F15: AC | G15: digital | I15: DB, rot
A16: Märklin | B16: 29523 | C16: Re 481 | D16: 481 003-2 | E16: blau/rot | F16: AC | G16: digital | I16: Cargo
A17: Märklin | B17: 29841 | C17: BR 185.1 | D17: 185 070-0 | F17: AC | G17: digital | I17: Startpackung, mfx
A18: Märklin | B18: 29841 | C18: BR 185 | D18: 185 156-7 | F18: AC | G18: digital | I18: Railion, Startpackung, mfx
A19: Märklin | B19: 29861 | C19: Re 474 | D19: 474 003-1 | E19: blau/rot | F19: AC | G19: digital | I19: Cargo
A20: Märklin | B20: 36024 | C20: BR 185.2 | E20: bunt | F20: AC | G20: digital | I20: Europameister 2024
A21: Märklin | B21: 36600 | C21: BR 185 | D21: 185 260-7 | F21: AC | G21: digital | I21: Railion
A22: Märklin | B22: 36600 | C22: BR 185.2 | D22: 185 260-7 | F22: AC | G22: digital | I22: SoMo Auric
A23: Märklin | B23: 36601 | C23: BR 185.5 | F23: AC | G23: digital | I23: BLS
A24: Märklin | B24: 36602 | C24: BR 185 | D24: 185 04-1 | F24: AC | G24: digital | I24: Hectorrail
A25: Märklin | B25: 36603 | C25: BR 185.2 | D25: 185 456-1 | E25: blau/bunt | F25: AC | G25: digital | I25: Haribo, 5000 Expl,
A26: Märklin | B26: 36603 | C26: BR 185.2 | F26: AC | G26: digital | I26: EVG, Sondermodell 2010, 100 Stück
A27: Märklin | B27: 36603 | C27: BR 185.2 | D27: 185 201-2 | F27: AC | G27: digital | I27: EVG, Sondermodell 2012, 200 Stück
A28: Märklin | B28: 36604 | C28: BR 185.6 | F28: AC | G28: digital | I28: Lokomotion
A29: Märklin | B29: 36605 | C29: BR 185.5 | D29: 185 564-2 | E29: schwarz/rot | F29: AC | G29: digital | I29: Crossrail
A30: Märklin | B30: 36607 | C30: BR 186 | D30: 186 181-4 | E30: silber/blau/rot | F30: AC | G30: digital | I30: Railpool Cargo
A31: Märklin | B31: 36608 | C31: BR 186 | D31: 186 125-1 | F31: AC | G31: digital | I31: ATC SNCB
A32: Märklin | B32: 36609 | C32: BR 185.2 | D32: 2803 | F32: AC | G32: digital | I32: Railpool Cargo
A33: Märklin | B33: 36609 | C33: BR 185.2 | D33: 185 461-1 | E33: gelb | F33: AC | G33: digital | I33: Krombacher Weizen, 1000 Expl,
A34: Märklin | B34: 36610 | C34: BR 185 | F34: AC | G34: digital | I34: Green Cargo
A35: Märklin | B35: 36611 | C35: BR 185 | D35: 119 | F35: AC | G35: digital | I35: Angel Trains Litra CargoNet
A36: Märklin | B36: 36612 | C36: BR 146.2 | E36: gelb | F36: AC | G36: digital | I36: Metronom ME 145-18
A37: Märklin | B37: 36613 | C37: BR 185 | D37: 185 415-8 | F37: AC | G37: digital | I37: Sleepy Rush-Rail, 499 Expl,
A38: Märklin | B38: 36614 | C38: BR 146.2 | F38: AC | G38: digital | I38: Technik erfahren Märklin
A39: Märklin | B39: 36615 | C39: BR 185.2 | F39: AC | G39: digital | I39: HLVE
A40: Märklin | B40: 36616 | C40: BR 186 | D40: 6186 179-8 | E40: weiss/gelb | F40: AC | G40: digital | I40: Euro Cargo-Rail
A41: Märklin | B41: 36616.001 | C41: E 186 | D41: 186 325-7 | F41: AC | G41: digital | I41: MMC, SoMo 500 Expl,
A42: Märklin | B42: 36617 | C42: BR 185.2 | D42: 185 401-7 | E42: tot | F42: AC | G42: digital | I42: DB,
A43: Märklin | B43: 36618 | C43: BR 185.2 | D43: 2901 | F43: AC | G43: digital | I43: E 186, Serie 29
A44: Märklin | B44: 36619 | C44: BR 185 | D44: 185 05-1 | F44: AC | G44: digital | I44: E483 GTS Rail
A45: Märklin | B45: 36620 | C45: BR 146.5 | E45: weiss/rot | F45: AC | G45: digital | I45: DB, ICE-Bemalung
A46: Märklin | B46: 36621 | C46: BR 185.2 | D46: 54 74 90-2014 | F46: AC | G46: digital | I46: Somo, 1954 1974 1990 2014, Insider,333 Expl,
A47: Märklin | B47: 36623 | C47: BR 146.5 | E47: weiss/rot | F47: AC | G47: digital | I47: Damit Deutschland vorne bleibt
A48: Märklin | B48: 36624 | C48: Re 486 | D48: 486 503 | E48: silber/hellgrün | F48: AC | G48: digital | I48: BLS Cargo Die Alpinisten
A49: Märklin | B49: 36625 | C49: BR 185.2 | F49: AC | G49: digital | I49: E 186 FRET
A50: Märklin | B50: 36626 | C50: BR 146 | D50: 146 015-3 | E50: violett | F50: AC | G50: digital | I50: Euro-Express
A51: Märklin | B51: 36627 | C51: Re 482 | D51: 482 022 | E51: blau/rot | F51: AC | G51: digital | I51: SBB Cargo Alpäzämer
A52: Märklin | B52: 36628 | C52: BR 186 | D52: 186 000-7 | F52: AC | G52: digital | I52: E 186 NS
A53: Märklin | B53: 36629 | C53: BR 186 | F53: AC | G53: digital | I53: E 186 NS
A54: Märklin | B54: 36630 | C54: BR 187 | D54: 187 109-4 | E54: rot | F54: AC | G54: digital | I54: DB
A55: Märklin | B55: 36631 | C55: BR 187 | D55: 187 000-7 | F55: AC | G55: digital | I55: BLS Cargo Alpinisten
A56: Märklin | B56: 36632 | C56: BR 185 | D56: 185 534-5 | E56: hellgrün | F56: AC | G56: digital | I56: CFL Cargo
A57: Märklin | B57: 36633 | C57: BR 185 | D57: 185 000-7 | F57: AC | G57: digital | I57: Cargolink
A58: Märklin | B58: 36634 | C58: BR 185 | D58: 185 000-7 | F58: AC | G58: digital | I58: Captrain
A59: Märklin | B59: 36635 | C59: BR 487 | D59: 487 001-0 | E59: gelb/weiss | F59: AC | G59: digital | I59: Swiss Rail Traffic
A60: Märklin | B60: 36637 | C60: BR 187 | D60: 187 009-5 | E60: rot | F60: AC | G60: digital | I60: DB
A61: Märklin | B61: 36639 | C61: BR 186 | E61: rot | F61: AC | G61: digital | I61: NS
A62: Märklin | B62: 36643 | C62: BR 187 | D62: 187 108-6 | E62: schwarz | F62: AC | G62: digital | I62: MRCE
A63: Märklin | B63: 36644 | C63: BR 186 | D63: 186 293-7 | F63: AC | G63: digital | I63: LINEAS
A64: Märklin | B64: 36647 | C64: E4 4/4 | D64: 644 | E64: rot | F64: AC | G64: digital | I64: Alpine Cruise, RhB-Rekord
A65: Märklin | B65: 36649 | C65: BR 185.2 | D65: 185 2024 | E65: schwarz/bunt | F65: AC | G65: digital | I65: 2024 WM Lok
A66: Märklin | B66: 36830 | C66: BR 185 | D66: 185 542-8 | F66: AC | G66: digital | I66: European Bulls, RAIL4CHEM, x/300
A67: Märklin | B67: 36831 | C67: BR 185 | D67: 185 528-7 | E67: blau/silber | F67: AC | G67: digital | I67: LTE
A68: Märklin | B68: 36832 | C68: BR 185 | D68: 5185 544-4 | E68: schwarz | F68: AC | G68: digital | I68: MRCE,
A69: Märklin | B69: 36833 | C69: BR 185 | E69: silber | F69: AC | G69: digital | I69: TX Logistik
A70: Märklin | B70: 36834 | C70: BR 185 | D70: 185 543-6 | E70: silber | F70: AC | G70: digital | I70: Transpetrol, 2000 Expl,
A71: Märklin | B71: 36834.1 | C71: BR 185 | F71: AC | G71: digital | I71: HGK, 300 Expl,
A72: Märklin | B72: 36835 | C72: BR 146 | D72: 146 107-8 | E72: rot | F72: AC | G72: digital | I72: DB, rot, Set 29475
A73: Märklin | B73: 36835 | C73: BR 146.1 | D73: 146 107-8 | E73: rot | F73: AC | G73: digital | I73: DB, rot, aus 29470
A74: Märklin | B74: 36836 | C74: BR 185 | D74: 185 077-5 | E74: rot | F74: AC | G74: digital | I74: Railion
A75: Märklin | B75: 36837.01 | C75: BR 185 | E75: blau/bunt | F75: AC | G75: digital | I75: Superman
A76: Märklin | B76: 36838 | C76: BR 185 | D76: 185 CL-002 | E76: schwarz/bunt | F76: AC | G76: digital | I76: Veolia Transport
A77: Märklin | B77: 36850 | C77: BR 185 | D77: 185 052-8 | E77: rot | F77: AC | G77: digital | I77: DB, rot, HT Schöfferhofer
A78: Märklin | B78: 36850 | C78: BR 185 | F78: AC | G78: digital | I78: Sondermodell Ameropa, 100 Stück
A79: Märklin | B79: 36850 | C79: BR 185 | D79: 185 110-6 | E79: rot | F79: AC | G79: digital | I79: DB, rot aus 29153,
A80: Märklin | B80: 36851 | C80: Re 482 | D80: 482 011-4 | E80: blau/rot | F80: AC | G80: digital | I80: Cargolink
A81: Märklin | B81: 36852 | C81: Re 485 | D81: 482 011-4 | E81: blau/rot | F81: AC | G81: digital | I81: Cargolink
A82: Märklin | B82: 36853 | C82: BR 185 | D82: 485 005-3 | E82: grau/hellgrün | F82: AC | G82: digital | I82: Sonderserie BLS
A83: Märklin | B83: 36853.1 | C83: BR 185 | D83: 4012 | F83: AC | G83: digital | I83: CFL,
A84: Märklin | B84: 36854 | C84: BR 185 | D84: 185 CL-009 | E84: blau/silber | F84: AC | G84: digital | I84: RAG
A85: Märklin | B85: 36855 | C85: BR 185 | D85: 185 CL-003 | E85: blau | F85: AC | G85: digital | I85: Connex, 2000 Expl,
A86: Märklin | B86: 36856 | C86: BR 185 | D86: 185 099-9 | E86: rot | F86: AC | G86: digital | I86: DB,
A87: Märklin | B87: 36857 | C87: Re 482 | D87: 482 093-3 | E87: blau/rot | F87: AC | G87: digital | I87: RAG,2000 Expl,
A88: Märklin | B88: 36858 | C88: BR 185 | D88: 185 CL-004 | E88: blau/silber | F88: AC | G88: digital | I88: Hoyer
A89: Märklin | B89: 36890 | C89: BR 185 | F89: AC | G89: digital | I89: Schöfferhofer
A90: Märklin | B90: 36891 | C90: BR 185 | D90: 185 545-1 | E90: schwarz | F90: AC | G90: digital | I90: MRCE
A91: Märklin | B91: 36892 | C91: BR 185 | D91: 185 142 | E91: rot | F91: AC | G91: digital | I91: Railion CH
A92: Märklin | B92: 36893 | C92: BR 185.1 | D92: 185 574-1 | E92: schwarz | F92: AC | G92: digital | I92: RTS Traction, 999 Expl,
A93: Märklin | B93: 36894 | C93: BR 185 | D93: 185 051-8 | E93: orange | F93: AC | G93: digital | I93: Sondermodell DZ Bank
A94: Märklin | B94: 36895 | C94: BR 185.2 | D94: 185 260-7 | E94: rot | F94: AC | G94: digital | I94: Railion verschneit
A95: Märklin | B95: 37446 | C95: Re 482 | D95: 482 036-1 | E95: rot/blau | F95: AC | G95: digital | I95: SBB Cargo
A96: Märklin | B96: 37447 | C96: BR 146.5 | D96: 146 575-6 | E96: weiss/rot | F96: AC | G96: digital | I96: ICE
A97: Märklin | B97: 37449 | C97: BR 146.5 | D97: 146 572-3 | E97: weiss/rot | F97: AC | G97: digital | I97: ICE, Set mit DoSto Wagen
A98: Märklin | B98: 37465 | C98: BR 146 | D98: 146 202-7 | E98: rot | F98: AC | G98: digital | I98: DB, rot
A99: Märklin | B99: 37465 | C99: BR 146.2 | D99: 146 202-7 | F99: AC | G99: digital | I99: DB
A100: Märklin | B100: 37468 | C100: BR 185.6 | D100: 146 107-8 | F100: AC | G100: digital | I100: Zebra blau
A101: Märklin | B101: 37856 | C101: BR 185.4 | D101: 185 327-1 | E101: rot | F101: AC | G101: digital | H101: mfx | I101: DB Schenker
A102: Märklin | B102: 37857 | C102: BR 185.4 | F102: AC | G102: digital | H102: MFX | I102: Raildox,de
...

Sheet Messing
A1: Messing Traxx (Spur H0) | H1: =TODAY() -> 46285
A3: Hersteller | B3: Art.Nr.1 | C3: Art.Nr.2 | D3: Typ | E3: Betriebsnr. | F3: Farbe | G3: AC/DC | H3: Decoder | I3: Bemerkungen
C8: TOTAL: | D8: =COUNTA(D5:D6) -> 0
B12: = verifiziert
A15: Auflistungen sind nach bestem Wissen und Gewissen erstellt. Falls Fehler gefunden werden, bitte melden: | G15: mailto:roland@hausin.com?subject=Angaben/Korrekturen zu H0-Loks
A17: © 2025 Roland Hausin

Sheet PIKO
A1: PIKO Traxx (Spur H0) | G1: =TODAY() -> 46285
A3: Hersteller | B3: Art.Nr.1 | C3: Typ | D3: Betriebsnr. | E3: Farbe | F3: AC/DC | G3: Decoder | H3: Bemerkungen
A5: PIKO | B5: 21617 | C5: BR 186 | D5: 91 80 6186 141-8 | E5: silber/blau | F5: DC | H5: Orlen KolTrans
A6: PIKO | B6: 21618 | C6: BR 186 | D6: 91 80 6186 141-8 | E6: silber/blau | F6: DC | G6: Sound | H6: Orlen KolTrans
A7: PIKO | B7: 21619 | C7: BR 186 | D7: 91 80 6186 141-8 | E7: silber/blau | F7: AC | G7: Sound | H7: Orlen KolTrans
A8: PIKO | B8: 21619 | C8: Re 484 | D8: 91 85 4484 020-3 | E8: blau/rot | F8: DC | H8: SBB Cargo Gut fürs Klima
A9: PIKO | B9: 21620 | C9: Re 484 | D9: 91 85 4484 020-3 | E9: blau/rot | F9: DC | G9: Sound | H9: SBB Cargo Gut fürs Klima
A10: PIKO | B10: 21621 | C10: Re 484 | D10: 91 85 4484 020-3 | E10: blau/rot | F10: AC | G10: Sound | H10: SBB Cargo Gut fürs Klima
A11: PIKO | B11: 21622 | C11: BR 480 | D11: 91 55 0480 023-5 | E11: blau | F11: DC | H11: MAV
A12: PIKO | B12: 21623 | C12: BR 480 | D12: 91 55 0480 023-5 | E12: blau | F12: DC | G12: Sound | H12: MAV
A13: PIKO | B13: 21624 | C13: BR 186 | D13: 91 84 1186 116-7 | E13: rot | F13: DC | H13: Fyra
A14: PIKO | B14: 21624 | C14: BR 480 | D14: 91 55 0480 023-5 | E14: blau | F14: AC | G14: Sound | H14: MAV
A15: PIKO | B15: 21625 | C15: BR 186 | D15: 91 84 1186 116-7 | E15: rot | F15: DC | G15: Sound | H15: Fyra
A16: PIKO | B16: 21626 | C16: BR 186 | D16: 91 84 1186 116-7 | E16: rot | F16: AC | G16: Sound | H16: Fyra
A17: PIKO | B17: 21630 | C17: BR 186 | D17: 91 88 7186 224-2 | E17: gelb | F17: DC | H17: Medway
A18: PIKO | B18: 21631 | C18: BR 186 | D18: 91 88 7186 224-2 | E18: gelb | F18: DC | G18: Sound | H18: Medway
A19: PIKO | B19: 21632 | C19: BR 186 | D19: 91 88 7186 224-2 | E19: gelb | F19: AC | G19: Sound | H19: Medway
A20: PIKO | B20: 21642 | C20: Re 484 | D20: 91 85 4484 012-0 | E20: blau/rot/hellgrün | F20: DC | H20: SBB Cargo Klimafreundlich Schiene + Güter
A21: PIKO | B21: 21643 | C21: Re 484 | D21: 91 85 4484 012-0 | E21: blau/rot/hellgrün | F21: DC | G21: Sound | H21: SBB Cargo Klimafreundlich Schiene + Güter
A22: PIKO | B22: 21644 | C22: Re 484 | D22: 91 85 4484 012-0 | E22: blau/rot/hellgrün | F22: AC | G22: Sound | H22: SBB Cargo Klimafreundlich Schiene + Güter
A23: PIKO | B23: 21648 | C23: E483 | D23: 91 51 5170 022-5 | E23: bunt | F23: DC | H23: Pol-Med-Trans
A24: PIKO | B24: 21649 | C24: E483 | D24: 91 51 5170 022-5 | E24: bunt | F24: DC | G24: Sound | H24: Pol-Med-Trans
A25: PIKO | B25: 21657 | C25: BR 388 | D25: 91 81 1388 217-2 | E25: gelb | F25: DC | H25: RegioJet
A26: PIKO | B26: 21658 | C26: BR 388 | D26: 91 81 1388 217-2 | E26: gelb | F26: DC | G26: Sound | H26: RegioJet
A27: PIKO | B27: 21659 | C27: BR 388 | D27: 91 81 1388 217-2 | E27: gelb | F27: AC | G27: Sound | H27: RegioJet
A28: PIKO | B28: 21660 | C28: BR 186 | D28: E 186 040 | E28: blau/gelb | F28: DC | H28: NS
A29: PIKO | B29: 21661 | C29: BR 186 | D29: E 186 040 | E29: blau/gelb | F29: DC | G29: sound | H29: NS
A30: PIKO | B30: 21662 | C30: BR 186 | D30: E 186 040 | E30: blau/gelb | F30: AC | G30: sound | H30: NS
A31: PIKO | B31: 21669 | C31: BR 186 | D31: 91 84 1186 424-8 | E31: grau/blau | F31: DC | H31: Railpool
A32: PIKO | B32: 21670 | C32: BR 186 | D32: 91 84 1186 424-8 | E32: grau/blau | F32: DC | G32: sound | H32: Railpool
A33: PIKO | B33: 21671 | C33: BR 186 | D33: 91 84 1186 424-8 | E33: grau/blau | F33: AC | G33: sound | H33: Railpool
A34: PIKO | B34: 21678 | C34: E 483 | D34: 91 83 2483 319-6 | E34: weiss/rot | F34: DC | H34: Mercitalia
A35: PIKO | B35: 21679 | C35: E 483 | D35: 91 83 2483 319-6 | E35: weiss/rot | F35: DC | G35: Sound | H35: Mercitalia
A36: PIKO | B36: 21680 | C36: E 483 | D36: 91 83 2483 319-6 | E36: weiss/rot | F36: AC | G36: Sound | H36: Mercitalia
A37: PIKO | B37: 21707 | C37: BR 187 | D37: 187 343-8 | E37: grau/bunt | F37: DC | H37: HSL
A38: PIKO | B38: 21708 | C38: BR 187 | D38: 187 343-8 | E38: grau/bunt | F38: DC | G38: Sound | H38: HSL
A39: PIKO | B39: 21709 | C39: BR 187 | D39: 187 343-8 | E39: grau/bunt | F39: AC | G39: Sound | H39: HSL
A40: PIKO | B40: 21731 | C40: BR 187 | D40: 187 324-9 | E40: blau/weiss | F40: DC | H40: WLC
A41: PIKO | B41: 21732 | C41: BR 187 | D41: 187 324-9 | E41: blau/weiss | F41: DC | G41: Sound | H41: WLC
A42: PIKO | B42: 21733 | C42: BR 187 | D42: 187 324-9 | E42: blau/weiss | F42: AC | G42: Sound | H42: WLC
A43: PIKO | B43: 21798 | C43: BR 187 | E43: silber/blau | F43: DC | H43: SNCB
A45: PIKO | B45: 50201 | C45: ES 64 F4-008 | D45: 189 908-7 | E45: gelb/rot | G45: digital | H45: ÖBB
A46: PIKO | B46: 51562 | C46: BR 187 | D46: 91 80 6187 002-1 | E46: hellblau/grau | F46: DC | H46: Bombardier BLS Cargo Die Alpinisten
A47: PIKO | B47: 51565 | C47: BR 187 | D47: 91 80 6187 004-7 | E47: grau/blau | F47: AC | G47: digital | H47: Railpool
A48: PIKO | B48: 51572 | C48: BR 187 | D48: 91 81 1187 005-4 | E48: silber/blau | F48: DC | H48: BLS Cargo
A49: PIKO | B49: 51573 | C49: BR 187 | D49: 91 81 1187 005-4 | E49: silber/blau | F49: AC | G49: digital | H49: BLS Cargo
A50: PIKO | B50: 51576 | C50: BR 187 | D50: 91 81 1187 005-4 | E50: silber/blau | F50: DC | H50: BLS Cargo
A51: PIKO | B51: 51578 | C51: BR 187 | D51: 91 81 1187 931-1 | E51: blau/bunt | F51: DC | H51: LTE, Lord of the Rails
A52: PIKO | B52: 51579 | C52: BR 187 | D52: 91 81 1187 931-1 | E52: blau/bunt | F52: AC | G52: digital | H52: LTE, Lord of the Rails
A53: PIKO | B53: 51581 | C53: BR 147.5 | D53: 91 80 6147 019-4 | E53: rot | F53: AC | H53: DB
A54: PIKO | B54: 51582 | C54: BR 147.5 | D54: 91 80 6147 553-2 | E54: weiss/rot | F54: DC | H54: IC
A55: PIKO | B55: 51583 | C55: BR 147.5 | D55: 91 80 6147 553-2 | E55: weiss/rot | F55: AC | H55: IC
A56: PIKO | B56: 51585 | C56: BR 187 | D56: 91 81 1187 333-0 | E56: rot | F56: AC | H56: Stern & Hafferl
A57: PIKO | B57: 51586 | C57: BR 187 | D57: 91 80 6187 333-0 | E57: blau/gelb | F57: AC | H57: Stern Hafferl
A58: PIKO | B58: 51587 | C58: BR 147 | D58: 91 80 6147 543-3 | E58: blau/gelb | F58: AC | H58: Metronom
A59: PIKO | B59: 51588 | C59: BR 187 | D59: 91 80 6187 085-6 | E59: weiss/rot/bunt | F59: DC | H59: EP Cargo Vi
A60: PIKO | B60: 51591 | C60: E.494 | D60: 91 83 2494 002-5 | E60: weiss/rot | F60: DC | G60: Sound
A61: PIKO | B61: 51594 | C61: E.494 | D61: 91 83 2494 231-0 | E61: gelb | F61: DC | H61: Medway VI
A62: PIKO | B62: 51595 | C62: E.494 | D62: 91 83 2494 231-0 | E62: gelb | F62: DC | G62: Sound | H62: Medway VI
A63: PIKO | B63: 51596 | C63: E.494 | D63: 91 83 2494 231-0 | E63: gelb | F63: AC | G63: Sound | H63: Medway VI
A64: PIKO | B64: 51597 | C64: BR 388 | D64: 91 57 7388 005-1 | E64: hellblau | F64: DC | H64: CD Cargo (Seite 6) | I64: https://www.piko-shop.de/de/praesenz/search/b_warengruppe_id-20/l-18/o-relevance/p-6/q-BR+146.html
A65: PIKO | B65: 51797 | C65: BR 187 | E65: silber/blau/hellgrün | F65: DC | H65: SNCB
A66: PIKO | B66: 51947 | C66: BR 187 | D66: 91 80 6187 132-6 | E66: rot | F66: DC | H66: DB
A67: PIKO | B67: 51948 | C67: BR 187 | D67: 91 80 6187 | E67: rot | F67: DC | G67: Sound | H67: DB
A68: PIKO | B68: 51949 | C68: BR 187 | D68: 91 80 6187 | E68: rot | F68: AC | G68: Sound | H68: DB
A69: PIKO | B69: 51974 | C69: BR 147 | D69: 91 80 6147 | E69: rot | F69: DC | H69: bwegt DB AG
A70: PIKO | B70: 51975 | C70: BR 147 | D70: 91 80 6147 | E70: rot | F70: DC | G70: Sound | H70: bwegt DB AG
A71: PIKO | B71: 51976 | C71: BR 147 | D71: 91 80 6147 | E71: rot | F71: AC | G71: Sound | H71: bwegt DB AG
A72: PIKO | B72: 51980 | C72: BR 187 | D72: 91 80 6187 100-3 | E72: schwarz | F72: DC | H72: MRCE
A73: PIKO | B73: 51981 | C73: BR 187 | D73: 91 80 6187 100-3 | E73: schwarz | F73: DC | G73: Sound | H73: MRCE
A74: PIKO | B74: 51982 | C74: BR 187 | D74: 91 80 6187 100-3 | E74: schwarz | F74: AC | G74: Sound | H74: MRCE
A75: PIKO | B75: 51983 | C75: BR 187 | D75: 91 80 6187 002-1 | E75: silber/blau/rot | F75: DC | H75: TX Logistik
A76: PIKO | B76: 51984 | C76: BR 187 | D76: 91 80 6187 002-1 | E76: silber/blau/rot | F76: DC | G76: Sound | H76: TX Logistik
A77: PIKO | B77: 51985 | C77: BR 187 | D77: 91 80 6187 002-1 | E77: silber/blau/rot | F77: AC | G77: Sound | H77: TX Logistik
A78: PIKO | B78: 51991 | C78: BR 187 | D78: 91 80 6187 931-1 | E78: blau /silber | F78: AC | G78: Sound | H78: LTE
A80: PIKO | B80: 57133 | C80: BR 146 | D80: 146 556-6 | E80: rot | F80: DC | H80: Startset DB AG
A81: PIKO | B81: 57134 | C81: BR 146 | D81: 146 556-6 | E81: weiss | F81: DC | H81: aus Startset
A82: PIKO | B82: 57180 | C82: BR 185 | D82: 185 516-2 | F82: DC | H82: Startset Connex
A83: PIKO | B83: 57181 | C83: BR 146 | D83: ME146-01 | F83: DC | H83: Startset Metronom
A84: PIKO | B84: 57182 | C84: ES 64 F4-092 | D84: E 189 992-1 | F84: DC | H84: Set Dispolok European Bulls
A85: PIKO | B85: 57184 | C85: Re 482 | D85: 482 028-8 | E85: blau/rot | F85: DC | H85: Startset Cargo Chemoil SBB,
A86: PIKO | B86: 57185 | C86: BR 189 | D86: 189 023-5 | F86: DC | H86: Railion, DC
A87: PIKO | B87: 57186 | C87: BR 146 | D87: ME146-01 | F87: DC | H87: Startset Metronom
A88: PIKO | B88: 57187 | C88: Re 482 | D88: 482 000-7 | F88: DC | H88: Startset Cargo Set
A89: PIKO | B89: 57230 | C89: BR 185 | D89: 185 066-8 | E89: rot | F89: AC | H89: DB
A90: PIKO | B90: 57231 | C90: Re 482 | D90: 482 001-5 | F90: AC | H90: Cargo SBB
A91: PIKO | B91: 57232 | C91: BR 185 | D91: 185-CL 002 | E91: blau/gelb | F91: AC | H91: Connex
A92: PIKO | B92: 57233 | C92: BR 185 | D92: 185-CL 006 | E92: grün/grau | F92: AC | H92: Rail4Chem
A93: PIKO | B93: 57234 | C93: BR 185 | D93: 185-CL 005 | F93: AC | H93: Hoyer
A94: PIKO | B94: 57235 | C94: BR 185 | D94: 185-CL 008 | E94: blau/silber | F94: AC | H94: RAG
A95: PIKO | B95: 57236 | C95: Re 485 | D95: 485 010-3 | E95: grau/hellgrün | F95: AC | H95: BLS
A96: PIKO | B96: 57237 | C96: BR 185 | D96: 185 512-1 | H96: TX Logistik silber/blau
A97: PIKO | B97: 57238 | C97: BR 185 | D97: 185 160-9 | H97: Railion
A98: PIKO | B98: 57239 | C98: BR 185 | D98: 185 528-7 | H98: LTE
A99: PIKO | B99: 57240 | C99: BR 185 | D99: 185 520-4 | E99: blau | H99: CFL, blau
A100: PIKO | B100: 57240 | C100: BR 185 | E100: blau | H100: CFL cargo, blau
A101: PIKO | B101: 57240 | C101: BR 185 | E101: blau | H101: CFL 50 Joer MBM, blau
A102: PIKO | B102: 57240 | C102: BR 185 | D102: 185 520-4 | H102: CFL, SoSe Margots
A103: PIKO | B103: 57240 | C103: BR 185 | D103: 185 541-0 | E103: blau | H103: Metronom, blau
A104: PIKO | B104: 57241 | C104: BR 185 | D104: 185 531-1 | H104: TX Logistik silber
...

Sheet ROCO
A1: Roco Traxx (Spur H0) | G1: =TODAY() -> 46285
A3: Hersteller | B3: Art.Nr.1 | C3: Typ | D3: Betriebsnr. | E3: Farbe | F3: AC/DC | G3: Decoder | H3: Bemerkungen
A6: Roco | B6: 41269 | C6: BR 189 | D6: 189 066-5 | E6: rot | F6: DC | H6: Railon, aus Startset
A7: Roco | B7: 41316 | C7: Re 482 | D7: 482 039-5 | E7: blau/rot | F7: DCC | H7: Set SBB Cargo
A8: Roco | B8: 41324 | C8: BR 185.5 | D8: 185 577-4 | E8: grau/grün | F8: DCC | H8: Startset BLS Cargo
A9: Roco | B9: 41356 | C9: BR 185 | D9: 185 691-3 | F9: DCC | H9: Startset Railpool
A10: Roco | B10: 41514 | C10: BR 145 | D10: 145 076-6 | E10: rot | F10: DCC | G10: Sound | H10: Startset
A11: Roco | B11: 62327 | C11: BR 189 | D11: 189 027-6 | E11: rot | F11: DC | H11: DB, aus Startset
A12: Roco | B12: 62376 | C12: Re 474 | D12: 474 201-1 | E12: blau/rot | F12: DC | H12: Nord Cargo
A13: Roco | B13: 62377 | C13: BR 189 | D13: 91 80 6189 917-8 | E13: Zebra blau | F13: DC | H13: Lokomotion
A14: Roco | B14: 62388 | C14: BR 185.2 | D14: 185 595-6 | E14: rot | F14: DC | H14: Crossrail
A15: Roco | B15: 62389 | C15: Rh 480 | D15: 91 55 0480 001-1 | E15: blau/gelb | F15: DC | H15: MAV
A16: Roco | B16: 62390 | C16: BR 185.5 | D16: 91 80 6185 663-2 | E16: Zebra blau | F16: DC | H16: Lokomotion
A17: Roco | B17: 62423 | C17: BR 189 | D17: 189 996-1 | E17: orange/blau | F17: DC | H17: HUSA
A18: Roco | B18: 62428 | C18: ES 64 F4-996 | D18: 189 096-1 | E18: schwarz/gelb | F18: DC | H18: ACTS
A19: Roco | B19: 62429 | C19: BR 189 | D19: 189 044-1 | E19: rot | F19: DC | H19: DB
A20: Roco | B20: 62430 | C20: ES 64 F4-095 | D20: E 189 995SR | E20: gelb/blau | F20: DC | H20: Cargo (Dispo)
A21: Roco | B21: 62431 | C21: ES 64 F4-020 | D21: 189 920-2 | E21: gelb/bunt | F21: DC | H21: Siemens Dispo
A22: Roco | B22: 62432 | C22: BR 189 | D22: 189 027-6 | E22: rot | F22: DC | H22: Railion
... A24: Roco | B24: 62434 | C24: BR 189 | D24: 189 932-7 | E24: schwarz | F24: DC | H24: Bosphorus
A25: Roco | B25: 62435 | C25: BR 189 | E25: schwarz | F25: DC | H25: PKP
A26: Roco | B26: 62453 | C26: BR 189 | D26: 189 0961 | E26: blau/orange | F26: DC | H26: HUSA
A27: Roco | B27: 62498 | C27: Re 485 | D27: 91 85 4485 003-8 | E27: grau/hellgrün | F27: DC | H27: Die Alpinisten
A28: Roco | B28: 62499 | C28: 4000 | D28: 4006 | E28: grau/dunkelrot | F28: DC | H28: CFL
A29: Roco | B29: 62500 | C29: BR 146 | D29: 146 233-2 | E29: rot | F29: DC | H29: DB Regio
A30: Roco | B30: 62501 | C30: Re 484 | D30: 484 006-2 | E30: blau/rot | F30: DC | H30: SBB Cargo
A31: Roco | B31: 62502 | C31: BR 185 | D31: 185 222-7 | E31: rot | F31: DC | H31: Railion
A32: Roco | B32: 62503 | C32: BR 185.5 | D32: 185 579-0 | E32: grau/rot | F32: DC | H32: Crossrail
A33: Roco | B33: 62504 | C33: Re 185.5 | D33: 185 577-4 | E33: grau/türkis | F33: DC | H33: BLS Cargo
A34: Roco | B34: 62505 | C34: BR 185 | D34: 185 567-5 | E34: schwarz/rot | F34: DC | H34: Crossrail
A35: Roco | B35: 62506 | C35: Re 482 | D35: 482 039-5 | E35: blau/rot | F35: DC | G35: digital | H35: SBB Cargo
A36: Roco | B36: 62507 | C36: BR 185.5 | D36: 91 74 6241 004-9 | E36: grau/orange | F36: DC | H36: Hectorrail
A37: Roco | B37: 62508 | C37: BR 146.5 | D37: 146 521-0 | E37: blau/gelb | F37: DC | H37: Connex
A38: Roco | B38: 62509 | C38: BR 146.5 | D38: 146 538-4 | E38: gelb(blau/weiss | F38: DC | H38: Metronom
A39: Roco | B39: 62510 | C39: BR 185.5 | D39: 91 80 6185 590-7 | E39: grau/rot | F39: DC | H39: Crossrail
A40: Roco | B40: 62511 | C40: BR 185.5 | D40: 91 80 0185 574-1 | E40: schwarz/grün | F40: DC | H40: RTS RailTraction
A41: Roco | B41: 62512 | C41: BR 185.5 | D41: 91 80 6185 581-6 | E41: grau | F41: DC | H41: Ewals
A42: Roco | B42: 62513 | C42: BR 185.5 | D42: 91 80 6185 583-2 | E42: grau/orange | F42: DC | H42: HVLE
A43: Roco | B43: 62528 | C43: BR 185 | D43: 185 523-8 | E43: grau/blau | F43: DC | H43: CFL Cargo
A44: Roco | B44: 62654 | C44: EL 19 | D44: 16 2209 | E44: grau | F44: DC | H44: Cargo Net
A45: Roco | B45: 62688 | C45: BR 189 | D45: 91 80 6189 912-9 | E45: gelb/bunt | F45: DC | H45: The Cream Project
A46: Roco | B46: 62705 | C46: BR 185.5 | D46: 91 80 6185 666-5 | E46: Zebra grau/rot | F46: DC | H46: Lokomotion
A47: Roco | B47: 62707 | C47: BR 185.5 | D47: 185 664 | E47: grau/schwarz/rot | F47: DC | H47: Kombiverkehr
... A60: Roco | B60: 63592 | C60: Re 482 | D60: 482 002-3 | E60: blau/rot | F60: DC | H60: SBB Cargo
A61: Roco | B61: 63592 | C61: Re 484 | D61: 91 85 4484 011-2 | E61: blau/rot | F61: DCC | G61: Sound | H61: SBB Cargo Klima
A62: Roco | B62: 63594 | C62: Re 485 | D62: 485 001-2 | E62: silber/hellgrün/blau | F62: DC | H62: BLS Cargo, Connecting Europe
A63: Roco | B63: 63594.1 | C63: Re 485 | D63: 485 016-0 | E63: silber/hellgrün/blau | F63: DC | H63: BLS Cargo, Connecting Europe, Sonderserie für die Schweiz
A64: Roco | B64: 63594.17 | C64: Re 485 | D64: 485 017-8 | E64: silber/hellgrün/blau | F64: DC | H64: BLS Cargo, Connecting Europe,Sonderserie für die Schweiz, Briefmarke
A65: Roco | B65: 63596 | C65: BR 185 | D65: 185 109-6 | E65: rot | F65: DC | H65: Railion (ev. Serie Zolli-Bolli)
A66: Roco | B66: 63598 | C66: BR 185 | D66: 185-CL 221 | E66: blau/silber | F66: DC | H66: RAG Hafen-Bahn
A67: Roco | B67: 63599 | C67: Re 482 | D67: 482 009-8 | E67: wiss/rot/schwarz | F67: DC | H67: Holcim
A68: Roco | B68: 63663 | C68: BR 189 | D68: 189 040 | E68: rot | F68: DC | H68: DB
A69: Roco | B69: 63664 | C69: ES 64 F4-008 | D69: E 189 908 | E69: rot | F69: DC | H69: ÖBB
A70: Roco | B70: 63664.1 | C70: ES 64 F4-006 | D70: E 189 906 | E70: rot | F70: DC | H70: ÖBB
A71: Roco | B71: 63665 | C71: ES 64 F4-001 | D71: E 189 914 | E71: gelb/grau | F71: DC | H71: Dispolok RTC
A72: Roco | B72: 63666 | C72: Re 474 | D72: 474 014-8 | E72: blau/rot | F72: DC | H72: SBB Cargo
A73: Roco | B73: 63667 | C73: ES 64 F4-014 | D73: E 189 914 | E73: gelb/grau | F73: DC | H73: Dispolok
... A84: Roco | B84: 68434 | C84: BR 189 | D84: 189 932-7 | E84: schwarz | F84: AC | H84: Bosphorus
A85: Roco | B85: 68498 | C85: Re 485 | D85: 91 85 4485 003-8 | E85: grau/hellgrün | F85: AC | G85: Sound | H85: Die Alpinisten
A86: Roco | B86: 68499 | C86: 4000 | D86: 4006 | E86: grau/dunkelrot | F86: AC | H86: CFL
A87: Roco | B87: 68500 | C87: BR 146 | D87: 146 233-2 | E87: rot | F87: AC | H87: DB Regio
A88: Roco | B88: 68501 | C88: Re 484 | D88: 484 006-2 | E88: blau/rot | F88: AC | H88: SBB Cargo
A89: Roco | B89: 68502 | C89: Re 484 | D89: 185 222-7 | E89: rot | F89: AC | G89: Sound | H89: Railion
A90: Roco | B90: 68504 | C90: Re 185.5 | D90: 185 577-4 | E90: grau/türkis | F90: AC | H90: BLS Cargo
A91: Roco | B91: 68505 | C91: BR 185 | D91: 185 567-5 | E91: schwarz/rot | F91: AC | G91: Sound | H91: Crossrail
A92: Roco | B92: 68506 | C92: Re 482 | D92: 482 039-5 | E92: blau/rot | F92: AC | H92: SBB Cargo
A93: Roco | B93: 68528 | C93: BR 185 | D93: 185 523-8 | E93: grau/blau | F93: AC | H93: CFL Cargo
A94: Roco | B94: 68654 | C94: EL 19 | D94: 16 2209 | E94: grau | F94: AC | H94: Cargo Net
A95: Roco | B95: 68688 | C95: BR 189 | D95: 91 80 6189 912-9 | E95: gelb/bunt | F95: AC | H95: The Cream Project
A96: Roco | B96: 68705 | C96: BR 185.5 | D96: 91 80 6185 666-5 | E96: Zebra grau/rot | F96: AC | H96: Lokomotion
A97: Roco | B97: 68707 | C97: BR 185.5 | D97: 185 664 | E97: grau/schwarz/rot | F97: AC | H97: Kombiverkehr
A98: Roco | B98: 68709 | C98: BR 185 | D98: 185 332-1 | E98: rot | F98: AC | G98: Sound | H98: DB Schenker
A99: Roco | B99: 69591 | C99: Re 482 | D99: 482 000-7 | E99: blau/rot | F99: AC | H99: SBB Cargo
A100: Roco | B100: 69594 | C100: Re 485 | D100: 91 85 4485 001-2 | E100: grau/blau/hellgrün | F100: AC | G100: digital | H100: Die Alpinisten
A101: Roco | B101: 69596 | C101: BR 185 | D101: 185 109-6 | E101: rot | F101: AC | G101: Sound | H101: Railion
A102: Roco | B102: 69599 | C102: Re 482 | D102: 482 009-8 | E102: wiss/rot/schwarz | F102: AC | H102: Holcim
A103: Roco | B103: 69663 | C103: BR 189 | D103: 189 040-9 | E103: rot | F103: AC | G103: Sound | H103: Railion
A104: Roco | B104: 69808 | C104: BR 185 | D104: 185 537-8 | E104: silber | F104: AC | H104: TX Logistik
A105: Roco | B105: 69809 | C105: BR 185 | D105: 185 525-3 | E105: grau/blau | F105: AC | H105: BLS Cargo
A106: Roco | B106: 70332 | C106: BR 185 | D106: 185 077-5 | E106: bunt | F106: DC | H106: Stahl auf Stahl
A107: Roco | B107: 70333 | C107: BR 185 | D107: 185 077-5 | E107: bunt | F107: DCC | G107: Sound | H107: Stahl auf Stahl
A108: Roco | B108: 70334 | C108: Re 482 | D108: 482 020-5 | E108: rot/bunt | F108: DC | H108: Cargo, BorderlessSwissQuality
A109: Roco | B109: 70334 | C109: Re 482 | D109: 482 020-5 | E109: rot/bunt | F109: DCC | G109: Sound | H109: Cargo, BorderlessSwissQuality
A110: Roco | B110: 70336 | C110: BR 185 | D110: 91 85 4485 012-9 | E110: grau/hellgrün/bunt | F110: DC | H110: BLS Cargo
A111: Roco | B111: 70337 | C111: BR 185 | D111: 91 85 4485 012-9 | E111: grau/hellgrün/bunt | F111: DCC | G111: Sound | H111: BLS Cargo
A112: Roco | B112: 70464 | C112: E412 | D112: 91 85 2412 013-1 | E112: grau/rot/grün | F112: DC | H112: Mercitalia Rail
A113: Roco | B113: 70465 | C113: E412 | D113: 91 85 2412 013-1 | E113: grau/rot/grün | F113: DCC | G113: Sound | H113: Mercitalia Rail
A114: Roco | B114: 70649 | C114: Re 484 | D114: 484 011-2 | E114: blau/rot | F114: DC | H114: SBB Cargo, Gut fürs Klima
A115: Roco | B115: 70650 | C115: Re 484 | D115: 484 011-2 | E115: blau/rot | F115: DCC | G115: Sound | H115: SBB Cargo, Gut fürs Klima
A116: Roco | B116: 70651 | C116: BR 186 | D116: 91 80 6186 908-6 | E116: silber/hellgün | F116: DC | H116: RALPIN/Ralpiercer resp. SBB Cargo
A117: Roco | B117: 70652 | C117: BR 186 | D117: 91 80 6186 908-6 | E117: silber/hellgün | F117: DC | G117: Sound | H117: RALPIN/Ralpiercer resp. SBB Cargo
A118: Roco | B118: 70653 | C118: BR 186 | D118: 91 84 1186 012-8 | E118: blau/gelb | F118: DC | H118: NS
A119: Roco | B119: 70654 | C119: BR 186 | D119: 91 84 1186 012-8 | E119: blau/gelb | F119: DCC | G119: Sound | H119: NS
A120: Roco | B120: 70692 | C120: BR 189 | D120: 91 80 6189 091-2 | E120: gebl/bunt | F120: DC | H120: RRF
A121: Roco | B121: 70693 | C121: BR 189 | D121: 91 80 6189 091-2 | E121: gebl/bunt | F121: DCC | G121: Sound | H121: RRF
A122: Roco | B122: 70732 | C122: BR 186 | D122: 91 80 6186 906-4 | E122: silber/hellgün | F122: DC | H122: RALPIN /Ralpiercer
A123: Roco | B123: 70733 | C123: BR 186 | D123: 91 80 6186 906-4 | E123: silber/hellgün | F123: DCC | G123: Sound | H123: RALPIN /Ralpiercer
A124: Roco | B124: 71956 | C124: BR 189 | D124: 91 51 5370 011-6 | E124: blau/hellgrün | F124: DC | H124: PKP Cargo
A125: Roco | B125: 71957 | C125: BR 189 | D125: 91 51 5370 011-6 | E125: blau/hellgrün | F125: DCC | G125: Sound | H125: PKP Cargo
A126: Roco | B126: 71981 | C126: BR 186 | D126: 91 80 6186 534-4 | E126: blau/bunt | F126: DC | H126: METRANS
...

Sheet Trix
A1: Trix Traxx (Spur H0) | G1: =TODAY() -> 46285
A3: Hersteller | B3: Art.Nr.1 | C3: Typ | D3: Betriebsnr. | E3: Farbe | F3: AC/DC | G3: Decoder | H3: Bemerkungen
A5: Trix | B5: 21246 | C5: BR 146.1 | D5: ME 146-04 | E5: gelb/blau/weiss | F5: DC | H5: Set Metronom
A6: Trix | B6: 21500 | C6: Re 482 | D6: 482 011-4 | E6: blau/rot | F6: DC | H6: Set SBB Cargo
A7: Trix | B7: 21502 | C7: BR 146 | D7: 146 107-8 | E7: rot | F7: DC | H7: Set DB
A8: Trix | B8: 21503 | C8: BR 185 | D8: 185 052-8 | E8: rot | F8: DC | H8: Set DB
A9: Trix | B9: 21517 | C9: BR 146 | D9: ME 146-18 | E9: gelb/blau/weiss | F9: DC | H9: Startset Metronom
A10: Trix | B10: 21527 | C10: BR 185 | D10: 185 070-0 | E10: rot | F10: DC | H10: Startset DB
A11: Trix | B11: 22073 | C11: BR 185 | D11: 185 545-1 | E11: schwarz | F11: DC | H11: MRCE
A12: Trix | B12: 22076 | C12: BR 185 | D12: 185 CL-002 | E12: schwarz/bunt | F12: DC | H12: Veolia
A13: Trix | B13: 22078 | C13: BR 185 | E13: schwarz/bunt | F13: DC | H13: Superman
A14: Trix | B14: 22083 | C14: BR 185 | D14: 185 CL-003 | E14: blau/gelb | F14: DC | H14: Connex
A15: Trix | B15: 22084 | C15: BR 185 | D15: 185 CL-004 | E15: blau/grau | F15: DC | H15: Hoyer
A16: Trix | B16: 22085 | C16: Re 485 | D16: 485 005-3 | E16: grau/hellgrün | F16: DC | H16: BLS Connecting Europe
A17: Trix | B17: 22086 | C17: BR 185 | D17: 185 CL-004 | E17: blau/grau | F17: DC | H17: Hoyer
A18: Trix | B18: 22089 | C18: BR 185 | D18: 185 542-8 | E18: grün/bunt | F18: DC | H18: R4C European Bulls
A19: Trix | B19: 22090 | C19: BR 185 | D19: 187 108-6 | E19: schwarz | F19: DC | H19: MRCE
A20: Trix | B20: 22091 | C20: BR 185 | D20: 185 538-6 | E20: silber | F20: DC | G20: digital | H20: TX Logistik
A21: Trix | B21: 22093 | C21: BR 185 | D21: 185 528-7 | E21: blau/grau | F21: DC | H21: LTE Angel Trains
A22: Trix | B22: 22164 | C22: BR 186 | D22: 186 009 | E22: gelb/blau | F22: DC | H22: NS Intercity
A23: Trix | B23: 22165 | C23: BR 186 | D23: 186 184-8 | E23: silber | F23: DC | H23: Akiem
A24: Trix | B24: 22279 | C24: BR 187 | D24: 91 60 4187 604-3 | E24: weiss/blau | F24: DC | H24: RailPool BLS Cargo die Alpinisten
A25: Trix | B25: 22378 | C25: BR 189 | D25: 189 05-9 | E25: rot | F25: DC | H25: DB
A26: Trix | B26: 22610 | C26: BR 185 | D26: 91 83 2483 001-1 | E26: blau/gelb | F26: DC | H26: GTX
A27: Trix | B27: 22618 | C27: BR 187 | E27: schwarz | F27: DC | G27: sound | H27: MRCE
A28: Trix | B28: 22610 | C28: E483 | D28: 91 83 2483 001-0 | E28: oliv/bunt | F28: DC | H28: GTS Rail
A29: Trix | B29: 22630 | C29: BR 185.5 | D29: 186 258-1 | E29: rot | F29: DC | H29: DB
A30: Trix | B30: 22632 | C30: BR 146 | D30: 146 245-6 | E30: rot | F30: DC | H30: DB
A31: Trix | B31: 22633 | C31: BR 185.5 | D31: 185 564-2 | E31: schwarz/rot | F31: DC | H31: Crossrail
A32: Trix | B32: 22634 | C32: BR 146 | D32: ME 146-18 | E32: gelb/blau/weiss | F32: DC | H32: Metronom
A33: Trix | B33: 22636 | C33: BR 185.5 | D33: 185 578-2 | E33: grau/rot | F33: DC | G33: digital | H33: Crossrail
A34: Trix | B34: 22639 | C34: BR 185.5 | D34: 185 320-9 | E34: rot | F34: DC | H34: DB
A35: Trix | B35: 22653 | C35: BR 185.2 | D35: 185 578-2 | E35: silber/hellgrün | F35: DC | H35: Captrain
A36: Trix | B36: 22656 | C36: BR 185.2 | D36: 185 327-1 | E36: rot | F36: DC | H36: DB
A37: Trix | B37: 22680 | C37: BR 185.2 | D37: 185 604-6 | E37: rot | F37: DC | H37: HGK
A38: Trix | B38: 22681 | C38: BR 146 | D38: 146 575-6 | E38: rot | F38: DC | H38: DB
A39: Trix | B39: 22761 | C39: BR 185 | D39: 185 099-9 | E39: rot | F39: DC | H39: DB
A40: Trix | B40: 22765 | C40: Re 482 | D40: 482 003-1 | E40: blau/rot | F40: DC | H40: RAG
A41: Trix | B41: 22800 | C41: BR 189 | D41: 189 012-8 | E41: rot | F41: DC | H41: DB
A42: Trix | B42: 22862 | C42: ES 64 F4-213 | D42: E 189-213 | E42: bunt | F42: DC | H42: ERS Linked By Rail
A43: Trix | B43: 25368 | C43: BR 185.2 | D43: 185 2024 | E43: bunt | F43: DC | G43: digital | H43: 2024 Germany
A44: Trix | B44: 25803 | C44: BR 186 | D44: 186 181-4 | E44: weiss/bunt | F44: AC | G44: digital | H44: mfx+ | I44: HSL
A45: Trix | B45: 25804 | C45: BR 186 | D45: 186 310-9 | E45: weiss/gelb | F45: AC | G45: digital | H45: mfx+ | I45: Euro Cargo Rail
A46: Trix | B46: 22864 | C46: ES 64 F4-206 | D46: E 189-206 | E46: bunt | F46: DC | H46: ERS Vincent van Gogh
A47: Trix | B47: 25368 | C47: BR 185.2 | D47: 185 2024 | E47: bunt | F47: DC | G47: sound | H47: Germany 2024
A48: Trix | C48: BR 146 | D48: 146 107-8 | E48: rot | F48: DC | G48: digital | H48: DB
A49: Trix | C49: Re 482 | D49: 482 346-0 | E49: rot/blau | F49: DC | H49: SBB Cargo
B51: ANZAHL: | C51: =COUNTA(C4:C50) -> 45
B55: = verifiziert
A57: * = Betriebsnummern sind relativ, es wurden meistens mehrere Original-Loks umgemalt
A59: Auflistungen sind nach bestem Wissen und Gewissen erstellt. Falls Fehler gefunden werden, bitte melden: | H59: mailto:roland@hausin.com?subject=Angaben/Korrekturen zu H0-Loks
A61: © 2024 Roland Hausin

Sheet Andere
A1: Traxx (Spur H0) Andere Hersteller | G1: =TODAY() -> 46285
A3: Hersteller | B3: Art.Nr.1 | C3: Typ | D3: Betriebsnr. | E3: Farbe | F3: AC/DC | G3: Decoder | H3: Bemerkungen
A5: Electrotren | B5: 3698 | C5: S253 | D5: 253 004-6 | E5: weiss/grau | F5: DC | H5: RENFE
A6: Electrotren | B6: 3698D | C6: S253 | D6: 253 004-6 | E6: weiss/grau | F6: DC | G6: digital | H6: RENFE
A7: Electrotren | B7: 3700 | C7: S253 | D7: 253 001-2 | E7: weiss/grau | F7: DC | H7: RENFE
A8: Electrotren | B8: 3700D | C8: S253 | D8: 253 001-2 | E8: weiss/grau | F8: DC | G8: digital | H8: RENFE
A10: Fleischmann | B10: 15003 | C10: BR 185 | D10: 185 564-2 | E10: schwarz | F10: DC | H10: Set MRCE
A12: LS Models | B12: 14004 | C12: BR 185 | D12: 185 568-3 | E12: grau | F12: DC | H12: Set NS
A13: LS Models | B13: 15003 | C13: BR 185 | D13: 185 564-2 | E13: schwarz | F13: DC | H13: Set MRCE
A15: Railtop | B15: 11001 | C15: Re 484 | D15: 484 015-3 | E15: blau/rot | F15: DC | H15: SBB Cargo
A16: Railtop | B16: 11002 | C16: BR 185 | D16: 185 567-5 | E16: schwarz/rot | F16: DC | H16: Crossrail
A17: Railtop | B17: 11003 | C17: Re 482 | D17: 482 035-3 | E17: blau/rot | F17: DC | H17: SBB Cargo
B20: ANZAHL: | C20: =COUNTA(C4:C19) -> 10
B22: = verifiziert
A24: Auflistungen sind nach bestem Wissen und Gewissen erstellt. Falls Fehler gefunden werden, bitte melden: | G24: mailto:roland@hausin.com?subject=Angaben/Korrekturen zu H0-Loks
A26: © 2024 Roland Hausin
