Workbook

Sheet TOTAL
A1: Anzahl bekannte Triebfahrzeuge in Spur H0 | H1: =TODAY() -> 46285
B4: Total | D4: Original | E4: Custom painted
A6: HAG | B6: =HAG!D116 -> 99 | D6: =HAG!E118 -> 73 | E6: =HAG!E119 -> 26
A7: Liliput | B7: =Liliput!C51 -> 44
A8: Lima | B8: =Lima!C19 -> 12
A9: LS Models | B9: ='LS Models'!C68 -> 60
A10: Märklin | B10: =Märklin!C34 -> 25 | D10: =Märklin!D36 -> 21 | E10: =Märklin!D37 -> 4
A11: Piko | B11: =Piko!C71 -> 65
A12: Rivarossi | B12: =Rivarossi!C10 -> 3
A13: Roco | B13: =ROCO!C57 -> 48
A14: Trix | B14: =Trix!C12 -> 5
A15: Andere | B15: =Andere!C50 -> 31
A17: TOTAL | B17: =SUM(B5:B16) -> 392 | D17: =SUM(D5:D16) -> 94 | E17: =SUM(E5:E16) -> 30
A20: Auflistungen sind nach bestem Wissen und Gewissen erstellt. Falls Fehler gefunden werden, bitte melden: | I20: Mail an Roland Hausin
A22: © 2026 Roland Hausin
A28: Elektrotriebzüge | C28: RABFe 4/8 | E28: FLIRT
C29: RABDe 12/12 | E29: TILO
C30: ETR 470 | E30: GTW 2/6
C31: ETR 610 | E31: GTW 2/8
C32: RAe 4/8 | E32: Giruno
C33: RAe TEE | E33: KISS
C34: RAm TEE | E34: ICN
E35: Mutz
A38: Elektrotriebwagen | C38: RFe 4/4
C39: BDe 4/4
C40: Ce 4/6
C41: De 4/4
C42: RAe 2/4
C43: RBe 4/4
C44: RBDe 4/4

Sheet HAG
A1: HAG Triebwagen und -züge | H1: =TODAY() -> 46285
A3: Hersteller | B3: Art.Nr.1 | C3: Art.Nr.2 | D3: Typ | E3: Betriebsnr. | F3: Farbe | G3: AC/DC | H3: Decoder | I3: Bemerkungen
A5: HAG | B5: 012-01 | C5: 34003 | D5: ABDe 4/8 | E5: 747 | F5: blau/crème | G5: AC/DC | I5: vermutlich nur Prototyp
A6: HAG | B6: 090.01 | D6: BDe 4/4 | E6: 1645 | F6: grün | G6: AC/DC | I6: Grafitti
A7: HAG | B7: 100.01 | D7: RCe 2/4 | E7: 604 | F7: rot | G7: AC/DC | I7: Roter Pfeil | J7: https://trains.wipertech.ch/Trains?CriteriaHAGModellNummer=&CriteriaHAGModellNummerAlt=100&CriteriaFarbe=&CriteriaFZTyp=RC&CriteriaBetriebsnummer=&CriteriaBeschreibung=&CriteriaEVU=
A8: HAG | B8: 100.02 | D8: RCe 2/4 | E8: 604 | F8: rot | G8: AC/DC | I8: Roter Pfeil
A9: HAG | B9: 100.03 | D9: RCe 2/4 | E9: 604 | F9: rot | G9: AC/DC | I9: Roter Pfeil
A10: HAG | B10: 100.04 | D10: RCe 2/4 | E10: 604 | F10: rot | G10: AC/DC | I10: Roter Pfeil, x/3000
A11: HAG | B11: 100.05 | D11: RBe 2/4 | F11: hellblau | G11: AC/DC | I11: OeBB, Blauer Pfeil
A12: HAG | B12: 100.06 | D12: RCe 2/4 | E12: 604 | F12: blau | G12: AC/DC | I12: OeBB, Blauer Pfeil
A13: HAG | B13: 100.07 | D13: RCe 2/4 | E13: 604 | F13: hellblau | G13: AC | I13: OeBB, Blauer Pfeil, x/1
A14: HAG | B14: 100.08 | D14: RCe 2/4 | E14: 604 | F14: blau | G14: AC/DC | I14: OeBB, Blauer Pfeil
A15: HAG | B15: 100.99 | D15: RCe 2/4 | E15: 604 | F15: schwarz | G15: AC | I15: Roter Pfeil, Prototyp, x/1
A16: HAG | B16: 102.01 | D16: RCe 2/4 | E16: 604 | F16: rot | G16: DC | I16: Roter Pfeil, 3-Leiter DC
A17: HAG | B17: 102.02 | D17: RCe 2/4 | E17: 604 | F17: rot | G17: DC | I17: Roter Pfeil, 3-Leiter DC
A18: HAG | B18: 102.03 | D18: RCe 2/4 | E18: 604 | F18: rot | G18: DC | I18: Roter Pfeil, 3-Leiter DC
A19: HAG | B19: 150.01 | D19: BFe 4/4 | E19: 1408 | F19: grün | G19: AC/DC
A20: HAG | B20: 150.01 | D20: BFe 4/4 | E20: 1408 | F20: rot | G20: AC/DC | I20: x/250
A21: HAG | B21: 150.03 | D21: BDe 4/4 | E21: 1408 | F21: grün | G21: AC/DC
A22: HAG | B22: 150.04 | D22: BDe 4/4 | E22: 1408 | F22: grün | G22: AC/DC
A23: HAG | B23: 150.05 | D23: BDe 4/4 | E23: 1408 | F23: rot | G23: AC/DC
A24: HAG | B24: 150.07 | D24: BDe 4/4 | E24: 785 | F24: blau/crème | G24: AC/DC | I24: x/3
A25: HAG | B25: 152.01 | C25: 15004 | D25: BDe 4/4 | E25: 1645 | F25: grün | G25: AC/DC
A26: HAG | B26: 152.04 | D26: BDe 4/4 | E26: 1629 | F26: grün | G26: AC/DC
A27: HAG | B27: 152.07 | D27: BDe 4/4 | E27: 1646 | F27: türkisblau/rot | G27: AC/DC | I27: Prototyp
A28: HAG | B28: 152.08 | C28: 15005 | D28: BDe 4/4 | E28: 1646 | F28: grün | G28: AC/DC
A29: HAG | B29: 154.01 | C29: 15003 | D29: BDe 4/4 | E29: 1640 | F29: grün | G29: AC/DC
A30: HAG | B30: 170.01 | D30: RABDe 12/12 | F30: rot | G30: AC/DC | I30: Relief-Beschriftung | J30: https://trains.wipertech.ch/Trains/Details/1313?setRefferrerUrl=False
A31: HAG | B31: 170.02 | D31: RABDe 12/12 | F31: rot | G31: AC/DC | I31: Siebdruck-Beschriftung | J31: https://trains.wipertech.ch/Trains/Details/1314?setRefferrerUrl=False
A32: HAG | B32: 170.03 | D32: RABDe 12/12 | F32: rot | G32: AC/DC | I32: Siebdruck-Beschriftung | J32: https://trains.wipertech.ch/Trains/Details/1315?setRefferrerUrl=False
A33: HAG | B33: 170.04 | D33: RABDe 12/12 | F33: rot | G33: AC/DC | I33: Relief-Beschriftung, x/10 | J33: https://trains.wipertech.ch/Trains/Details/1316?setRefferrerUrl=False
A34: HAG | B34: 190.01 | D34: BDe 4/4 | F34: grün/crème | G34: AC/DC | I34: BT
A35: HAG | B35: 190.02 | D35: BDe 4/4 | E35: 52 | F35: grün/crème | G35: AC/DC | I35: BT
A36: HAG | B36: 190.03 | D36: BDe 4/4 | E36: 52 | F36: grün/crème | G36: AC/DC | I36: BT
A37: HAG | B37: 250.01 | D37: BDe 4/4 | E37: 1 | F37: rot/hellgrau | G37: AC/DC | I37: WM, Set, 2-teilig
A38: HAG | B38: 250.02 | D38: BDe 4/4 | E38: 1 | F38: rot/hellgrau | G38: AC/DC | I38: WM
A39: HAG | B39: 252.01 | C39: 15007 | D39: BDe 4/4 | E39: 81 | F39: grün/crème | G39: AC/DC | I39: SOB, Set
A40: HAG | B40: 252.03 | D40: BDe 4/4 | E40: 81 | F40: grün/crème | G40: AC/DC | I40: GFM
A41: HAG | B41: 252.04 | D41: ABDe 4/4 | E41: 171 | F41: grün/crème | G41: AC | I41: GFM, x/1
A42: HAG | B42: 260.01 | D42: ABDe 4/4 | E42: 7 | F42: rot | G42: AC/DC | I42: MO, Set
A43: HAG | B43: 260.02 | D43: ABDe 4/4 | E43: 7 | F43: rot | G43: AC/DC | I43: MO
A44: HAG | B44: 294 | C44: 34000 | D44: RABe 526 | E44: 526 758-8 | F44: weiss/grau/schwarz | G44: AC | I44: Thurbo, Prototyp
A45: HAG | B45: 294.01 | C45: 34001 | D45: RABe 526 | E45: 526 758-8 | F45: weiss/schwarz | G45: AC/DC | I45: Thurbo
A46: HAG | B46: 294.02 | C46: 34002 | D46: RABe 526 | E46: 526 260-5 | F46: rot/weiss | G46: AC/DC | I46: BLS, x/200
A47: HAG | B47: 294.03 | C47: 34004 | D47: RABe 526 | E47: 526 728-1 | F47: weiss/schwarz | G47: AC/DC | I47: HAG-Reise 2010, x/30
A48: HAG | B48: 294.04 | C48: 34006 | D48: RABe 526 | E48: 526 750-5 | F48: weiss/schwarz | G48: AC/DC | I48: Thurbo, x/150
A49: HAG | B49: 294.05 | C49: 34005 | D49: RABe 526 | E49: 526 721-6 | F49: weiss/schwarz | G49: AC/DC | I49: TCS, x/70
A50: HAG | B50: 294.06 | C50: 34008 | D50: RABe 526 | E50: 526 265-4 | F50: rot/weiss | G50: AC/DC | I50: BLS, x/150
A51: HAG | B51: 294.07 | C51: 34007 | D51: RABe 526 | E51: 526 723-2 | F51: weiss/schwarz | G51: AC/DC | I51: Thurbo
A52: HAG | B52: 294.08 | C52: 34011 | D52: RABe 526 | E52: 526 706-7 | F52: weiss/schwarz | G52: AC/DC | I52: Thurbo, Simone Niggli
A53: HAG | B53: 294.09 | C53: 34009 | D53: RABe 526 | E53: 526 707-5 | F53: gelb | G53: AC/DC | I53: Radio Tele Top
A54: HAG | B54: 294.1 | C54: 34010 | D54: RABe 526 | E54: 526 725-7 | F54: bunt | G54: AC/DC | I54: Theater St. Gallen, x/100
A55: HAG | C55: 34101 | D55: RABe 526 | E55: 526 706-7 | F55: weiss/schwarz | G55: AC/DC | I55: GTW 2/8, Thurbo
A56: HAG | C56: 34102 | D56: RABe 526 | E56: 526 283-7 | F56: rot/weiss | G56: AC/DC | I56: GTW 2/8, BLS
A57: HAG | C57: 34103 | D57: RABe 526 | E57: 526 770-3 | F57: weiss/schwarz | G57: AC/DC | I57: GTW 2/8, Thurbo Zugkraft Stucki
A59: HAG/Eyro | B59: 152.09 | C59: 1641 | D59: BDe 4/4 | E59: 1641 | F59: grün | G59: AC/DC | I59: DSF
A60: HAG/Eyro | C60: 1645 | D60: BDe 4/4 | E60: 1645 | F60: grün | G60: AC/DC
A62: HAG/Friho | B62: 152 | C62: 3000 | D62: CFe 4/4 | E62: 841 | F62: grün | G62: AC/DC
A63: HAG/Friho | B63: 152 | C63: 3001 | D63: BDe 4/4 | E63: 1649 | F63: grün | G63: AC/DC
A64: HAG/Friho | B64: 152 | C64: 3001L | D64: BDe 4/4 | E64: 1641 | F64: grün | G64: AC/DC
A65: HAG/Friho | B65: 152 | C65: 3003/1 | D65: BDe 4/4 | E65: 1623 | F65: grün | G65: AC/DC
A66: HAG/Friho | B66: 152 | C66: 3003/2 | D66: BDe 4/4 | E66: 1629 | F66: grün | G66: AC/DC
A67: HAG/Friho | B67: 152 | C67: 3003/3 | D67: BDe 4/4 | E67: 1631 | F67: grün | G67: AC/DC
A68: HAG/Friho | B68: 152 | C68: 3004 | D68: BDe 4/4 | E68: 1621 | F68: grün | G68: AC/DC
A69: HAG/Friho | B69: 152.03 | C69: 3005 | D69: BDe 4/4 | E69: 1651 | F69: grün | G69: AC/DC
A70: HAG/Friho | B70: 152 | C70: 3006H | D70: BDe 4/4 | E70: 1643 | F70: grün | G70: AC/DC
A71: HAG/Friho | B71: 152 | C71: 3008 | D71: BDe 4/4 | E71: 641 | F71: grün | G71: AC/DC | I71: OeBB
A72: HAG/Friho | B72: 152.05 | C72: 3009 | D72: BDe 4/4 | E72: 651 | F72: grün | G72: AC/DC | I72: OeBB
A73: HAG/Friho | B73: 152.06 | C73: 15002 | D73: BDe 4/4 | E73: 1646 | F73: türkisblau/rot | G73: AC/DC | I73: Jugendzug, x/54
A74: HAG/Friho | B74: 154.02 | D74: BDe 4/4 | E74: 1639 | F74: grün | G74: AC/DC | I74: x/30
A75: HAG/Friho | B75: 154.03 | C75: 3002F | D75: BDe 4/4 | E75: 1624 | F75: grün | G75: AC/DC | I75: x/15
A76: HAG/Friho | B76: 154.04 | C76: 15001 | D76: BDe 4/4 | E76: 1643 | F76: grün | G76: AC/DC | I76: Wyländerli, x/200
A77: HAG/Friho | B77: 154.05 | D77: BDe 4/4 | E77: 1642 | F77: grün | G77: AC/DC | I77: Wyländerli, x/200
A79: HAG/Waibel | B79: 150.06 | D79: BFe 4/4 | F79: rot | G79: AC/DC | I79: x/10
A80: HAG/Waibel | B80: 150.08 | D80: BFe 4/4 | F80: rot | G80: AC/DC | I80: SiTB
A83: Custom Painted
A85: HAG/SOBA | B85: 100 | D85: RCe 2/4 | E85: 203 | F85: dunkelgrün | G85: AC
A86: HAG/SOBA | B86: 100 | D86: RCe 2/4 | F86: gelb | G86: AC | I86: Käse
A87: HAG/SOBA | B87: 100 | D87: RCe 2/4 | F87: hellblau/weiss | G87: AC | I87: Kambly
A88: HAG/SOBA | B88: 150 | D88: RCe 4/4 | E88: 22 | F88: blau/crème | G88: AC | I88: BLS
A89: HAG/SOBA | B89: 150 | D89: RBe 4/4 | E89: 22 | F89: braun/schwarz | G89: AC | I89: Reisslack-Bemalung
A90: HAG/SOBA | B90: 150 | D90: RBe 4/4 | F90: crème/rot | G90: AC | I90: Reisslack-Bemalung
A91: HAG/SOBA | B91: 150 | D91: RBe 4/4 | E91: 22 | F91: grün/crème | G91: AC | I91: BLS
A92: HAG/SOBA | B92: 150 | D92: RBe 4/4 | E92: 37 | F92: blau/crème | G92: AC | I92: BLS
A93: HAG/SOBA | B93: 150 | D93: RBe 4/4 | E93: 140 | F93: blau/crème | G93: AC | H93: ESU LoPi V5 | I93: BLS
A94: HAG/SOBA | B94: 150 | D94: RCe 2/4 | F94: gelb | G94: AC | I94: Käse
A95: HAG/SOBA | B95: 150 | D95: RBe 4/4 | F95: silber/hellgrün/blau | G95: AC | I95: BLS, Gampel, Nina-Bemalung
A96: HAG/SOBA | B96: 150 | D96: RBe 4/4 | F96: grün | G96: AC | I96: Makies, Babette
A97: HAG/SOBA | B97: 150 | D97: RBe 4/4 | E97: 1408 | F97: rot | G97: AC | I97: EBT SMB VHB
A98: HAG/SOBA | B98: 150 | D98: RBe 4/4 | E98: 1408 | F98: gold/schwarz/weiss | G98: AC | I98: GoldenPass
A99: HAG/SOBA | B99: 150 | D99: RBe 4/4 | F99: blau/crème | G99: AC | I99: Museumsbahn Etzwilen-Singen
A100: HAG/SOBA | B100: 150 | D100: RBe 4/4 | E100: 1291 | F100: rot/weiss | G100: AC | I100: 700 Jahre Schweiz
A102: HAG/Klancnik | B102: 152 | D102: BDe 4/4 | E102: 1645 | F102: weiss/bunt | G102: AC | I102: Knie
A103: HAG/Klancnik | B103: 152 | D103: BDe 4/4 | E103: 1645 | F103: hellbraun | G103: AC | I103: Toblerone
A104: HAG/Klancnik | B104: 152 | D104: BDe 4/4 | E104: 1645 | F104: schwarz/weiss | G104: AC | I104: Zoo Zürich
A105: HAG/Klancnik | B105: 152 | D105: BDe 4/4 | E105: 1645 | F105: schwarz/orange | G105: AC | I105: Zoo Zürich
A107: HAG/Lüthi | B107: 190 | D107: BDe 4/4 | F107: dunkelgrün/beige | G107: AC | I107: MThB
A108: HAG/Lüthi | B108: 190 | D108: BDe 4/4 | F108: rot | G108: AC | I108: SZU
A109: HAG/Lüthi | B109: 190 | D109: BDe 4/4 | F109: beige/dunkelgrün | G109: AC | I109: BT
A110: HAG/Lüthi | B110: 190 | D110: BDe 4/4 | F110: beige/orange | G110: AC | I110: BD-WM
...

Sheet Liliput
A1: Liliput Triebwagen und -züge | G1: =TODAY() -> 46285
A3: Hersteller | B3: Art.Nr.1 | C3: Typ | D3: Betriebsnr. | E3: Farbe | F3: AC/DC | G3: Decoder | H3: Bemerkungen
A5: Liliput | B5: L114404 | C5: RBDe 560 | D5: 560 103-4 | E5: blau/weiss/rot | F5: DC | G5: digital | H5: NPZ Domino, 2-teilig
A6: Liliput | B6: L114404 | C6: RBDe 560 | D6: 560 103-4 | E6: crème/grau/rot | F6: DC | H6: SOB NPZ, Schwyz
A7: Liliput | B7: L114414 | C7: RBDe 560 | D7: 560 634-2 | E7: weiss/violett | F7: DC | H7: MThB NPZ Seehas
A8: Liliput | B8: L114424 | C8: RBDe 560 | D8: 560 400-8 | E8: blau/weiss/gelb | F8: DC | H8: SBB NPZ
A9: Liliput | B9: L114434 | C9: RBDe 4/4 | D9: 560 131-5 | F9: DC | H9: Trains des Vignes
A10: Liliput | B10: L114451 | C10: RBDe 4/4 | D10: 2101 | E10: grün/rot | F10: DC | H10: SBB
A11: Liliput | B11: L114453 | C11: RBDe 4/4 | E11: blau/weiss/gelb | F11: DC | H11: NPZ Domino, 2-teilig, Sempach/Neuenkirch
A12: Liliput | B12: L114456 | C12: RBDe 4/4 | D12: 2101 | E12: grün/rot | F12: AC | H12: SBB
A13: Liliput | B13: L114504 | C13: RBDe 566 | D13: 566 | E13: weiss/grau/rot | F13: DC | H13: SOB NPZ
A14: Liliput/AEMA | B14: L133533 | C14: RABe 515 | D14: 94 85 7515 001-6 | E14: silber/gelb | F14: DC | G14: ESU | H14: Mutz, 4-teilig
A15: Liliput/AEMA | B15: L133573 | C15: RABe 515 | D15: 94 85 7515 001-6 | E15: silber/gelb | F15: DC | G15: ESU | H15: Mutz, 4-teilig
A16: Liliput | B16: L133863 | C16: RABe 521 | D16: 521 017 | E16: gelb/weiss/rot | F16: DC | G16: ESU | H16: Flirt, Muttenz, 4-teilig
A17: Liliput | B17: L133868 | C17: RABe 521 | D17: 521 017 | E17: gelb/weiss/rot | F17: AC | G17: ESU | H17: Flirt, Muttenz, 4-teilig
A18: Liliput | B18: L133920 | C18: RABe 511 | D18: 511 005 | E18: weiss/rot | F18: DC | G18: ESU | H18: KISS ZVV
A19: Liliput | B19: L133924 | C19: RABe 515 | D19: 515 004 | E19: silber/gelb | F19: DC | G19: ESU | H19: BLS
A20: Liliput | B20: L133925 | C20: RABe 511 | D20: 515 030 | E20: weiss/grau/rot | F20: DC | G20: ESU | H20: Regio, 4-teilig
A21: Liliput | B21: L133930 | C21: RABe 511 | D21: 511 005 | E21: weiss/rot | F21: AC | G21: ESU | H21: KISS ZVV
A22: Liliput | B22: L133931 | C22: RABe 515 | D22: 515 511.0 | E22: weiss/grau/rot | F22: DC | G22: ESU | H22: Regio, 4-teilig
A23: Liliput | B23: L133933 | C23: RABe 515 | D23: 515 001 | E23: silber/gelb | F23: DC | G23: ESU | H23: Mutz, 4-teilig, Stadt Bern
A24: Liliput | B24: L133933S | C24: RABe 515 | D24: 515 001 | E24: silber/gelb | F24: DC | G24: Sound | H24: Mutz, 4-teilig, Stadt Bern
A25: Liliput | B25: L133934 | C25: RABe 515 | D25: 515 004 | E25: silber/gelb | F25: AC | G25: ESU | H25: Mutz, 4-teilig
... A29: Liliput | B29: L133937S | C29: RABe 515 | D29: 515 001 | E29: silber/gelb | F29: AC | G29: Sound | H29: Mutz, 4-teilig
A30: Liliput | B30: L133939 | C30: RABe 515 | D30: 515 | E30: schwarz/gelb/rot | F30: AC | G30: ESU | H30: Mutz, 4-teilig
A31: Liliput | B31: L133939S | C31: RABe 515 | D31: 515 | E31: schwarz/gelb/rot | F31: AC | G31: ESU | H31: Mutz, 4-teilig
A32: Liliput | B32: L133940 | C32: RABe 521 | E32: weiss/schwarz/rot | F32: DC | H32: NPZ Domino, 3-teilig
A33: Liliput | B33: L133941 | C33: RBDe 560 | E33: weiss/schwarz/rot | F33: DC | G33: digital | H33: NPZ Glarner Sprinter
A34: Liliput | B34: L133942 | C34: RABe 521 | E34: weiss/schwarz/rot | F34: DC | H34: NPZ Domino, 3-teilig, Regio Alpes
A35: Liliput | B35: L133951 | C35: RBDe 560 | E35: weiss/schwarz/rot | F35: AC | G35: digital | H35: NPZ Glarner Sprinter
A36: Liliput | B36: L133973 | C36: RABe 521 | E36: weiss/hellblau/rot | F36: DC | H36: Flirt, BLB, 3-teilig
A37: Liliput | B37: L133978 | C37: RABe 521 | D37: 521 026-4 | E37: weiss/rot | F37: DC | H37: Flirt, 4-teilig
A38: Liliput | B38: L133978-1 | C38: RABe 521 | D38: 521 026-4 | E38: weiss/rot | F38: DC | H38: Flirt, 4-teilig, mit 3-Länderherzen
A39: Liliput | B39: L133980 | C39: RABe 521 | D39: 521 026-4 | E39: weiss/rot | F39: AC | G39: ESU | H39: Flirt
A40: Liliput | B40: L133981 | C40: RABe 521 | E40: grau/weiss | F40: DC | G40: ESU | H40: Flirt Eurobahn RXX
A41: Liliput | B41: L133982 | C41: RABe 521 | D41: 521 026-4 | E41: weiss/rot | F41: AC | G41: ESU | H41: Flirt
A42: Liliput | B42: L133984 | C42: RABe 524 | D42: 524 015 | E42: weiss/rot/bunt | F42: AC | G42: ESU | H42: Tilo/FLIRT, 4-teilig
A43: Liliput | B43: L133985 | C43: RABe 521 | E43: blau/grau/gelb | F43: DCC | G43: ESU | H43: Flirt Cantus Bahn, 4-teilig
A44: Liliput | B44: L133989 | C44: RABe 521 | D44: 521 026-4 | E44: grau/weiss | F44: DC | G44: ESU | H44: Flirt Eurobahn RXX
A45: Liliput | B45: L133990 | C45: RABe 521 | D45: 521 010-9 | E45: weiss/rot | F45: DC | H45: Flirt Lausanne
A46: Liliput | B46: L133991 | C46: RABe 523 | D46: 521 004-0 | E46: weiss/rot | F46: DC | H46: Flirt
A47: Liliput | B47: L133993 | C47: RABe 523 | D47: 523 021-9 | E47: weiss/rot | F47: DC | G47: ESU | H47: Flirt La Veveyse
A48: Liliput | C48: RABe 522 | D48: 522 210 | E48: weiss/rot | F48: DC | G48: ESU | H48: Flirt France
B51: ANZAHL: | C51: =COUNTA(C4:C50) -> 44
A55: Auflistungen sind nach bestem Wissen und Gewissen erstellt. Falls Fehler gefunden werden, bitte melden: | H55: Mail an Roland Hausin
A57: © 2025 Roland Hausin

Sheet Lima
A1: Lima Triebwagen und -züge | G1: =TODAY() -> 46285
A3: Hersteller | B3: Art.Nr.1 | C3: Typ | D3: Betriebsnr. | E3: Farbe | F3: AC/DC | G3: Decoder | H3: Bemerkungen
A5: Lima | B5: 149813 | C5: RABe | E5: grau | F5: DC | H5: Graue Maus, 6-teilig
A6: Lima | B6: 208031 | C6: RBe 4/4 | D6: 1410 | E6: grün | F6: DC
A7: Lima | B7: 208031 | C7: RBe 4/4 | D7: 1435 | E7: grün | F7: DC
A8: Lima | B8: 208202ACP | C8: RBe 4/4 | D8: 1452 | E8: blau/weiss/rot | F8: AC
A9: Lima | B9: 28510 | C9: RBe 4/4 | D9: 540-55-1 | E9: blau/weiss/rot | F9: DC | H9: NPZ mit gelben Türen
A10: Lima | B10: HL1651 | C10: RABe 503 | D10: 610 013 | E10: weiss/hellgrün/gelb/blau | F10: DC | H10: ETR 610
A11: Lima | B11: HL1660 | C11: ETR 610.10 | D11: 610 010 | E11: weiss/rot/bunt | F11: DC | G11: ja | H11: ICN
A12: Lima | B12: HL1671 | C12: RABe 503 | D12: 503 | E12: weiss/rot/bunt | F12: DC | H12: ETR 610
A13: Lima | B13: HL1680 | C13: RABe 523 | D13: 503 018 | E13: weiss/rot/bunt | F13: DC | H13: Astoro Zürich - München
A14: Lima | B14: L149719 | C14: ETR 470 | E14: grau | F14: DC | H14: Cisalpino
A15: Lima | B15: L149812 | C15: RAe TEE II | E15: crème/rot | F15: AC | H15: Cisalpin Gottardo
A16: Lima | B16: L149940 | C16: ETR 470 | E16: grau | F16: DC | H16: Cisalpino
B19: ANZAHL: | C19: =COUNTA(C4:C18) -> 12
A23: Auflistungen sind nach bestem Wissen und Gewissen erstellt. Falls Fehler gefunden werden, bitte melden: | H23: Mail an Roland Hausin
A25: © 2025 Roland Hausin

Sheet LS Models
A1: Triebwagen und -züge LS Models | G1: =TODAY() -> 46285
A3: Hersteller | B3: Art.Nr.1 | C3: Typ | D3: Betriebsnr. | E3: Farbe | F3: AC/DC | G3: Decoder | H3: Bemerkungen
A5: LS Models | B5: 17045 | C5: RBe 4/4 | D5: 1402 | E5: grün | F5: DC
A6: LS Models | B6: 17045S | C6: RBe 4/4 | D6: 1402 | E6: grün | F6: DCC | G6: Sound
A7: LS Models | B7: 17048 | C7: RBe 4/4 | D7: 1405 | E7: grün | F7: DC | H7: rote Fronten
A8: LS Models | B8: 17048S | C8: RBe 4/4 | D8: 1405 | E8: grün | F8: DCC | G8: Sound | H8: rote Fronten
A9: LS Models | B9: 17049 | C9: RBe 4/4 | D9: 1404 | E9: grün | F9: DC | H9: rote Fronten
A10: LS Models | B10: 17049S | C10: RBe 4/4 | D10: 1404 | E10: grün | F10: DCC | G10: Sound | H10: rote Fronten
A11: LS Models | B11: 17051 | C11: RBe 4/4 | D11: 1436 | E11: grün | F11: DC | H11: alte Beschriftung
A12: LS Models | B12: 17051S | C12: RBe 4/4 | D12: 1436 | E12: grün | F12: DCC | G12: Sound | H12: alte Beschriftung
A13: LS Models | B13: 17052 | C13: RBe 4/4 | D13: 1470 | E13: grün | F13: DC | H13: rote Fronten
A14: LS Models | B14: 17052S | C14: RBe 4/4 | D14: 1470 | E14: grün | F14: DCC | G14: Sound | H14: rote Fronten
A15: LS Models | B15: 17053 | C15: RBe 4/4 | D15: 1467 | E15: grün | F15: DC | H15: alte Beschriftung
A16: LS Models | B16: 17053S | C16: RBe 4/4 | D16: 1467 | E16: grün | F16: DCC | G16: Sound | H16: alte Beschriftung
A17: LS Models | B17: 17054 | C17: RBe 4/4 | D17: 1407 | E17: grün | F17: DC | H17: rote Fronten
A18: LS Models | B18: 17054S | C18: RBe 4/4 | D18: 1407 | E18: grün | F18: DCC | G18: Sound | H18: rote Fronten
A19: LS Models | B19: 17055 | C19: RBe 4/4 | D19: 1461 | E19: grün | F19: DC | H19: neue Beschriftung
A20: LS Models | B20: 17055S | C20: RBe 4/4 | D20: 1461 | E20: grün | F20: DCC | G20: Sound | H20: neue Beschriftung
A21: LS Models | B21: 17056 | C21: RBe 4/4 | D21: 1431 | E21: grün | F21: DC | H21: rote Fronten
A22: LS Models | B22: 17056S | C22: RBe 4/4 | D22: 1431 | E22: grün | F22: DCC | G22: Sound | H22: rote Fronten
A23: LS Models | B23: 17057 | C23: RBe 540 | D23: 540 021 | E23: blau/weiss/rot | F23: DC
A24: LS Models | B24: 17057S | C24: RBe 540 | D24: 540 021 | E24: blau/weiss/rot | F24: DCC | G24: Sound
A25: LS Models | B25: 17058 | C25: RBe 540 | D25: 540 039 | E25: blau/weiss/rot | F25: DC
A26: LS Models | B26: 17058S | C26: RBe 540 | D26: 540 039 | E26: blau/weiss/rot | F26: DCC | G26: Sound
A27: LS Models | B27: 17059 | C27: RBe 4/4 | D27: 1427 | E27: grün | F27: DC | H27: altes Logo
A28: LS Models | B28: 17059S | C28: RBe 4/4 | D28: 1427 | E28: grün | F28: DCC | G28: Sound | H28: altes Logo
A29: LS Models | B29: 17200AC | C29: RABe 525 | E29: weiss/rot | F29: AC | G29: digital | H29: Region Alps NINA 3-teilig
A30: LS Models | B30: 17200ACS | C30: RABe 525 | E30: weiss/rot | F30: AC | G30: Sound | H30: Region Alps NINA 3-teilig
A31: LS Models | B31: 17200DC | C31: RABe 525 | E31: weiss/rot | F31: DC | G31: digital | H31: Region Alps NINA 3-teilig
A32: LS Models | B32: 17200DCS | C32: RABe 525 | E32: weiss/rot | F32: DC | G32: Sound | H32: Region Alps NINA 3-teilig
A33: LS Models | B33: 17201AC | C33: RABe 525 | E33: gelb | F33: AC | G33: digital | H33: BLS NINA 3-teilig
A34: LS Models | B34: 17201ACS | C34: RABe 525 | E34: gelb | F34: AC | G34: Sound | H34: BLS NINA 3-teilig
A35: LS Models | B35: 17201DC | C35: RABe 525 | E35: gelb | F35: DC | G35: digital | H35: BLS NINA 3-teilig
A36: LS Models | B36: 17201DCS | C36: RABe 525 | E36: gelb | F36: DC | G36: Sound | H36: BLS NINA 3-teilig
A37: LS Models | B37: 17203AC | C37: RABe 525 | E37: weiss/rot | F37: AC | G37: digital | H37: BLS NINA Westside 3-teilig
A38: LS Models | B38: 17203ACS | C38: RABe 525 | E38: weiss/rot | F38: AC | G38: Sound | H38: BLS NINA Westside 3-teilig
A39: LS Models | B39: 17203DC | C39: RABe 525 | E39: weiss/rot | F39: DC | G39: digital | H39: BLS NINA Westside 3-teilig
A40: LS Models | B40: 17203DCS | C40: RABe 525 | E40: weiss/rot | F40: DC | G40: Sound | H40: BLS NINA Westside 3-teilig
A41: LS Models | B41: 17545 | C41: RBe 4/4 | D41: 1402 | E41: grün | F41: AC
A42: LS Models | B42: 17545S | C42: RBe 4/4 | D42: 1402 | E42: grün | F42: AC | G42: Sound
A43: LS Models | B43: 17548 | C43: RBe 4/4 | D43: 1405 | E43: grün | F43: AC | H43: rote Fronten
A44: LS Models | B44: 17548S | C44: RBe 4/4 | D44: 1405 | E44: grün | F44: AC | G44: Sound | H44: rote Fronten
A45: LS Models | B45: 17549 | C45: RBe 4/4 | D45: 1404 | E45: grün | F45: AC | H45: rote Fronten
A46: LS Models | B46: 17549S | C46: RBe 4/4 | D46: 1404 | E46: grün | F46: AC | G46: Sound | H46: rote Fronten
A47: LS Models | B47: 17551 | C47: RBe 4/4 | D47: 1436 | E47: grün | F47: AC | H47: alte Beschriftung
A48: LS Models | B48: 17551S | C48: RBe 4/4 | D48: 1436 | E48: grün | F48: AC | G48: Sound | H48: alte Beschriftung
A49: LS Models | B49: 17552 | C49: RBe 4/4 | D49: 1470 | E49: grün | F49: AC | H49: rote Fronten
A50: LS Models | B50: 17552S | C50: RBe 4/4 | D50: 1470 | E50: grün | F50: AC | G50: Sound | H50: rote Fronten
A51: LS Models | B51: 17553 | C51: RBe 4/4 | D51: 1467 | E51: grün | F51: AC | H51: alte Beschriftung
A52: LS Models | B52: 17553S | C52: RBe 4/4 | D52: 1467 | E52: grün | F52: AC | G52: Sound | H52: alte Beschriftung
A53: LS Models | B53: 17554 | C53: RBe 4/4 | D53: 1407 | E53: grün | F53: AC | H53: rote Fronten
A54: LS Models | B54: 17554S | C54: RBe 4/4 | D54: 1407 | E54: grün | F54: AC | G54: Sound | H54: rote Fronten
A55: LS Models | B55: 17555 | C55: RBe 4/4 | D55: 1461 | E55: grün | F55: AC | H55: neue Beschriftung
A56: LS Models | B56: 17555S | C56: RBe 4/4 | D56: 1461 | E56: grün | F56: AC | G56: Sound | H56: neue Beschriftung
A57: LS Models | B57: 17556 | C57: RBe 4/4 | D57: 1431 | E57: grün | F57: AC | H57: rote Fronten
A58: LS Models | B58: 17556S | C58: RBe 4/4 | D58: 1431 | E58: grün | F58: AC | G58: Sound | H58: rote Fronten
A59: LS Models | B59: 17557 | C59: RBe 540 | D59: 540 021 | E59: blau/weiss/rot | F59: AC
A60: LS Models | B60: 17557S | C60: RBe 540 | D60: 540 021 | E60: blau/weiss/rot | F60: AC | G60: Sound
A61: LS Models | B61: 17558 | C61: RBe 540 | D61: 540 039 | E61: blau/weiss/rot | F61: AC
A62: LS Models | B62: 17558S | C62: RBe 540 | D62: 540 039 | E62: blau/weiss/rot | F62: AC | G62: Sound
A63: LS Models | B63: 17559 | C63: RBe 4/4 | D63: 1427 | E63: grün | F63: AC | H63: altes Logo
A64: LS Models | B64: 17559S | C64: RBe 4/4 | D64: 1427 | E64: grün | F64: AC | G64: Sound | H64: altes Logo
B68: ANZAHL: | C68: =COUNTA(C4:C67) -> 60
A72: Auflistungen sind nach bestem Wissen und Gewissen erstellt. Falls Fehler gefunden werden, bitte melden: | H72: Mail an Roland Hausin
A74: © 2025 Roland Hausin

Sheet Märklin
A1: Märklin Triebwagen und -züge | H1: =TODAY() -> 46285
A3: Hersteller | B3: Art.Nr.1 | C3: Typ | D3: Betriebsnr. | E3: Farbe | F3: AC/DC | G3: Decoder | H3: Bemerkungen | I3: Bemerkungen 2
A5: Märklin | B5: 3070 | C5: RAm | E5: rot/crème | F5: AC | H5: TEE
A6: Märklin | B6: 3071 | C6: RAm | E6: rot/crème | F6: AC | H6: TEE
A7: Märklin | B7: 3125 | C7: RCe 2/4 | D7: 203 | E7: hellrot | F7: AC | H7: Roter Pfeil
A8: Märklin | B8: 3126 | C8: RCe 2/4 | D8: 203 | E8: hellrot | F8: AC | G8: mfx | H8: Roter Pfeil
A9: Märklin | B9: 3127 | C9: RBe 2/4 | D9: 202 | E9: blau | F9: AC | G9: mfx | H9: Blauer Pfeil, OeBB
A10: Märklin | B10: 3371 | C10: ICE | E10: grau | F10: AC | G10: mfx+ | H10: 4-teilig
A11: Märklin | B11: 3471 | C11: RAm | E11: rot/crème | F11: AC | H11: TEE
A12: Märklin | B12: 3605 | C12: RBe 2/4 | D12: 203 | E12: hellrot | F12: AC | G12: mfx | H12: Roter Pfeil
A13: Märklin | B13: 33701 | C13: ICE 1 | E13: grau | F13: AC | G13: Delta | H13: 4-teilig
A14: Märklin | B14: 33712 | C14: ICE 2, BR 402 | E14: grau | F14: AC | G14: mfx+ | H14: ICE 2
A15: Märklin | B15: 33865 | C15: RBe 2/4 | D15: 605 | E15: dunkelrot | F15: AC | G15: mfx | H15: Roter Pfeil mit Anhänger
A16: Märklin | B16: 37789 | C16: ICE 3 | E16: blau | F16: AC | G16: mfx+ | H16: ICE 3, 3-teilig
A17: Märklin | B17: 37865 | C17: RBe 2/4 | D17: 1004 | E17: rot | F17: AC | G17: mfx | H17: Roter Pfeil
A18: Märklin | B18: 37869 | C18: RCe 2/4 | D18: 604 | E18: dunkelrot | F18: AC | G18: mfx | H18: Roter Pfeil mit Anhänger
A19: Märklin | B19: 38860 | C19: RCe 2/4 | E19: dunkelrot | F19: AC | G19: mfx | H19: Roter Pfeil OeBB
A20: Märklin | B20: 39260 | C20: RAe 4/8 | E20: rot | F20: AC | G20: mfx+ | H20: Churchill-Pfeil
A21: Märklin | B21: 39540 | C21: RAe TEE II | E21: rot/crème | F21: AC | G21: mfx+ | H21: Gottardo
A22: Märklin | B22: 39700 | C22: RAm | D22: 501 | E22: rot/crème | F22: AC | G22: mfx+ | H22: TEE Edelweiss | I22: C-Sinus
A23: Märklin | B23: 39706 | C23: RAm | E23: rot/crème | F23: AC | G23: mfx+ | H23: TEE Edelweiss
A24: Märklin | B24: 39810 | C24: RABe 501 | E24: weiss/rot/schwarz | F24: AC | G24: mfx+ | H24: Giruno
A25: Märklin | B25: 39811 | C25: RABe 501 | E25: weiss/rot/schwarz | F25: AC | G25: mfx+ | H25: Giruno, 7-teilig
A27: Custom painted
A29: Märklin/New-Lok-Design | B29: 3071 | C29: RAm | E29: blau | F29: AC | H29: TEE (Sternenhimmel)
A30: Märklin/New-Lok-Design | B30: 3370 | C30: ICE | D30: 401 102 | E30: rot | F30: AC | H30: SBB Triebwagenzug
A31: Märklin/New-Lok-Design | B31: 3370 | C31: ICE | D31: 401 102 | E31: violett/weiss | F31: AC | H31: Milka
A32: Märklin/New-Lok-Design | B32: 36712 | C32: ICE | E32: blau/bunt | F32: AC | H32: Nachtexpress
B34: TOTAL: | C34: =COUNTA(C4:C33) -> 25
B36: original | D36: =COUNTA(C4:C26) -> 21
B37: custom painted | D37: =COUNTA(C27:C33) -> 4
B39: = verifiziert
A41: Auflistungen sind nach bestem Wissen und Gewissen erstellt. Falls Fehler gefunden werden, bitte melden: | H41: Mail an Roland Hausin
A43: © 2025 Roland Hausin

Sheet Messing
A1: Messing Triebwagen und -züge | G1: =TODAY() -> 46285
A3: Hersteller | B3: Art.Nr.1 | C3: Typ | D3: Betriebsnr. | E3: Farbe | F3: AC/DC | G3: Decoder | H3: Bemerkungen
A5: Fulgurex | B5: 2063 | C5: Be 4/6 | D5: 1602 | E5: grün | F5: DC
A6: Fulgurex | B6: 2063 | C6: Be 4/6 | D6: 1603 | E6: grün | F6: DC
A7: Fulgurex | B7: 2080 | C7: CFe 2/6 | D7: 785 | E7: grün | F7: DC | H7: BLS
A8: Fulgurex | B8: 2083 | C8: RBe 2/4 | D8: 1001 | E8: rot | F8: DC | H8: Roter Pfeil
A9: Fulgurex | B9: 2088 | C9: RBe 2/4 | D9: 1003 | E9: rot | F9: DC | H9: Roter Pfeil
A10: Fulgurex | C10: RAe 4/8 | D10: 1021 | E10: rot | F10: DC | H10: Churchill-Pfeil
A11: Fulgurex | B11: 2101 | C11: RABDe 6/12 | E11: rot | F11: DC | H11: Mirage
A12: Fulgurex | B12: 2267 | C12: RBe 2/4 | D12: 701 | E12: grün | F12: DC | H12: Jura-Pfeil
A13: Fulgurex | B13: 2268 | C13: Fe 4/4 | D13: 18512 | E13: grün | F13: DC | H13: SBB | I13: http://www.fulgurex.ch/modelle/h0/ae66/ae66-01.html
A14: Fulgurex | B14: 2267/1 | C14: RBe 2/4 | D14: 621 | E14: grün | F14: DC | H14: Jura-Pfeil, 1954
A15: Fulgurex | B15: 2267/2 | C15: RBe 2/4 | D15: 621 | E15: grün | F15: DC | H15: Jura-Pfeil, 1957
A16: Fulgurex | B16: 2267/3 | C16: RBe 2/4 | D16: 1010 | E16: grün | F16: DC | H16: Jura-Pfeil, 1970
A17: Fulgurex | B17: 2268/1 | C17: Fe 4/4 | D17: 813 | E17: grün | F17: DC | H17: BT | I17: http://www.fulgurex.ch/catalogue/catalogue2012-2013.pdf
A18: Fulgurex | B18: 2268/2 | C18: De 4/4 | D18: 1679 | E18: grün | F18: DC | H18: SBB | I18: http://www.fulgurex.ch/bulletindereservation/2252-dt.pdf
A19: Fulgurex | B19: 2268/3 | C19: De 4/4 | D19: 18517 | E19: blau/weiss | F19: DC | H19: Arbeiter Pullmann
A20: Fulgurex | B20: 2268/3a | C20: De 4/4 | D20: 18518 | E20: blau/weiss | F20: DC | H20: Arbeiter Pullmann
A21: Fulgurex | B21: 2268/4 | C21: De 4/4 | D21: 804 | E21: rot/braun | F21: DC | H21: Seetaler
A22: Fulgurex | B22: 2268/5 | C22: De 4/4 | D22: 1662 | E22: rot/braun | F22: DC | H22: Seetaler
A23: Fulgurex | B23: 2268/6 | C23: De 4/4 | D23: 831 | E23: grün | F23: DC | H23: Le Brassus
A24: Fulgurex | C24: Ce 4/6 | D24: 9801 | E24: grün | F24: DC | H24: SBB
A25: Fulgurex/Scholz | C25: CFe 2/6 | D25: 786 | E25: grün | F25: DC | H25: BLS
A27: HRF | B27: 1604 | C27: RFe 4/4 | D27: 602 | E27: grün | F27: DC
A28: HRF | B28: 1607-3 | C28: BDe 4/4 | D28: 1645 | E28: grün | F28: DC | H28: altes Logo
A29: HRF | B29: 1607-4 | C29: BDe 4/4 | D29: 1632 | E29: grün | F29: DC | H29: neues Logo
A30: HRF | B30: 1661-3 | C30: ABDe 4/8 | D30: 752 | E30: blau/crème | F30: DC
A31: HRF | B31: 1665-1 | C31: ABDe 4/8 | D31: 749 | E31: blau/crème | F31: DC | H31: 2-teilig
A32: HRF | B32: 1665-2 | C32: ABDe 4/8 | D32: 750 | E32: blau/crème | F32: DC | H32: 2-teilig
A33: HRF | B33: 1666-1 | C33: ABDe 4/8 | D33: 749 | E33: blau/crème | F33: DC | H33: 3-teilig
A34: HRF | B34: 1666-2 | C34: ABDe 4/8 | D34: 750 | E34: blau/crème | F34: DC | H34: 3-teilig
A36: Lemaco | B36: H0-010 | C36: RABDe 12/12 | D36: 1117 | E36: rot | F36: DC | H36: Mirage
A37: Lemaco | C37: RAm | D37: 502 | E37: rot/crème | F37: DC | H37: TEE
A39: Loki-Spengler | C39: CFe 2/6 | D39: 784 | E39: grün | F39: DC | H39: BLS
A41: Metropolitan | B41: 670 | C41: CFe 2/6 | D41: 784 | E41: grün | F41: DC | H41: BLS, Halbesel
A42: Metropolitan | B42: 685 | C42: BZFZe 4/6 | D42: 731 | E42: blau/weiss | F42: DC
A43: Metropolitan | B43: 686 | C43: Ce 2/4 | D43: 787 | E43: blau/weiss | F43: DC | H43: BN, Blauer Pfeil
A44: Metropolitan | B44: 695 | C44: Fe 4/5 | D44: 786 | E44: grün | F44: DC
A45: Metropolitan | B45: 707 | C45: CFe 4/5 | D45: 723 | E45: rot/weiss | F45: DC | H45: BN
A46: Metropolitan | B46: 730 | C46: De 4/4 | D46: 730 | E46: grün | F46: DC
A47: Metropolitan | B47: 730 | C47: De 4/4 | D47: 1680 | E47: grün | F47: DC | H47: SBB
A48: Metropolitan | B48: 746 | C48: Ce 4/6 | D48: 9801 | E48: grün | F48: DC | H48: SBB
A49: Metropolitan | B49: 749 | C49: BDe 4/4 | D49: 1623 | E49: grün | F49: DC
A50: Metropolitan | B50: 750 | C50: De 4/4 | D50: 1683 | E50: grün | F50: DC | H50: SBB
A51: Metropolitan | B51: 773 | C51: De 4/4 | D51: 1669 | E51: rot | F51: DC | H51: neue Form
A52: Metropolitan | B52: 775 | C52: Fe 4/4 | D52: 18518 | E52: blau/weiss | F52: DC | H52: SBB, Arbeiter-Pullmann
A53: Metropolitan | B53: 784 | C53: CFe 2/6 | E53: braun/grün | F53: DC | H53: BLS, Halbesel
A54: Metropolitan | B54: 7200 | C54: RAe | D54: 1051-1054 | E54: rot/crème | F54: DC | H54: TEE, 6-teilig, x/100
A55: Metropolitan | B55: 758B | C55: RAe 4/8 | D55: 661 | E55: rot | F55: DC
A56: Metropolitan | B56: 7200 P | C56: RAe | D56: 1051-1054 | E56: rot/crème | F56: DC | H56: TEE, 6-teilig, mit 100 Personen, x/900
A57: Metropolitan | B57: 733a | C57: De 4/4 | D57: 1670 | E57: rot | F57: DC | H57: neue Form
A58: Metropolitan | C58: De 4/4 | D58: 1669 | E58: grün | F58: DC | H58: neue Form
A60: Morep/mtr | B60: 27 D 29 | C60: RAe 4/8 | E60: hellrot | F60: AC | G60: digital
A61: Morep/mtr | B61: 27 G 70 | C61: RAe 4/8 | D61: 301 | E61: dunkelrot | F61: DC
A62: Morep/mtr | B62: 27 D MThB | C62: RAe 4/8 | D62: 1021 | E62: hellrot | F62: AC | H62: MThB
A63: Morep/mtr | B63: 27 W 70 | C63: RAe 4/8 | D63: 301 | E63: hellrot | F63: AC
A64: Morep/mtr | B64: 27 W 70 | C64: RAe 4/8 | D64: 1021 | E64: dunkelrot | F64: AC
A65: Morep/mtr | B65: 27 W 70 | C65: RAe 4/8 | D65: 1021 | E65: hellrot | F65: AC
A67: Sigg | B67: 2011 | C67: RBe 2/4 | D67: 1010 | E67: rot | F67: DC | H67: Jura-Pfeil
A68: Sigg | C68: RFe 4/4 | D68: 601 | E68: grün | F68: DC
A69: Sigg | C69: De 4/4 | D69: 22 | E69: dunkelrot | F69: DC | G69: LoPi 4
B71: TOTAL: | C71: =COUNTA(C4:C70) -> 59
B75: = verifiziert
A77: Auflistungen sind nach bestem Wissen und Gewissen erstellt. Falls Fehler gefunden werden, bitte melden: | G77: Mail an Roland Hausin
A79: © 2025 Roland Hausin

Sheet Piko
A1: PIKO Triebwagen und -züge | H1: =TODAY() -> 46285
A3: Hersteller | B3: Art.Nr.1 | C3: Typ | D3: Betriebsnr. | E3: Farbe | F3: AC/DC | G3: Decoder | H3: Bemerkungen | I3: Bemerkungen 2
A5: Piko | B5: 27503 | C5: RABe 526 | D5: 526 733-1 | E5: bunt | F5: DC | H5: GTW 2/6, Thurbo
A6: Piko | B6: 27504 | C6: RABe 526 | D6: 526 733-1 | E6: bunt | F6: DCC | G6: Sound | H6: GTW 2/6, Thurbo
A7: Piko | B7: 27505 | C7: RABe 526 | D7: 526 733-1 | E7: bunt | F7: AC | G7: Sound | H7: GTW 2/6, Thurbo
A8: Piko | B8: 27506 | C8: RABe 526 | D8: 526 260-5 | E8: rot | F8: DC | H8: GTW 2/6, BLS Luzerner Hinterland
A9: Piko | B9: 27507 | C9: RABe 526 | D9: 526 260-5 | E9: rot | F9: DCC | G9: Sound | H9: GTW 2/6, BLS Luzerner Hinterland
A10: Piko | B10: 27508 | C10: RABe 526 | D10: 526 733-1 | E10: bunt | F10: AC | G10: Sound | H10: GTW 2/6, BLS Luzerner Hinterland
A11: Piko | B11: 51404 | C11: BR 412 | E11: bunt | F11: DC | H11: ICE 4
A12: Piko | B12: 59038 | C12: GTW 2/6 | E12: grau/rot | F12: AC | H12: HLB, Diesel
A13: Piko | B13: 59126 | C13: GTW 2/6 | D13: ATR 115 | E13: weiss/grün/blau | F13: DC | H13: Diesel Ferrovia Nord Milano
A14: Piko | B14: 59127 | C14: GTW 2/6 | E14: weiss/grün | F14: DC | H14: StB VI
A15: Piko | B15: 59128 | C15: GTW 2/6 | E15: weiss/grün | F15: DC | H15: StB VI
A16: Piko | B16: 59129 | C16: GTW 2/6 | E16: weiss/grün | F16: AC | H16: StB VI
A17: Piko | B17: 59135 | C17: GTW 2/8 | E17: grau/rot | F17: DC | H17: R-Net QBuzz
A18: Piko | B18: 59136 | C18: GTW 2/8 | E18: blau/weiss | F18: DC | H18: Arriva VI, Diesel
A19: Piko | B19: 59320 | C19: GTW 2/6 | E19: rot/weiss | F19: AC | H19: DB, Diesel
A20: Piko | B20: 59330 | C20: RABe 526 | E20: weiss/schwarz | F20: AC | H20: GTW 2/8
A21: Piko | B21: 59533 | C21: GTW 2/6 | E21: gelb/weiss | F21: DC | H21: ODG, Diesel
A22: Piko | B22: 59535 | C22: RABe 526 | D22: 526 744-8 | E22: weiss/schwarz | F22: DC | H22: GTW 2/6
A23: Piko | B23: 59536 | C23: GTW 2/8 | E23: weiss/rot | F23: DC | H23: Veolia, Diesel
A24: Piko | B24: 59537 | C24: GTW 2/8 | E24: rot/weiss | F24: DC | H24: Arriva, Diesel
A25: Piko | B25: 59539 | C25: RABe 526 | D25: 526 707-5 | E25: gelb/schwarz | F25: DC | H25: GTW 2/6 Tele Top
A26: Piko | B26: 59540 | C26: RABe 526 | D26: 526 707-5 | E26: gelb/schwarz | F26: DCC | G26: Sound | H26: GTW 2/6 Tele Top
A27: Piko | B27: 59541 | C27: RABe 526 | D27: 526 707-5 | E27: gelb/schwarz | F27: AC | G27: Sound | H27: GTW 2/6 Tele Top
A28: Piko | B28: 96726 | C28: RABe 526 | E28: bunt | F28: DC | H28: St. Galler Festspiele, x/250
A29: Piko | B29: 96727 | C29: RABe 526 | E29: bunt | F29: DCC | G29: Sound | H29: St. Galler Festspiele, x/250
A30: Piko | B30: 96728 | C30: RABe 526 | E30: bunt | F30: AC | G30: Sound | H30: St. Galler Festspiele, x/250
A31: Piko | B31: 96822 | C31: RBe 4/4 | E31: grün/rot | F31: DC | H31: rote Front
A32: Piko | B32: 96823 | C32: RBe 4/4 | E32: grün/rot | F32: DCC | G32: Sound | H32: rote Front
A33: Piko | B33: 96824 | C33: RBe 4/4 | E33: grün/rot | F33: AC | G33: Sound | H33: rote Front
A34: Piko | B34: 96825 | C34: RBe 4/4 | D34: 1433 | E34: blau/weiss/rot | F34: DC | H34: NPZ-Versuchsanstrich
A35: Piko | B35: 96826 | C35: RBe 4/4 | D35: 1433 | E35: blau/weiss/rot | F35: DCC | G35: Sound | H35: NPZ-Versuchsanstrich
A36: Piko | B36: 96827 | C36: RBe 4/4 | D36: 1433 | E36: blau/weiss/rot | F36: AC | G36: Sound | H36: NPZ-Versuchsanstrich
A37: Piko | B37: 96831 | C37: RBe 4/4 | D37: 540 038-7 | E37: grün | F37: DC | H37: Seetaler mit Triebwagen
A38: Piko | B38: 96832 | C38: RBe 4/4 | E38: grün | F38: DCC | G38: Sound | H38: Seetaler mit Triebwagen
A39: Piko | B39: 96833 | C39: RBe 4/4 | E39: grün | F39: AC | G39: Sound | H39: Seetaler mit Triebwagen
A40: Piko | B40: 96836 | C40: RBe 4/4 | E40: grün | F40: DCC | G40: Sound | H40: Seetaler mit Triebwagen
A41: Piko | B41: 96837 | C41: RBe 4/4 | E41: grün | F41: AC | G41: Sound | H41: Seetaler mit Triebwagen
A42: Piko | B42: 96844 | C42: RBe 4/4 | E42: blau/weiss/rot | F42: AC | G42: Sound | H42: NPZ-Versuchsanstrich
A43: Piko | B43: 96851 | C43: RBe 4/4 | D43: 1447 | E43: grün/rot | F43: DC
A44: Piko | B44: 96852 | C44: RBe 4/4 | D44: 1447 | E44: grün/rot | F44: DCC | G44: Sound
A45: Piko | B45: 96853 | C45: RBe 4/4 | D45: 1447 | E45: grün/rot | F45: AC | G45: Sound
A46: Piko | B46: 96854 | C46: RBe 540 | E46: blau/weiss/rot | F46: DC | H46: NPZ-Versuchsanstrich
A47: Piko | B47: 96855 | C47: RBe 540 | E47: blau/weiss/rot | F47: DCC | G47: Sound | H47: NPZ-Versuchsanstrich
A48: Piko | B48: 96856 | C48: RBe 540 | E48: blau/weiss/rot | F48: AC | G48: Sound | H48: NPZ-Versuchsanstrich
A49: Piko | B49: 96857 | C49: RBe 4/4 | D49: 1405 | E49: grün | F49: DC | H49: DSF mit SBB-Logo
A50: Piko | B50: 96858 | C50: RBe 4/4 | D50: 1405 | E50: grün | F50: DCC | G50: Sound | H50: DSF mit SBB-Logo
A51: Piko | B51: 96859 | C51: RBe 4/4 | D51: 1405 | E51: grün | F51: AC | G51: Sound | H51: DSF mit SBB-Logo
A52: Piko/Arwico | B52: 97230 | C52: RABe 501 | D52: 501 008 | E52: bunt | F52: DCC | G52: Sound | H52: Giruno Ceneri, 11-teilig
A53: Piko/Arwico | B53: 97231 | C53: RABe 501 | D53: 501 008 | E53: bunt | F53: AC | G53: Sound | H53: Giruno Ceneri, 11-teilig
A54: Piko | B54: 97232 | C54: RABe 501 | D54: 501 008 | E54: bunt | F54: DC | H54: Giruno, Thurgau, 5-teilig
A55: Piko | B55: 97233 | C55: RABe 501 | D55: 501 008 | E55: bunt | F55: DCC | G55: Sound | H55: Giruno, Thurgau, 5-teilig
A56: Piko | B56: 97234 | C56: RABe 501 | D56: 501 008 | E56: bunt | F56: AC | G56: Sound | H56: Giruno, Thurgau, 5-teilig
A57: Piko | B57: 97706 | C57: RABe 526 | E57: rot/schwarz | F57: DC | H57: GTW 2/8, BLS
A58: Piko | B58: 97707 | C58: RABe 526 | E58: rot/schwarz | F58: DCC | G58: Sound | H58: GTW 2/8, BLS
A59: Piko | B59: 97708 | C59: RABe 526 | E59: rot/schwarz | F59: AC | G59: Sound | H59: GTW 2/8, BLS
A60: Piko | B60: 97250 | C60: RABDe 12/12 | D60: 1101 | E60: rot | F60: DC | H60: Mirage Epoche 3
A61: Piko | B61: 97251 | C61: RABDe 12/12 | D61: 1101 | E61: rot | F61: DC | H61: Mirage Epoche 3
A62: Piko | B62: 97252 | C62: RABDe 12/12 | D62: 1101 | E62: rot | F62: DCC | G62: Sound | H62: Mirage Epoche 3
A63: Piko | B63: 97253 | C63: RABDe 12/12 | D63: 1101 | E63: rot | F63: AC | G63: Sound | H63: Mirage Epoche 3
A64: Piko | B64: 97254 | C64: RABDe 510 | E64: blau/grau/rot | F64: DC | H64: Mirage Epoche V, 3-teiliger Triebzug
A65: Piko | B65: 97255 | C65: RABDe 510 | E65: blau/grau/rot | F65: DCC | G65: Sound | H65: Mirage Epoche V, 3-teiliger Triebzug
A66: Piko | B66: 97256 | C66: RABDe 510 | E66: blau/grau/rot | F66: AC | G66: Sound | H66: Mirage Epoche V, 3-teiliger Triebzug
A67: Piko | B67: 97257 | C67: RABDe 12/12 | D67: 1116 | E67: rot | F67: DC | H67: Mirage Epoche IV/V
A68: Piko | B68: 97258 | C68: RABDe 12/12 | D68: 1116 | E68: rot | F68: DCC | G68: Sound | H68: Mirage Epoche IV/V
A69: Piko | B69: 97259 | C69: RABDe 12/12 | D69: 1116 | E69: rot | F69: AC | G69: Sound | H69: Mirage Epoche IV/V
B71: TOTAL: | C71: =COUNTA(C4:C70) -> 65
B74: = verifiziert
A76: Auflistungen sind nach bestem Wissen und Gewissen erstellt. Falls Fehler gefunden werden, bitte melden: | H76: Mail an Roland Hausin
A78: © 2025 Roland Hausin

Sheet Rivarossi
A1: Rivarossi Triebwagen und -züge | G1: =TODAY() -> 46285
A3: Hersteller | B3: Art.Nr.1 | C3: Typ | D3: Betriebsnr. | E3: Farbe | F3: AC/DC | G3: Decoder | H3: Bemerkungen
A5: Rivarossi | B5: HR2839 | C5: RAe TEE II | E5: crème/rot | F5: AC
A6: Rivarossi | B6: HR2964 | C6: ETR 470 | E6: silber/blau | F6: DC | H6: SBB, 4-teilig
A7: Rivarossi | B7: HR2964S | C7: ETR 470 | E7: silber/blau | F7: DC | G7: Sound | H7: SBB, 4-teilig
B10: ANZAHL: | C10: =COUNTA(C4:C9) -> 3
A14: Auflistungen sind nach bestem Wissen und Gewissen erstellt. Falls Fehler gefunden werden, bitte melden: | H14: Mail an Roland Hausin
A16: © 2025 Roland Hausin

Sheet ROCO
A1: Roco Triebwagen und -züge | G1: =TODAY() -> 46285
A3: Hersteller | B3: Art.Nr.1 | C3: Typ | D3: Betriebsnr. | E3: Farbe | F3: AC/DC | G3: Decoder | H3: Bemerkungen
A5: Roco | B5: 41200 | C5: ICE 1 | E5: grau/rot | F5: DC | G5: digital | H5: Startpackung
A6: Roco | B6: 43024 | C6: De 4/4 | D6: 1679 | E6: grün | F6: DC | H6: Set | I6: mit 1678
A7: Roco | B7: 43024 | C7: De 4/4 | D7: 1680 | E7: grün | F7: DC | H7: Sulgener Pendel, Doppelpack mit Dummy
A8: Roco | B8: 43630 | C8: De 4/4 | D8: 1679 | E8: grün | F8: DC
A9: Roco | B9: 43631 | C9: Fe 4/4 | D9: 18518 | E9: blau/weiss | F9: DC | H9: Arbeiter Pullmann
A10: Roco | B10: 43950 | C10: De 4/4 | D10: 1679 | E10: grün | F10: AC
A11: Roco/Roundhouse | B11: 43950 | C11: De 4/4 | D11: 1663 | E11: braun | F11: DC | H11: Vallée de Joux
A12: Roco/Roundhouse | B12: 43951 | C12: De 4/4 | D12: 1667 | E12: braun | F12: DC | H12: Seetaler
A13: Roco | B13: 43951 | C13: Fe 4/4 | D13: 18518 | E13: blau/weiss | F13: DC | H13: Arbeiter Pullmann
A14: Roco | B14: 51162 | C14: ICE 2 | E14: grau/grün | F14: DC | H14: Startset
A15: Roco | B15: 51319 | C15: ICE 2 | E15: grau/rot | F15: DC | H15: Startset
A16: Roco | B16: 51338 | C16: De 4/4 | D16: 1668 | E16: rot | F16: DCC | G16: Sound | H16: neue Form, Gelbe Warnbemalung, Seetaler-Set
A17: Roco | B17: 51339 | C17: De 4/4 | D17: 1668 | E17: rot | F17: AC | G17: Sound | H17: neue Form, Gelbe Warnbemalung, Seetaler-Set
A18: Roco | B18: 63030 | C18: ICE-TD | E18: grau/rot | F18: DCC | G18: sound
A19: Roco | B19: 63071 | C19: ICE 2 | E19: grau/rot | F19: DC
A20: Roco | B20: 63120 | C20: RAm | D20: 501 | E20: crème/rot | F20: DC | G20: sound | H20: TEE
A21: Roco | B21: 63126 | C21: RAm | D21: 501 | E21: crème/rot | F21: DC | G21: sound | H21: TEE Arbaléte
A22: Roco | B22: 63150 | C22: RABDe 500 | D22: 500 | E22: weiss/schwarz | F22: DC | H22: ICN Graf Zeppelin
A23: Roco | B23: 63153 | C23: RABDe 500 | D23: 500 | E23: weiss/schwarz | F23: DC | H23: ICN Albert Einstein
A24: Roco | B24: 63154 | C24: RABDe 500 | D24: 500 | E24: weiss/schwarz | F24: DCC | G24: sound | H24: ICN Albert Einstein
A25: Roco | B25: 63537 | C25: De 4/4 | D25: 1669 | E25: blau/weiss | F25: DC | H25: Arbeiter Pullmann
A26: Roco | B26: 63537 | C26: De 4/4 | D26: 1649 | E26: grün | F26: DC
A27: Roco | B27: 63538 | C27: De 4/4 | D27: 1667 | E27: rot | F27: DC | H27: Seetaler
A28: Roco | B28: 63879 | C28: De 4/4 | D28: 1661 | E28: rot | F28: DC | H28: Seetaler
A29: Roco | B29: 63898 | C29: De 4/4 | D29: 1675 | E29: grün | F29: DC
A30: Roco | B30: 63899 | C30: Fe 4/4 | D30: 18518 | E30: blau/weiss | F30: DC | H30: Arbeiter Pullmann
A31: Roco | B31: 63930 | C31: ICE-TD | E31: grau/rot | F31: AC | G31: sound
A32: Roco | B32: 69031 | C32: ICE-TD | E32: grau/rot | F32: AC | G32: sound
A33: Roco | B33: 69151 | C33: RABDe 500 | D33: 500 | E33: weiss/schwarz | F33: AC | G33: Sound | H33: ICN Graf Zeppelin
A34: Roco | B34: 69153 | C34: RABDe 500 | D34: 500 | E34: weiss/schwarz | F34: AC | H34: ICN Albert Einstein
A35: Roco | B35: 69154 | C35: RABDe 500 | D35: 500 | E35: weiss/schwarz | F35: AC | G35: sound | H35: ICN Albert Einstein
A36: Roco | B36: 69534 | C36: De 4/4 | D36: 1665 | E36: rot | F36: AC
A37: Roco | B37: 69898 | C37: De 4/4 | D37: 1675 | E37: grün | F37: AC
A38: Roco | B38: 69899 | C38: De 4/4 | D38: 18518 | E38: blau/weiss | F38: AC | H38: Arbeiter Pullmann
A39: Roco | B39: 70401 | C39: ICE 1 | E39: grau/rot | F39: DC
A40: Roco | B40: 70402 | C40: ICE 1 | E40: grau/rot | F40: DCC | G40: sound
A41: Roco | B41: 72656 | C41: De 4/4 | D41: 1663 | E41: rot | F41: DC | H41: neue Form
A42: Roco | B42: 78656 | C42: De 4/4 | D42: 1663 | E42: rot | F42: AC | H42: neue Form
A43: Roco | C43: ICE 2 | E43: grau/grün | F43: AC | G43: sound
A44: Roco | C44: RABe 535 | E44: silber/hellgrün | F44: DC | H44: Lötschberger,
A45: Roco | B45: 7700007 | C45: RABDe 502 | D45: 502 | E45: weiss/schwarz/rot | F45: DC
A46: Roco | B46: 7700014 | C46: De 4/4 | D46: 1669 | E46: grün | F46: DC | H46: neue Form
A47: Roco | B47: 7710007 | C47: RABDe 502 | D47: 502 | E47: weiss/schwarz/rot | F47: DC | G47: sound
A48: Roco | B48: 7710014 | C48: De 4/4 | D48: 1669 | E48: grün | F48: DCC | G48: sound | H48: neue Form
A49: Roco | B49: 7720007 | C49: RABDe 502 | D49: 502 | E49: weiss/schwarz/rot | F49: AC | G49: sound
A50: Roco | B50: 7720014 | C50: De 4/4 | D50: 1669 | E50: grün | F50: AC | G50: sound | H50: neue Form
A52: Custom Painted
A54: Roco/SOBA | C54: De 4/4 | E54: rot | F54: DC | G54: AC | H54: EBT SMB VHB BLS,
A55: Roco/SOBA | C55: De 4/4 | E55: rot | F55: DC | G55: AC | H55: EBT SMB VHB BLS,
B57: ANZAHL: | C57: =COUNTA(C4:C56) -> 48
B61: = verifiziert
A63: * = Betriebsnummern sind relativ, es wurden meistens mehrere Original-Loks umgemalt
A66: Auflistungen sind nach bestem Wissen und Gewissen erstellt. Falls Fehler gefunden werden, bitte melden: | H66: Mail an Roland Hausin
A68: © 2025 Roland Hausin

Sheet Trix
A1: Trix Triebwagen und -züge | H1: =TODAY() -> 46285
A3: Hersteller | B3: Art.Nr.1 | C3: Typ | D3: Betriebsnr. | E3: Farbe | F3: AC/DC | G3: Decoder | H3: Bemerkungen | I3: Bemerkungen 2
A5: Trix | B5: 22131 | C5: RAm Set | E5: rot/crème | F5: DC | G5: mfx+ | H5: TEE-Zug
A6: Trix | B6: 22135 | C6: RAe Set | E6: rot/crème | F6: DC | G6: mfx+ | H6: TEE-Zug Gottardo
A7: Trix | B7: 25260 | C7: RAe 4/8 | E7: rot | F7: DC | G7: mfx+ | H7: Churchill-Pfeil
A8: Trix | B8: 25810 | C8: RABe 501 | D8: 501 | E8: weiss/rot/schwarz | F8: DC | G8: mfx+ | H8: Giruno Gotthard
A9: Trix | B9: 23284 | C9: RABe 501 | E9: weiss/rot/schwarz | F9: DC | G9: mfx+ | H9: Giruno, 7-teilig
B12: TOTAL: | C12: =COUNTA(C4:C11) -> 5
B15: = verifiziert
A17: Auflistungen sind nach bestem Wissen und Gewissen erstellt. Falls Fehler gefunden werden, bitte melden: | H17: Mail an Roland Hausin
A19: © 2025 Roland Hausin

Sheet Andere
A1: Triebwagen und -züge andere Hersteller | G1: =TODAY() -> 46285
A3: Hersteller | B3: Art.Nr.1 | C3: Typ | D3: Betriebsnr. | E3: Farbe | F3: AC/DC | G3: Decoder | H3: Bemerkungen
A5: Buco | B5: 51 81 | C5: RBe 4/8 | D5: 661 | E5: hellrot | F5: DC | H5: siehe https://www.blechundguss.ch/spur-ho/buco/lokomotiven/rbe-4/8-sbb/version-4-ws-wolf
A6: Buco | B6: 51 81 | C6: RBe 4/8 | D6: 661 | E6: hellrot | F6: AC
A10: Hui | C10: RABDe 12/12 | E10: purpurrot | F10: DC | H10: Mirage, Goldküstenexpress, Faulhaber-Motor, x/120
A11: Hui | C11: RABDe 500 | D11: 500 000 | F11: DC | G11: digital | H11: ICN, Le Corbusier, x/6
A12: Hui | C12: RABDe 500 | D12: 500 001 | F12: DC | G12: digital | H12: ICN, Jean Piaget, x/4
A13: Hui | C13: RABDe 500 | D13: 500 003 | F13: DC | G13: digital | H13: ICN, Germaine de Stael, x/4
A14: Hui | C14: RABDe 500 | D14: 500 004 | F14: DC | G14: digital | H14: ICN, Mani Matter, x/4
A15: Hui | C15: RABDe 500 | D15: 500 007 | F15: DC | G15: digital | H15: ICN, Albert Einstein, x/15
A16: Hui | C16: RABDe 500 | D16: 500 011 | F16: DC | G16: digital | H16: ICN, Blaise Cendrars, x/4
A17: Hui | C17: RABDe 500 | D17: 500 015 | F17: DC | G17: digital | H17: ICN, Jean-Jaques Rousseau, x/7
A18: Hui | C18: RABDe 500 | D18: 500 017 | F18: DC | G18: digital | H18: ICN, Willy Ritschard, x/9
A19: Hui | C19: RABDe 500 | D19: 500 020 | F19: DC | G19: digital | H19: ICN, Jeanne Hersch, x/5
A21: Intermodell | C21: CFe 2/6 | D21: 784 | E21: grün | F21: AC | H21: BLS
A22: Intermodell | C22: De 4/4 | D22: 1684 | E22: grün | F22: DC
A24: Kleinbahn | C24: RBe 2/4 | D24: 605 | E24: rot | F24: DC
A25: Kleinbahn | C25: ABFe 4/8 | D25: 741 | E25: blau/crème | F25: DC | H25: BLS
A26: Kleinbahn | C26: ABFe 4/8 | D26: 741 | E26: grün | F26: DC | H26: SEZ
A27: Kleinbahn | C27: ABFe 4/8 | D27: 741 | E27: rot | F27: DC | H27: SBB
A28: Kleinbahn | C28: ABFe 4/8 | E28: grün/crème | F28: DC | H28: GBS
A30: Sigg | C30: BDe 4/4 | E30: rot | F30: DC | H30: SZU, 3-teilger Pendel
A31: Sigg | C31: BDe 4/4 I | D31: 245 | E31: crème/hellgrün | F31: DC | H31: VHB
A33: SMF | B33: A312C/1 | C33: Fe 4/4 | D33: 152 | E33: grün | F33: DC
A34: SMF | B34: A312C/2 | C34: Fe 4/4 | D34: 18702 | E34: grün | F34: DC
A35: SMF | B35: A313C/1 | C35: BCe 4/4 | D35: 52 | E35: grün | F35: DC | H35: STB
A36: SMF | B36: A306A | C36: RBe 2/4 | E36: rot | F36: DC | H36: Roter Pfeil
A38: Swimo | C38: ABFe 4/8 | D38: 741 | E38: hellrot | F38: DC | H38: Churchill-Pfeil, Basis Kleinbahn, x/5
A39: Swimo | C39: ABFe 4/8 | D39: 741 | E39: blau/crème | F39: DC | H39: Churchill-Pfeil, Basis Kleinbahn, x/100
A41: Swisstoys | C41: BDe 4/4 | D41: 50 | E41: crème/grün | F41: DC | H41: BT, Basis HAG
A42: Swisstoys | C42: BDe 4/4 | D42: 50 | E42: crème/grün | F42: DC | H42: SOB, Basis HAG
A44: Custom Painted
A46: ?/SOBA | C46: De 4/4 | E46: rot | F46: AC | H46: EBT SMB VHB
A47: ?/SOBA | C47: RAe 4/8 | E47: silber/hellgrün/blau | F47: AC | H47: Nina-Bemalung
B50: ANZAHL: | C50: =COUNTA(C4:C49) -> 31
A54: Auflistungen sind nach bestem Wissen und Gewissen erstellt. Falls Fehler gefunden werden, bitte melden: | H54: Mail an Roland Hausin
A56: © 2025 Roland Hausin
